BEGIN:VCALENDAR
PRODID:-//nuDatenautomaten//framework iCal4j //DE
VERSION:2.0
CALSCALE:GREGORIAN
BEGIN:VTIMEZONE
TZID:Europe/Berlin
LAST-MODIFIED:20260306T231828Z
TZURL:https://www.tzurl.org/zoneinfo/Europe/Berlin
X-LIC-LOCATION:Europe/Berlin
X-PROLEPTIC-TZNAME:LMT
BEGIN:STANDARD
TZNAME:CET
TZOFFSETFROM:+005328
TZOFFSETTO:+0100
DTSTART:18930401T000000
END:STANDARD
BEGIN:DAYLIGHT
TZNAME:CEST
TZOFFSETFROM:+0100
TZOFFSETTO:+0200
DTSTART:19160430T230000
RDATE:19400401T020000
RDATE:19430329T020000
RDATE:19460414T020000
RDATE:19470406T030000
RDATE:19480418T020000
RDATE:19490410T020000
RDATE:19800406T020000
END:DAYLIGHT
BEGIN:STANDARD
TZNAME:CET
TZOFFSETFROM:+0200
TZOFFSETTO:+0100
DTSTART:19161001T010000
RDATE:19421102T030000
RDATE:19431004T030000
RDATE:19441002T030000
RDATE:19451118T030000
RDATE:19461007T030000
END:STANDARD
BEGIN:DAYLIGHT
TZNAME:CEST
TZOFFSETFROM:+0100
TZOFFSETTO:+0200
DTSTART:19170416T020000
RRULE:FREQ=YEARLY;UNTIL=19180415T010000Z;BYMONTH=4;BYDAY=3MO
END:DAYLIGHT
BEGIN:STANDARD
TZNAME:CET
TZOFFSETFROM:+0200
TZOFFSETTO:+0100
DTSTART:19170917T030000
RRULE:FREQ=YEARLY;UNTIL=19180916T010000Z;BYMONTH=9;BYDAY=3MO
END:STANDARD
BEGIN:DAYLIGHT
TZNAME:CEST
TZOFFSETFROM:+0100
TZOFFSETTO:+0200
DTSTART:19440403T020000
RRULE:FREQ=YEARLY;UNTIL=19450402T010000Z;BYMONTH=4;BYDAY=1MO
END:DAYLIGHT
BEGIN:DAYLIGHT
TZNAME:CEMT
TZOFFSETFROM:+0200
TZOFFSETTO:+0300
DTSTART:19450524T020000
RDATE:19470511T030000
END:DAYLIGHT
BEGIN:DAYLIGHT
TZNAME:CEST
TZOFFSETFROM:+0300
TZOFFSETTO:+0200
DTSTART:19450924T030000
RDATE:19470629T030000
END:DAYLIGHT
BEGIN:STANDARD
TZNAME:CET
TZOFFSETFROM:+0100
TZOFFSETTO:+0100
DTSTART:19460101T000000
RDATE:19800101T000000
END:STANDARD
BEGIN:STANDARD
TZNAME:CET
TZOFFSETFROM:+0200
TZOFFSETTO:+0100
DTSTART:19471005T030000
RRULE:FREQ=YEARLY;UNTIL=19491002T010000Z;BYMONTH=10;BYDAY=1SU
END:STANDARD
BEGIN:STANDARD
TZNAME:CET
TZOFFSETFROM:+0200
TZOFFSETTO:+0100
DTSTART:19800928T030000
RRULE:FREQ=YEARLY;UNTIL=19950924T010000Z;BYMONTH=9;BYDAY=-1SU
END:STANDARD
BEGIN:DAYLIGHT
TZNAME:CEST
TZOFFSETFROM:+0100
TZOFFSETTO:+0200
DTSTART:19810329T020000
RRULE:FREQ=YEARLY;BYMONTH=3;BYDAY=-1SU
END:DAYLIGHT
BEGIN:STANDARD
TZNAME:CET
TZOFFSETFROM:+0200
TZOFFSETTO:+0100
DTSTART:19961027T030000
RRULE:FREQ=YEARLY;BYMONTH=10;BYDAY=-1SU
END:STANDARD
END:VTIMEZONE
BEGIN:VEVENT
DTSTAMP:20260424T115002Z
DTSTART;TZID=Europe/Berlin:20250918T194500
DTEND;TZID=Europe/Berlin:20250918T224500
SUMMARY:Ligue 4 Gr.1 Ph.A Veyrier vs UGS-Chênois IX (5)
UID:9ff5c843-99b5-400b-88d6-8a546c883ae8
STATUS:CONFIRMED
LAST-MODIFIED:20250919T075116Z
DESCRIPTION:4ème ligue Hommes Gr.1 Phase A\nBegegnungs-Nr: 5\nHeim: Veyrier\nGast: UGS-Chênois IX\n\nAdresse: -\, 1255 Veyrier\n
LOCATION:-\, 1255 Veyrier
CATEGORIES:Saison 2025/26
END:VEVENT
BEGIN:VEVENT
DTSTAMP:20260424T115002Z
DTSTART;TZID=Europe/Berlin:20251030T194500
DTEND;TZID=Europe/Berlin:20251030T224500
SUMMARY:Ligue 4 Gr.1 Ph.A Veyrier vs Carouge VI (16)
UID:5c7694c9-61c5-4d91-909d-4ec208556754
STATUS:CONFIRMED
LAST-MODIFIED:20251031T075236Z
DESCRIPTION:4ème ligue Hommes Gr.1 Phase A\nBegegnungs-Nr: 16\nHeim: Veyrier\nGast: Carouge VI\n\nAdresse: -\, 1255 Veyrier\n
LOCATION:-\, 1255 Veyrier
CATEGORIES:Saison 2025/26
END:VEVENT
BEGIN:VEVENT
DTSTAMP:20260424T115002Z
DTSTART;TZID=Europe/Berlin:20251120T194500
DTEND;TZID=Europe/Berlin:20251120T224500
SUMMARY:Ligue 4 Gr.1 Ph.A Veyrier vs Bernex V (24)
UID:89bb6b03-954f-44ec-9906-80b490435d4d
STATUS:CONFIRMED
LAST-MODIFIED:20251121T102042Z
DESCRIPTION:4ème ligue Hommes Gr.1 Phase A\nBegegnungs-Nr: 24\nHeim: Veyrier\nGast: Bernex V\n\nAdresse: -\, 1255 Veyrier\n
LOCATION:-\, 1255 Veyrier
CATEGORIES:Saison 2025/26
END:VEVENT
BEGIN:VEVENT
DTSTAMP:20260424T115002Z
DTSTART;TZID=Europe/Berlin:20251127T194500
DTEND;TZID=Europe/Berlin:20251127T224500
SUMMARY:Ligue 4 Gr.1 Ph.A Veyrier vs Silver Star VI (26)
UID:e9a2f3c0-0fe6-4240-b1d5-20d314628c8a
STATUS:CONFIRMED
LAST-MODIFIED:20251128T082827Z
DESCRIPTION:4ème ligue Hommes Gr.1 Phase A\nBegegnungs-Nr: 26\nHeim: Veyrier\nGast: Silver Star VI\n\nAdresse: -\, 1255 Veyrier\n
LOCATION:-\, 1255 Veyrier
CATEGORIES:Saison 2025/26
END:VEVENT
BEGIN:VEVENT
DTSTAMP:20260424T115002Z
DTSTART;TZID=Europe/Berlin:20251204T194500
DTEND;TZID=Europe/Berlin:20251204T224500
SUMMARY:Ligue 4 Gr.1 Ph.A Veyrier vs Meyrin VI (29)
UID:2fe5e73b-e5ea-4be0-a4db-dd3dc595466a
STATUS:CONFIRMED
LAST-MODIFIED:20251205T082012Z
DESCRIPTION:4ème ligue Hommes Gr.1 Phase A\nBegegnungs-Nr: 29\nHeim: Veyrier\nGast: Meyrin VI\n\nAdresse: -\, 1255 Veyrier\n
LOCATION:-\, 1255 Veyrier
CATEGORIES:Saison 2025/26
END:VEVENT
BEGIN:VEVENT
DTSTAMP:20260424T115002Z
DTSTART;TZID=Europe/Berlin:20260128T194500
DTEND;TZID=Europe/Berlin:20260128T224500
SUMMARY:Ligue 3 Gr.3 Ph.B Veyrier vs Meyrin II (8)
UID:71c5b902-42ad-4bc3-84f7-ccf0c5d7e14a
STATUS:CONFIRMED
LAST-MODIFIED:20260129T095649Z
DESCRIPTION:3ème ligue Homme Gr.3 Phase B\nBegegnungs-Nr: 8\nHeim: Veyrier\nGast: Meyrin II\n\nAdresse: -\, 1255 Veyrier\n
LOCATION:-\, 1255 Veyrier
CATEGORIES:Saison 2025/26
END:VEVENT
BEGIN:VEVENT
DTSTAMP:20260424T115002Z
DTSTART;TZID=Europe/Berlin:20260429T194500
DTEND;TZID=Europe/Berlin:20260429T224500
SUMMARY:Ligue 3 Gr.3 Ph.B Veyrier vs Mandement IV (28)
UID:54cc89d5-ce2c-4584-851e-04bf411c2f88
STATUS:CONFIRMED
DESCRIPTION:3ème ligue Homme Gr.3 Phase B\nBegegnungs-Nr: 28\nHeim: Veyrier\nGast: Mandement IV\n\nAdresse: -\, 1255 Veyrier\n
LOCATION:-\, 1255 Veyrier
CATEGORIES:Saison 2025/26
END:VEVENT
BEGIN:VEVENT
DTSTAMP:20260424T115002Z
DTSTART;TZID=Europe/Berlin:20260318T194500
DTEND;TZID=Europe/Berlin:20260318T224500
SUMMARY:Ligue 3 Gr.3 Ph.B Veyrier vs Bernex IV (20)
UID:46d62a5f-6731-432d-bdc3-af640456d070
STATUS:CONFIRMED
LAST-MODIFIED:20260319T132735Z
DESCRIPTION:3ème ligue Homme Gr.3 Phase B\nBegegnungs-Nr: 20\nHeim: Veyrier\nGast: Bernex IV\n\nAdresse: -\, 1255 Veyrier\n
LOCATION:-\, 1255 Veyrier
CATEGORIES:Saison 2025/26
END:VEVENT
BEGIN:VEVENT
DTSTAMP:20260424T115002Z
DTSTART;TZID=Europe/Berlin:20260114T194500
DTEND;TZID=Europe/Berlin:20260114T224500
SUMMARY:Ligue 3 Gr.3 Ph.B Veyrier vs UGS-Chênois VIII (2)
UID:567bdad4-b42d-464a-a9e8-99f2dde283e9
STATUS:CONFIRMED
LAST-MODIFIED:20260115T135210Z
DESCRIPTION:3ème ligue Homme Gr.3 Phase B\nBegegnungs-Nr: 2\nHeim: Veyrier\nGast: UGS-Chênois VIII\n\nAdresse: -\, 1255 Veyrier\n
LOCATION:-\, 1255 Veyrier
CATEGORIES:Saison 2025/26
END:VEVENT
BEGIN:VEVENT
DTSTAMP:20260424T115002Z
DTSTART;TZID=Europe/Berlin:20260211T194500
DTEND;TZID=Europe/Berlin:20260211T224500
SUMMARY:Ligue 3 Gr.3 Ph.B Veyrier vs Vernier II (12)
UID:f90064c9-40e2-4a1a-96af-15e7f8eb1076
STATUS:CONFIRMED
LAST-MODIFIED:20260212T101114Z
DESCRIPTION:3ème ligue Homme Gr.3 Phase B\nBegegnungs-Nr: 12\nHeim: Veyrier\nGast: Vernier II\n\nAdresse: -\, 1255 Veyrier\n
LOCATION:-\, 1255 Veyrier
CATEGORIES:Saison 2025/26
END:VEVENT
BEGIN:VEVENT
DTSTAMP:20260424T115002Z
DTSTART;TZID=Europe/Berlin:20250925T194500
DTEND;TZID=Europe/Berlin:20250925T224500
SUMMARY:Ligue 4 Gr.1 Ph.A Bernex V vs Veyrier (9)
UID:1da433f0-800d-4a03-8307-5f478c2cb991
STATUS:CONFIRMED
LAST-MODIFIED:20250926T092421Z
DESCRIPTION:4ème ligue Hommes Gr.1 Phase A\nBegegnungs-Nr: 9\nHeim: Bernex V\nGast: Veyrier\n
LOCATION:
CATEGORIES:Saison 2025/26
END:VEVENT
BEGIN:VEVENT
DTSTAMP:20260424T115002Z
DTSTART;TZID=Europe/Berlin:20251009T194500
DTEND;TZID=Europe/Berlin:20251009T224500
SUMMARY:Ligue 4 Gr.1 Ph.A Silver Star VI vs Veyrier (11)
UID:c1c93225-2b12-41d2-b73e-be62ebfce3df
STATUS:CONFIRMED
LAST-MODIFIED:20251010T160637Z
DESCRIPTION:4ème ligue Hommes Gr.1 Phase A\nBegegnungs-Nr: 11\nHeim: Silver Star VI\nGast: Veyrier\n\nAdresse: Rue de Vermont 33\, 1202 Genève\n
LOCATION:Rue de Vermont 33\, 1202 Genève
CATEGORIES:Saison 2025/26
END:VEVENT
BEGIN:VEVENT
DTSTAMP:20260424T115002Z
DTSTART;TZID=Europe/Berlin:20251016T194500
DTEND;TZID=Europe/Berlin:20251016T224500
SUMMARY:Ligue 4 Gr.1 Ph.A Meyrin VI vs Veyrier (14)
UID:f5657353-c092-412e-8d01-f1bb1aed35f3
STATUS:CONFIRMED
LAST-MODIFIED:20251017T063820Z
DESCRIPTION:4ème ligue Hommes Gr.1 Phase A\nBegegnungs-Nr: 14\nHeim: Meyrin VI\nGast: Veyrier\n
LOCATION:
CATEGORIES:Saison 2025/26
END:VEVENT
BEGIN:VEVENT
DTSTAMP:20260424T115002Z
DTSTART;TZID=Europe/Berlin:20250904T194500
DTEND;TZID=Europe/Berlin:20250904T224500
SUMMARY:Ligue 4 Gr.1 Ph.A Carouge VI vs Veyrier (1)
UID:ed28b442-664e-4210-a83a-f812beb48fd0
STATUS:CONFIRMED
LAST-MODIFIED:20250905T172326Z
DESCRIPTION:4ème ligue Hommes Gr.1 Phase A\nBegegnungs-Nr: 1\nHeim: Carouge VI\nGast: Veyrier\n
LOCATION:
CATEGORIES:Saison 2025/26
END:VEVENT
BEGIN:VEVENT
DTSTAMP:20260424T115002Z
DTSTART;TZID=Europe/Berlin:20251112T194500
DTEND;TZID=Europe/Berlin:20251112T224500
SUMMARY:Ligue 4 Gr.1 Ph.A UGS-Chênois IX vs Veyrier (20)
UID:d21cd9f2-e3ee-4d3f-848b-ea91cda40cb3
STATUS:CONFIRMED
LAST-MODIFIED:20251113T133558Z
DESCRIPTION:4ème ligue Hommes Gr.1 Phase A\nBegegnungs-Nr: 20\nHeim: UGS-Chênois IX\nGast: Veyrier\n
LOCATION:
CATEGORIES:Saison 2025/26
END:VEVENT
BEGIN:VEVENT
DTSTAMP:20260424T115002Z
DTSTART;TZID=Europe/Berlin:20260121T194500
DTEND;TZID=Europe/Berlin:20260121T224500
SUMMARY:Ligue 3 Gr.3 Ph.B Bernex IV vs Veyrier (5)
UID:befb8952-bab9-4d50-9cb8-77b7c398846c
STATUS:CONFIRMED
LAST-MODIFIED:20260122T094426Z
DESCRIPTION:3ème ligue Homme Gr.3 Phase B\nBegegnungs-Nr: 5\nHeim: Bernex IV\nGast: Veyrier\n
LOCATION:
CATEGORIES:Saison 2025/26
END:VEVENT
BEGIN:VEVENT
DTSTAMP:20260424T115002Z
DTSTART;TZID=Europe/Berlin:20260401T194500
DTEND;TZID=Europe/Berlin:20260401T224500
SUMMARY:Ligue 3 Gr.3 Ph.B Vernier II vs Veyrier (27)
UID:b3d04296-9e92-4f52-9bda-e3e24ef333f8
STATUS:CONFIRMED
LAST-MODIFIED:20260402T064819Z
DESCRIPTION:3ème ligue Homme Gr.3 Phase B\nBegegnungs-Nr: 27\nHeim: Vernier II\nGast: Veyrier\n
LOCATION:
CATEGORIES:Saison 2025/26
END:VEVENT
BEGIN:VEVENT
DTSTAMP:20260424T115002Z
DTSTART;TZID=Europe/Berlin:20260325T194500
DTEND;TZID=Europe/Berlin:20260325T224500
SUMMARY:Ligue 3 Gr.3 Ph.B Meyrin II vs Veyrier (23)
UID:8c78035e-602f-406e-a4de-599e0a2d9ea5
STATUS:CONFIRMED
LAST-MODIFIED:20260326T141844Z
DESCRIPTION:3ème ligue Homme Gr.3 Phase B\nBegegnungs-Nr: 23\nHeim: Meyrin II\nGast: Veyrier\n
LOCATION:
CATEGORIES:Saison 2025/26
END:VEVENT
BEGIN:VEVENT
DTSTAMP:20260424T115002Z
DTSTART;TZID=Europe/Berlin:20260311T194500
DTEND;TZID=Europe/Berlin:20260311T224500
SUMMARY:Ligue 3 Gr.3 Ph.B UGS-Chênois VIII vs Veyrier (17)
UID:28705008-4185-47c1-b19c-e4585f737986
STATUS:CONFIRMED
LAST-MODIFIED:20260312T140458Z
DESCRIPTION:3ème ligue Homme Gr.3 Phase B\nBegegnungs-Nr: 17\nHeim: UGS-Chênois VIII\nGast: Veyrier\n
LOCATION:
CATEGORIES:Saison 2025/26
END:VEVENT
BEGIN:VEVENT
DTSTAMP:20260424T115002Z
DTSTART;TZID=Europe/Berlin:20260218T194500
DTEND;TZID=Europe/Berlin:20260218T224500
SUMMARY:Ligue 3 Gr.3 Ph.B Mandement IV vs Veyrier (13)
UID:19c973c2-b946-418a-ada5-25c80a812f51
STATUS:CONFIRMED
LAST-MODIFIED:20260219T120434Z
DESCRIPTION:3ème ligue Homme Gr.3 Phase B\nBegegnungs-Nr: 13\nHeim: Mandement IV\nGast: Veyrier\n
LOCATION:
CATEGORIES:Saison 2025/26
END:VEVENT
END:VCALENDAR
