BEGIN:VCALENDAR
PRODID:-//nuDatenautomaten//framework iCal4j //DE
VERSION:2.0
CALSCALE:GREGORIAN
BEGIN:VTIMEZONE
TZID:Europe/Berlin
LAST-MODIFIED:20260306T231828Z
TZURL:https://www.tzurl.org/zoneinfo/Europe/Berlin
X-LIC-LOCATION:Europe/Berlin
X-PROLEPTIC-TZNAME:LMT
BEGIN:STANDARD
TZNAME:CET
TZOFFSETFROM:+005328
TZOFFSETTO:+0100
DTSTART:18930401T000000
END:STANDARD
BEGIN:DAYLIGHT
TZNAME:CEST
TZOFFSETFROM:+0100
TZOFFSETTO:+0200
DTSTART:19160430T230000
RDATE:19400401T020000
RDATE:19430329T020000
RDATE:19460414T020000
RDATE:19470406T030000
RDATE:19480418T020000
RDATE:19490410T020000
RDATE:19800406T020000
END:DAYLIGHT
BEGIN:STANDARD
TZNAME:CET
TZOFFSETFROM:+0200
TZOFFSETTO:+0100
DTSTART:19161001T010000
RDATE:19421102T030000
RDATE:19431004T030000
RDATE:19441002T030000
RDATE:19451118T030000
RDATE:19461007T030000
END:STANDARD
BEGIN:DAYLIGHT
TZNAME:CEST
TZOFFSETFROM:+0100
TZOFFSETTO:+0200
DTSTART:19170416T020000
RRULE:FREQ=YEARLY;UNTIL=19180415T010000Z;BYMONTH=4;BYDAY=3MO
END:DAYLIGHT
BEGIN:STANDARD
TZNAME:CET
TZOFFSETFROM:+0200
TZOFFSETTO:+0100
DTSTART:19170917T030000
RRULE:FREQ=YEARLY;UNTIL=19180916T010000Z;BYMONTH=9;BYDAY=3MO
END:STANDARD
BEGIN:DAYLIGHT
TZNAME:CEST
TZOFFSETFROM:+0100
TZOFFSETTO:+0200
DTSTART:19440403T020000
RRULE:FREQ=YEARLY;UNTIL=19450402T010000Z;BYMONTH=4;BYDAY=1MO
END:DAYLIGHT
BEGIN:DAYLIGHT
TZNAME:CEMT
TZOFFSETFROM:+0200
TZOFFSETTO:+0300
DTSTART:19450524T020000
RDATE:19470511T030000
END:DAYLIGHT
BEGIN:DAYLIGHT
TZNAME:CEST
TZOFFSETFROM:+0300
TZOFFSETTO:+0200
DTSTART:19450924T030000
RDATE:19470629T030000
END:DAYLIGHT
BEGIN:STANDARD
TZNAME:CET
TZOFFSETFROM:+0100
TZOFFSETTO:+0100
DTSTART:19460101T000000
RDATE:19800101T000000
END:STANDARD
BEGIN:STANDARD
TZNAME:CET
TZOFFSETFROM:+0200
TZOFFSETTO:+0100
DTSTART:19471005T030000
RRULE:FREQ=YEARLY;UNTIL=19491002T010000Z;BYMONTH=10;BYDAY=1SU
END:STANDARD
BEGIN:STANDARD
TZNAME:CET
TZOFFSETFROM:+0200
TZOFFSETTO:+0100
DTSTART:19800928T030000
RRULE:FREQ=YEARLY;UNTIL=19950924T010000Z;BYMONTH=9;BYDAY=-1SU
END:STANDARD
BEGIN:DAYLIGHT
TZNAME:CEST
TZOFFSETFROM:+0100
TZOFFSETTO:+0200
DTSTART:19810329T020000
RRULE:FREQ=YEARLY;BYMONTH=3;BYDAY=-1SU
END:DAYLIGHT
BEGIN:STANDARD
TZNAME:CET
TZOFFSETFROM:+0200
TZOFFSETTO:+0100
DTSTART:19961027T030000
RRULE:FREQ=YEARLY;BYMONTH=10;BYDAY=-1SU
END:STANDARD
END:VTIMEZONE
BEGIN:VEVENT
DTSTAMP:20260424T025617Z
DTSTART;TZID=Europe/Berlin:20260119T194500
DTEND;TZID=Europe/Berlin:20260119T224500
SUMMARY:HE 6. Liga Gr. 5 Wetzikon IX vs Young Stars ZH VIII (0)
UID:83afd32e-36ba-4096-8bb9-df8ea83c572b
STATUS:CONFIRMED
LAST-MODIFIED:20260120T154030Z
DESCRIPTION:6. Liga Herren Gruppe 5\nBegegnungs-Nr: 0\nHeim: Wetzikon IX\nGast: Young Stars ZH VIII\n\nAdresse: Usterstrasse 37\, 8620 Wetzikon\n
LOCATION:Usterstrasse 37\, 8620 Wetzikon
CATEGORIES:Saison 2025/26
END:VEVENT
BEGIN:VEVENT
DTSTAMP:20260424T025617Z
DTSTART;TZID=Europe/Berlin:20260302T194500
DTEND;TZID=Europe/Berlin:20260302T224500
SUMMARY:HE 6. Liga Gr. 5 Wetzikon IX vs Uster V (0)
UID:588d2dd2-c3bc-4912-b500-4ab176a5e7c9
STATUS:CONFIRMED
LAST-MODIFIED:20260303T132805Z
DESCRIPTION:6. Liga Herren Gruppe 5\nBegegnungs-Nr: 0\nHeim: Wetzikon IX\nGast: Uster V\n\nAdresse: Usterstrasse 37\, 8620 Wetzikon\n
LOCATION:Usterstrasse 37\, 8620 Wetzikon
CATEGORIES:Saison 2025/26
END:VEVENT
BEGIN:VEVENT
DTSTAMP:20260424T025617Z
DTSTART;TZID=Europe/Berlin:20260323T194500
DTEND;TZID=Europe/Berlin:20260323T224500
SUMMARY:HE 6. Liga Gr. 5 Wetzikon IX vs Greifensee II (0)
UID:763f90f8-41d9-4fd1-95fc-ea7bed259778
STATUS:CONFIRMED
LAST-MODIFIED:20260326T154701Z
DESCRIPTION:6. Liga Herren Gruppe 5\nBegegnungs-Nr: 0\nHeim: Wetzikon IX\nGast: Greifensee II\n\nAdresse: Usterstrasse 37\, 8620 Wetzikon\n
LOCATION:Usterstrasse 37\, 8620 Wetzikon
CATEGORIES:Saison 2025/26
END:VEVENT
BEGIN:VEVENT
DTSTAMP:20260424T025617Z
DTSTART;TZID=Europe/Berlin:20260413T194500
DTEND;TZID=Europe/Berlin:20260413T224500
SUMMARY:HE 6. Liga Gr. 5 Wetzikon IX vs Dübendorf-Volketswil V (0)
UID:c79a2b5b-2afe-4391-8d60-7d1e540057c0
STATUS:CONFIRMED
LAST-MODIFIED:20260420T123732Z
DESCRIPTION:6. Liga Herren Gruppe 5\nBegegnungs-Nr: 0\nHeim: Wetzikon IX\nGast: Dübendorf-Volketswil V\n\nAdresse: Usterstrasse 37\, 8620 Wetzikon\n
LOCATION:Usterstrasse 37\, 8620 Wetzikon
CATEGORIES:Saison 2025/26
END:VEVENT
BEGIN:VEVENT
DTSTAMP:20260424T025617Z
DTSTART;TZID=Europe/Berlin:20251027T194500
DTEND;TZID=Europe/Berlin:20251027T224500
SUMMARY:HE 6. Liga Gr. 5 Wetzikon IX vs Wolfhausen III (0)
UID:8917e894-5def-4380-a950-5eb780faf073
STATUS:CONFIRMED
LAST-MODIFIED:20251031T144456Z
DESCRIPTION:6. Liga Herren Gruppe 5\nBegegnungs-Nr: 0\nHeim: Wetzikon IX\nGast: Wolfhausen III\n\nAdresse: Usterstrasse 37\, 8620 Wetzikon\n
LOCATION:Usterstrasse 37\, 8620 Wetzikon
CATEGORIES:Saison 2025/26
END:VEVENT
BEGIN:VEVENT
DTSTAMP:20260424T025617Z
DTSTART;TZID=Europe/Berlin:20250825T194500
DTEND;TZID=Europe/Berlin:20250825T224500
SUMMARY:HE 6. Liga Gr. 5 Wetzikon IX vs Kloten V (0)
UID:35377422-3c9b-47da-8785-a40b157301e8
STATUS:CONFIRMED
LAST-MODIFIED:20250826T114035Z
DESCRIPTION:6. Liga Herren Gruppe 5\nBegegnungs-Nr: 0\nHeim: Wetzikon IX\nGast: Kloten V\n\nAdresse: Usterstrasse 37\, 8620 Wetzikon\n
LOCATION:Usterstrasse 37\, 8620 Wetzikon
CATEGORIES:Saison 2025/26
END:VEVENT
BEGIN:VEVENT
DTSTAMP:20260424T025617Z
DTSTART;TZID=Europe/Berlin:20250915T194500
DTEND;TZID=Europe/Berlin:20250915T224500
SUMMARY:HE 6. Liga Gr. 5 Wetzikon IX vs Gossau Zuerich II (0)
UID:9b1b9a29-d670-4dd5-9331-1b63e61c5f6f
STATUS:CONFIRMED
LAST-MODIFIED:20250916T092650Z
DESCRIPTION:6. Liga Herren Gruppe 5\nBegegnungs-Nr: 0\nHeim: Wetzikon IX\nGast: Gossau Zuerich II\n\nAdresse: Usterstrasse 37\, 8620 Wetzikon\n
LOCATION:Usterstrasse 37\, 8620 Wetzikon
CATEGORIES:Saison 2025/26
END:VEVENT
BEGIN:VEVENT
DTSTAMP:20260424T025617Z
DTSTART;TZID=Europe/Berlin:20260205T194500
DTEND;TZID=Europe/Berlin:20260205T224500
SUMMARY:HE 6. Liga Gr. 5 Kloten V vs Wetzikon IX (0)
UID:3d1e5125-e705-443a-ab71-d5f19b09ec06
STATUS:CONFIRMED
LAST-MODIFIED:20260206T142052Z
DESCRIPTION:6. Liga Herren Gruppe 5\nBegegnungs-Nr: 0\nHeim: Kloten V\nGast: Wetzikon IX\n\nAdresse: Schluefweg 10\, 8302 Kloten\n
LOCATION:Schluefweg 10\, 8302 Kloten
CATEGORIES:Saison 2025/26
END:VEVENT
BEGIN:VEVENT
DTSTAMP:20260424T025617Z
DTSTART;TZID=Europe/Berlin:20260126T201500
DTEND;TZID=Europe/Berlin:20260126T231500
SUMMARY:HE 6. Liga Gr. 5 Gossau Zuerich II vs Wetzikon IX (0)
UID:6bb3419c-b29a-462c-9139-b60f2f1d8b48
STATUS:CONFIRMED
LAST-MODIFIED:20260130T124542Z
DESCRIPTION:6. Liga Herren Gruppe 5\nBegegnungs-Nr: 0\nHeim: Gossau Zuerich II\nGast: Wetzikon IX\n\nAdresse: Schulstrasse\, 8624 Grüt-Gossau\n
LOCATION:Schulstrasse\, 8624 Grüt-Gossau
CATEGORIES:Saison 2025/26
END:VEVENT
BEGIN:VEVENT
DTSTAMP:20260424T025617Z
DTSTART;TZID=Europe/Berlin:20260313T200000
DTEND;TZID=Europe/Berlin:20260313T230000
SUMMARY:HE 6. Liga Gr. 5 Wolfhausen III vs Wetzikon IX (0)
UID:4b4aa164-d469-475c-af3d-7ec8d15eb26a
STATUS:CONFIRMED
LAST-MODIFIED:20260317T145252Z
DESCRIPTION:6. Liga Herren Gruppe 5\nBegegnungs-Nr: 0\nHeim: Wolfhausen III\nGast: Wetzikon IX\n\nAdresse: Schulstrasse 9\, 8633 Wolfhausen\n
LOCATION:Schulstrasse 9\, 8633 Wolfhausen
CATEGORIES:Saison 2025/26
END:VEVENT
BEGIN:VEVENT
DTSTAMP:20260424T025617Z
DTSTART;TZID=Europe/Berlin:20250923T201500
DTEND;TZID=Europe/Berlin:20250923T231500
SUMMARY:HE 6. Liga Gr. 5 Uster V vs Wetzikon IX (0)
UID:f8d26054-2e30-4215-9c44-372218dd6d9b
STATUS:CONFIRMED
LAST-MODIFIED:20250926T133929Z
DESCRIPTION:6. Liga Herren Gruppe 5\nBegegnungs-Nr: 0\nHeim: Uster V\nGast: Wetzikon IX\n\nAdresse: Wilstrasse 30 / Zürcherstrasse\, 8610 Uster\n
LOCATION:Wilstrasse 30 / Zürcherstrasse\, 8610 Uster
CATEGORIES:Saison 2025/26
END:VEVENT
BEGIN:VEVENT
DTSTAMP:20260424T025617Z
DTSTART;TZID=Europe/Berlin:20251104T200000
DTEND;TZID=Europe/Berlin:20251104T230000
SUMMARY:HE 6. Liga Gr. 5 Greifensee II vs Wetzikon IX (0)
UID:1d2d7f70-16a6-446d-961f-11042814d87a
STATUS:CONFIRMED
LAST-MODIFIED:20251107T145441Z
DESCRIPTION:6. Liga Herren Gruppe 5\nBegegnungs-Nr: 0\nHeim: Greifensee II\nGast: Wetzikon IX\n\nAdresse: Stationsstrasse\, 8606 Nänikon\n
LOCATION:Stationsstrasse\, 8606 Nänikon
CATEGORIES:Saison 2025/26
END:VEVENT
BEGIN:VEVENT
DTSTAMP:20260424T025617Z
DTSTART;TZID=Europe/Berlin:20251201T200000
DTEND;TZID=Europe/Berlin:20251201T230000
SUMMARY:HE 6. Liga Gr. 5 Dübendorf-Volketswil V vs Wetzikon IX (0)
UID:36c0ada9-81cc-4cb9-903c-069d84a0e539
STATUS:CONFIRMED
LAST-MODIFIED:20251205T131134Z
DESCRIPTION:6. Liga Herren Gruppe 5\nBegegnungs-Nr: 0\nHeim: Dübendorf-Volketswil V\nGast: Wetzikon IX\n\nAdresse: Usterstrasse 35\, 8604 Volketswil\n
LOCATION:Usterstrasse 35\, 8604 Volketswil
CATEGORIES:Saison 2025/26
END:VEVENT
BEGIN:VEVENT
DTSTAMP:20260424T025617Z
DTSTART;TZID=Europe/Berlin:20250905T200000
DTEND;TZID=Europe/Berlin:20250905T230000
SUMMARY:HE 6. Liga Gr. 5 Young Stars ZH VIII vs Wetzikon IX (0)
UID:70574bf5-277e-47f9-9f12-cab38c3eb28e
STATUS:CONFIRMED
LAST-MODIFIED:20250908T141223Z
DESCRIPTION:6. Liga Herren Gruppe 5\nBegegnungs-Nr: 0\nHeim: Young Stars ZH VIII\nGast: Wetzikon IX\n\nAdresse: Balgriststrasse 55\, 8008 Zürich\n
LOCATION:Balgriststrasse 55\, 8008 Zürich
CATEGORIES:Saison 2025/26
END:VEVENT
END:VCALENDAR
