BEGIN:VCALENDAR
PRODID:-//nuDatenautomaten//framework iCal4j //DE
VERSION:2.0
CALSCALE:GREGORIAN
BEGIN:VTIMEZONE
TZID:Europe/Berlin
LAST-MODIFIED:20260306T231828Z
TZURL:https://www.tzurl.org/zoneinfo/Europe/Berlin
X-LIC-LOCATION:Europe/Berlin
X-PROLEPTIC-TZNAME:LMT
BEGIN:STANDARD
TZNAME:CET
TZOFFSETFROM:+005328
TZOFFSETTO:+0100
DTSTART:18930401T000000
END:STANDARD
BEGIN:DAYLIGHT
TZNAME:CEST
TZOFFSETFROM:+0100
TZOFFSETTO:+0200
DTSTART:19160430T230000
RDATE:19400401T020000
RDATE:19430329T020000
RDATE:19460414T020000
RDATE:19470406T030000
RDATE:19480418T020000
RDATE:19490410T020000
RDATE:19800406T020000
END:DAYLIGHT
BEGIN:STANDARD
TZNAME:CET
TZOFFSETFROM:+0200
TZOFFSETTO:+0100
DTSTART:19161001T010000
RDATE:19421102T030000
RDATE:19431004T030000
RDATE:19441002T030000
RDATE:19451118T030000
RDATE:19461007T030000
END:STANDARD
BEGIN:DAYLIGHT
TZNAME:CEST
TZOFFSETFROM:+0100
TZOFFSETTO:+0200
DTSTART:19170416T020000
RRULE:FREQ=YEARLY;UNTIL=19180415T010000Z;BYMONTH=4;BYDAY=3MO
END:DAYLIGHT
BEGIN:STANDARD
TZNAME:CET
TZOFFSETFROM:+0200
TZOFFSETTO:+0100
DTSTART:19170917T030000
RRULE:FREQ=YEARLY;UNTIL=19180916T010000Z;BYMONTH=9;BYDAY=3MO
END:STANDARD
BEGIN:DAYLIGHT
TZNAME:CEST
TZOFFSETFROM:+0100
TZOFFSETTO:+0200
DTSTART:19440403T020000
RRULE:FREQ=YEARLY;UNTIL=19450402T010000Z;BYMONTH=4;BYDAY=1MO
END:DAYLIGHT
BEGIN:DAYLIGHT
TZNAME:CEMT
TZOFFSETFROM:+0200
TZOFFSETTO:+0300
DTSTART:19450524T020000
RDATE:19470511T030000
END:DAYLIGHT
BEGIN:DAYLIGHT
TZNAME:CEST
TZOFFSETFROM:+0300
TZOFFSETTO:+0200
DTSTART:19450924T030000
RDATE:19470629T030000
END:DAYLIGHT
BEGIN:STANDARD
TZNAME:CET
TZOFFSETFROM:+0100
TZOFFSETTO:+0100
DTSTART:19460101T000000
RDATE:19800101T000000
END:STANDARD
BEGIN:STANDARD
TZNAME:CET
TZOFFSETFROM:+0200
TZOFFSETTO:+0100
DTSTART:19471005T030000
RRULE:FREQ=YEARLY;UNTIL=19491002T010000Z;BYMONTH=10;BYDAY=1SU
END:STANDARD
BEGIN:STANDARD
TZNAME:CET
TZOFFSETFROM:+0200
TZOFFSETTO:+0100
DTSTART:19800928T030000
RRULE:FREQ=YEARLY;UNTIL=19950924T010000Z;BYMONTH=9;BYDAY=-1SU
END:STANDARD
BEGIN:DAYLIGHT
TZNAME:CEST
TZOFFSETFROM:+0100
TZOFFSETTO:+0200
DTSTART:19810329T020000
RRULE:FREQ=YEARLY;BYMONTH=3;BYDAY=-1SU
END:DAYLIGHT
BEGIN:STANDARD
TZNAME:CET
TZOFFSETFROM:+0200
TZOFFSETTO:+0100
DTSTART:19961027T030000
RRULE:FREQ=YEARLY;BYMONTH=10;BYDAY=-1SU
END:STANDARD
END:VTIMEZONE
BEGIN:VEVENT
DTSTAMP:20260424T103949Z
DTSTART;TZID=Europe/Berlin:20251111T194500
DTEND;TZID=Europe/Berlin:20251111T224500
SUMMARY:Ligue 5 Gr.4 Ph.A Puplinge III vs UGS-Chênois XI (13)
UID:bf866cbb-b36d-4ced-ac74-9a8c27a5378f
STATUS:CONFIRMED
LAST-MODIFIED:20251113T133834Z
DESCRIPTION:5ème ligue Hommes Gr.4 Phase A\nBegegnungs-Nr: 13\nHeim: Puplinge III\nGast: UGS-Chênois XI\n\nAdresse: Chemin de la Brenaz\,  15\, 1241 Puplinge\n
LOCATION:Chemin de la Brenaz\,  15\, 1241 Puplinge
CATEGORIES:Saison 2025/26
END:VEVENT
BEGIN:VEVENT
DTSTAMP:20260424T103949Z
DTSTART;TZID=Europe/Berlin:20250902T194500
DTEND;TZID=Europe/Berlin:20250902T224500
SUMMARY:Ligue 5 Gr.4 Ph.A Puplinge III vs Carouge VII (2)
UID:6f049807-2ff5-4313-868f-ce54cabe3f04
STATUS:CONFIRMED
LAST-MODIFIED:20250903T154246Z
DESCRIPTION:5ème ligue Hommes Gr.4 Phase A\nBegegnungs-Nr: 2\nHeim: Puplinge III\nGast: Carouge VII\n\nAdresse: Chemin de la Brenaz\,  15\, 1241 Puplinge\n
LOCATION:Chemin de la Brenaz\,  15\, 1241 Puplinge
CATEGORIES:Saison 2025/26
END:VEVENT
BEGIN:VEVENT
DTSTAMP:20260424T103949Z
DTSTART;TZID=Europe/Berlin:20251007T194500
DTEND;TZID=Europe/Berlin:20251007T224500
SUMMARY:Ligue 5 Gr.4 Ph.A Puplinge III vs Onex V (7)
UID:7868fd0f-d259-4a80-aed2-97aac576d4ba
STATUS:CONFIRMED
LAST-MODIFIED:20251008T162054Z
DESCRIPTION:5ème ligue Hommes Gr.4 Phase A\nBegegnungs-Nr: 7\nHeim: Puplinge III\nGast: Onex V\n\nAdresse: Chemin de la Brenaz\,  15\, 1241 Puplinge\n
LOCATION:Chemin de la Brenaz\,  15\, 1241 Puplinge
CATEGORIES:Saison 2025/26
END:VEVENT
BEGIN:VEVENT
DTSTAMP:20260424T103949Z
DTSTART;TZID=Europe/Berlin:20251014T194500
DTEND;TZID=Europe/Berlin:20251014T224500
SUMMARY:Ligue 5 Gr.4 Ph.A Puplinge III vs Onex IV (9)
UID:57e4ee07-2f8b-482d-8f6c-02e96b04f01a
STATUS:CONFIRMED
LAST-MODIFIED:20251016T092751Z
DESCRIPTION:5ème ligue Hommes Gr.4 Phase A\nBegegnungs-Nr: 9\nHeim: Puplinge III\nGast: Onex IV\n\nAdresse: Chemin de la Brenaz\,  15\, 1241 Puplinge\n
LOCATION:Chemin de la Brenaz\,  15\, 1241 Puplinge
CATEGORIES:Saison 2025/26
END:VEVENT
BEGIN:VEVENT
DTSTAMP:20260424T103949Z
DTSTART;TZID=Europe/Berlin:20260428T194500
DTEND;TZID=Europe/Berlin:20260428T224500
SUMMARY:Ligue 5 Gr.4 Ph.B Puplinge III vs Châtelaine VIII (29)
UID:12205ca0-0392-4850-962e-cbc3d75147ad
STATUS:CONFIRMED
LAST-MODIFIED:20260325T142103Z
DESCRIPTION:5ème ligue Hommes Gr.4 Phase B\nBegegnungs-Nr: 29\nHeim: Puplinge III\nGast: Châtelaine VIII\n\nAdresse: Chemin de la Brenaz\,  15\, 1241 Puplinge\n
LOCATION:Chemin de la Brenaz\,  15\, 1241 Puplinge
CATEGORIES:Saison 2025/26
END:VEVENT
BEGIN:VEVENT
DTSTAMP:20260424T103949Z
DTSTART;TZID=Europe/Berlin:20260310T194500
DTEND;TZID=Europe/Berlin:20260310T224500
SUMMARY:Ligue 5 Gr.4 Ph.B Puplinge III vs Bernex VI (16)
UID:697ecc25-a0a3-4154-89c5-03a6f636b295
STATUS:CONFIRMED
LAST-MODIFIED:20260311T190644Z
DESCRIPTION:5ème ligue Hommes Gr.4 Phase B\nBegegnungs-Nr: 16\nHeim: Puplinge III\nGast: Bernex VI\n\nAdresse: Chemin de la Brenaz\,  15\, 1241 Puplinge\n
LOCATION:Chemin de la Brenaz\,  15\, 1241 Puplinge
CATEGORIES:Saison 2025/26
END:VEVENT
BEGIN:VEVENT
DTSTAMP:20260424T103949Z
DTSTART;TZID=Europe/Berlin:20260210T194500
DTEND;TZID=Europe/Berlin:20260210T224500
SUMMARY:Ligue 5 Gr.4 Ph.B Puplinge III vs Versoix VII (11)
UID:e8c38179-6b6a-4fbe-9ab4-e11619be20a3
STATUS:CONFIRMED
LAST-MODIFIED:20260216T080045Z
DESCRIPTION:5ème ligue Hommes Gr.4 Phase B\nBegegnungs-Nr: 11\nHeim: Puplinge III\nGast: Versoix VII\n\nAdresse: Chemin de la Brenaz\,  15\, 1241 Puplinge\n
LOCATION:Chemin de la Brenaz\,  15\, 1241 Puplinge
CATEGORIES:Saison 2025/26
END:VEVENT
BEGIN:VEVENT
DTSTAMP:20260424T103949Z
DTSTART;TZID=Europe/Berlin:20260120T194500
DTEND;TZID=Europe/Berlin:20260120T224500
SUMMARY:Ligue 5 Gr.4 Ph.B Puplinge III vs Veyrier V (5)
UID:5ed0ee11-f6fd-40b1-86f8-8b167fe33aa1
STATUS:CONFIRMED
LAST-MODIFIED:20260123T082959Z
DESCRIPTION:5ème ligue Hommes Gr.4 Phase B\nBegegnungs-Nr: 5\nHeim: Puplinge III\nGast: Veyrier V\n\nAdresse: Chemin de la Brenaz\,  15\, 1241 Puplinge\n
LOCATION:Chemin de la Brenaz\,  15\, 1241 Puplinge
CATEGORIES:Saison 2025/26
END:VEVENT
BEGIN:VEVENT
DTSTAMP:20260424T103949Z
DTSTART;TZID=Europe/Berlin:20251128T194500
DTEND;TZID=Europe/Berlin:20251128T224500
SUMMARY:Ligue 5 Gr.4 Ph.A Onex V vs Puplinge III (17)
UID:ad18fca0-70cd-4083-a18b-95d4fea3630b
STATUS:CONFIRMED
LAST-MODIFIED:20251129T141205Z
DESCRIPTION:5ème ligue Hommes Gr.4 Phase A\nBegegnungs-Nr: 17\nHeim: Onex V\nGast: Puplinge III\n
LOCATION:
CATEGORIES:Saison 2025/26
END:VEVENT
BEGIN:VEVENT
DTSTAMP:20260424T103949Z
DTSTART;TZID=Europe/Berlin:20251204T194500
DTEND;TZID=Europe/Berlin:20251204T224500
SUMMARY:Ligue 5 Gr.4 Ph.A Onex IV vs Puplinge III (19)
UID:3ad4c985-3cba-41ca-9642-0f92fc521850
STATUS:CONFIRMED
LAST-MODIFIED:20251205T082831Z
DESCRIPTION:5ème ligue Hommes Gr.4 Phase A\nBegegnungs-Nr: 19\nHeim: Onex IV\nGast: Puplinge III\n
LOCATION:
CATEGORIES:Saison 2025/26
END:VEVENT
BEGIN:VEVENT
DTSTAMP:20260424T103949Z
DTSTART;TZID=Europe/Berlin:20250917T194500
DTEND;TZID=Europe/Berlin:20250917T224500
SUMMARY:Ligue 5 Gr.4 Ph.A UGS-Chênois XI vs Puplinge III (3)
UID:8769b628-6db1-47a0-b477-96e7b2388dc9
STATUS:CONFIRMED
LAST-MODIFIED:20250918T145407Z
DESCRIPTION:5ème ligue Hommes Gr.4 Phase A\nBegegnungs-Nr: 3\nHeim: UGS-Chênois XI\nGast: Puplinge III\n
LOCATION:
CATEGORIES:Saison 2025/26
END:VEVENT
BEGIN:VEVENT
DTSTAMP:20260424T103949Z
DTSTART;TZID=Europe/Berlin:20251029T200000
DTEND;TZID=Europe/Berlin:20251029T230000
SUMMARY:Ligue 5 Gr.4 Ph.A Carouge VII vs Puplinge III (12)
UID:ca8c6a62-3141-41fe-8346-7b1b931ddce7
STATUS:CONFIRMED
LAST-MODIFIED:20251031T074746Z
DESCRIPTION:5ème ligue Hommes Gr.4 Phase A\nBegegnungs-Nr: 12\nHeim: Carouge VII\nGast: Puplinge III\n
LOCATION:
CATEGORIES:Saison 2025/26
END:VEVENT
BEGIN:VEVENT
DTSTAMP:20260424T103949Z
DTSTART;TZID=Europe/Berlin:20260330T194500
DTEND;TZID=Europe/Berlin:20260330T224500
SUMMARY:Ligue 5 Gr.4 Ph.B Versoix VII vs Puplinge III (26)
UID:3293a0b1-6833-4507-aaf8-1c081654d383
STATUS:CONFIRMED
LAST-MODIFIED:20260331T164243Z
DESCRIPTION:5ème ligue Hommes Gr.4 Phase B\nBegegnungs-Nr: 26\nHeim: Versoix VII\nGast: Puplinge III\n
LOCATION:
CATEGORIES:Saison 2025/26
END:VEVENT
BEGIN:VEVENT
DTSTAMP:20260424T103949Z
DTSTART;TZID=Europe/Berlin:20260112T194500
DTEND;TZID=Europe/Berlin:20260112T224500
SUMMARY:Ligue 5 Gr.4 Ph.B Bernex VI vs Puplinge III (1)
UID:903e2e88-0697-4628-89eb-5da901aad1d5
STATUS:CONFIRMED
LAST-MODIFIED:20260114T134701Z
DESCRIPTION:5ème ligue Hommes Gr.4 Phase B\nBegegnungs-Nr: 1\nHeim: Bernex VI\nGast: Puplinge III\n
LOCATION:
CATEGORIES:Saison 2025/26
END:VEVENT
BEGIN:VEVENT
DTSTAMP:20260424T103949Z
DTSTART;TZID=Europe/Berlin:20260316T194500
DTEND;TZID=Europe/Berlin:20260316T224500
SUMMARY:Ligue 5 Gr.4 Ph.B Veyrier V vs Puplinge III (20)
UID:a17af5d0-1781-4f6b-a9f3-89007664693d
STATUS:CONFIRMED
LAST-MODIFIED:20260317T211344Z
DESCRIPTION:5ème ligue Hommes Gr.4 Phase B\nBegegnungs-Nr: 20\nHeim: Veyrier V\nGast: Puplinge III\n\nAdresse: -\, 1255 Veyrier\n
LOCATION:-\, 1255 Veyrier
CATEGORIES:Saison 2025/26
END:VEVENT
BEGIN:VEVENT
DTSTAMP:20260424T103949Z
DTSTART;TZID=Europe/Berlin:20260219T200000
DTEND;TZID=Europe/Berlin:20260219T230000
SUMMARY:Ligue 5 Gr.4 Ph.B Châtelaine VIII vs Puplinge III (14)
UID:7955a986-c053-47fe-a7e6-eb1faeec954b
STATUS:CONFIRMED
LAST-MODIFIED:20260220T081657Z
DESCRIPTION:5ème ligue Hommes Gr.4 Phase B\nBegegnungs-Nr: 14\nHeim: Châtelaine VIII\nGast: Puplinge III\n
LOCATION:
CATEGORIES:Saison 2025/26
END:VEVENT
END:VCALENDAR
