BEGIN:VCALENDAR
PRODID:-//nuDatenautomaten//framework iCal4j //DE
VERSION:2.0
CALSCALE:GREGORIAN
BEGIN:VTIMEZONE
TZID:Europe/Berlin
LAST-MODIFIED:20260306T231828Z
TZURL:https://www.tzurl.org/zoneinfo/Europe/Berlin
X-LIC-LOCATION:Europe/Berlin
X-PROLEPTIC-TZNAME:LMT
BEGIN:STANDARD
TZNAME:CET
TZOFFSETFROM:+005328
TZOFFSETTO:+0100
DTSTART:18930401T000000
END:STANDARD
BEGIN:DAYLIGHT
TZNAME:CEST
TZOFFSETFROM:+0100
TZOFFSETTO:+0200
DTSTART:19160430T230000
RDATE:19400401T020000
RDATE:19430329T020000
RDATE:19460414T020000
RDATE:19470406T030000
RDATE:19480418T020000
RDATE:19490410T020000
RDATE:19800406T020000
END:DAYLIGHT
BEGIN:STANDARD
TZNAME:CET
TZOFFSETFROM:+0200
TZOFFSETTO:+0100
DTSTART:19161001T010000
RDATE:19421102T030000
RDATE:19431004T030000
RDATE:19441002T030000
RDATE:19451118T030000
RDATE:19461007T030000
END:STANDARD
BEGIN:DAYLIGHT
TZNAME:CEST
TZOFFSETFROM:+0100
TZOFFSETTO:+0200
DTSTART:19170416T020000
RRULE:FREQ=YEARLY;UNTIL=19180415T010000Z;BYMONTH=4;BYDAY=3MO
END:DAYLIGHT
BEGIN:STANDARD
TZNAME:CET
TZOFFSETFROM:+0200
TZOFFSETTO:+0100
DTSTART:19170917T030000
RRULE:FREQ=YEARLY;UNTIL=19180916T010000Z;BYMONTH=9;BYDAY=3MO
END:STANDARD
BEGIN:DAYLIGHT
TZNAME:CEST
TZOFFSETFROM:+0100
TZOFFSETTO:+0200
DTSTART:19440403T020000
RRULE:FREQ=YEARLY;UNTIL=19450402T010000Z;BYMONTH=4;BYDAY=1MO
END:DAYLIGHT
BEGIN:DAYLIGHT
TZNAME:CEMT
TZOFFSETFROM:+0200
TZOFFSETTO:+0300
DTSTART:19450524T020000
RDATE:19470511T030000
END:DAYLIGHT
BEGIN:DAYLIGHT
TZNAME:CEST
TZOFFSETFROM:+0300
TZOFFSETTO:+0200
DTSTART:19450924T030000
RDATE:19470629T030000
END:DAYLIGHT
BEGIN:STANDARD
TZNAME:CET
TZOFFSETFROM:+0100
TZOFFSETTO:+0100
DTSTART:19460101T000000
RDATE:19800101T000000
END:STANDARD
BEGIN:STANDARD
TZNAME:CET
TZOFFSETFROM:+0200
TZOFFSETTO:+0100
DTSTART:19471005T030000
RRULE:FREQ=YEARLY;UNTIL=19491002T010000Z;BYMONTH=10;BYDAY=1SU
END:STANDARD
BEGIN:STANDARD
TZNAME:CET
TZOFFSETFROM:+0200
TZOFFSETTO:+0100
DTSTART:19800928T030000
RRULE:FREQ=YEARLY;UNTIL=19950924T010000Z;BYMONTH=9;BYDAY=-1SU
END:STANDARD
BEGIN:DAYLIGHT
TZNAME:CEST
TZOFFSETFROM:+0100
TZOFFSETTO:+0200
DTSTART:19810329T020000
RRULE:FREQ=YEARLY;BYMONTH=3;BYDAY=-1SU
END:DAYLIGHT
BEGIN:STANDARD
TZNAME:CET
TZOFFSETFROM:+0200
TZOFFSETTO:+0100
DTSTART:19961027T030000
RRULE:FREQ=YEARLY;BYMONTH=10;BYDAY=-1SU
END:STANDARD
END:VTIMEZONE
BEGIN:VEVENT
DTSTAMP:20260424T134030Z
DTSTART;TZID=Europe/Berlin:20251011T113000
DTEND;TZID=Europe/Berlin:20251011T143000
SUMMARY:Ligue 4 UGS-Chênois VI vs Versoix II (10)
UID:3fcaa3d7-60c2-46d4-8c6b-6d4c1d9c0a40
STATUS:CONFIRMED
LAST-MODIFIED:20251006T211748Z
DESCRIPTION:4ème ligue jeunesse - Groupe unique\nBegegnungs-Nr: 10\nHeim: UGS-Chênois VI\nGast: Versoix II\n
LOCATION:
CATEGORIES:Saison 2025/26
END:VEVENT
BEGIN:VEVENT
DTSTAMP:20260424T134030Z
DTSTART;TZID=Europe/Berlin:20260328T130000
DTEND;TZID=Europe/Berlin:20260328T160000
SUMMARY:Ligue 4 UGS-Chênois VI vs Carouge III (43)
UID:cd85d903-3043-40d0-8727-000b77d61e8e
STATUS:CONFIRMED
DESCRIPTION:4ème ligue jeunesse - Groupe unique\nBegegnungs-Nr: 43\nHeim: UGS-Chênois VI\nGast: Carouge III\n
LOCATION:
CATEGORIES:Saison 2025/26
END:VEVENT
BEGIN:VEVENT
DTSTAMP:20260424T134030Z
DTSTART;TZID=Europe/Berlin:20251213T113000
DTEND;TZID=Europe/Berlin:20251213T143000
SUMMARY:Ligue 4 UGS-Chênois VI vs Silver Star VI (23)
UID:d48548f2-213b-40a8-b475-1aa30825ea20
STATUS:CONFIRMED
LAST-MODIFIED:20251213T112019Z
DESCRIPTION:4ème ligue jeunesse - Groupe unique\nBegegnungs-Nr: 23\nHeim: UGS-Chênois VI\nGast: Silver Star VI\n
LOCATION:
CATEGORIES:Saison 2025/26
END:VEVENT
BEGIN:VEVENT
DTSTAMP:20260424T134030Z
DTSTART;TZID=Europe/Berlin:20251011T093000
DTEND;TZID=Europe/Berlin:20251011T123000
SUMMARY:Ligue 4 Châtelaine III vs UGS-Chênois VI (2)
UID:9a2b754a-f770-4ee2-b567-60290181f346
STATUS:CONFIRMED
LAST-MODIFIED:20251011T175046Z
DESCRIPTION:4ème ligue jeunesse - Groupe unique\nBegegnungs-Nr: 2\nHeim: Châtelaine III\nGast: UGS-Chênois VI\n
LOCATION:
CATEGORIES:Saison 2025/26
END:VEVENT
BEGIN:VEVENT
DTSTAMP:20260424T134030Z
DTSTART;TZID=Europe/Berlin:20260328T090000
DTEND;TZID=Europe/Berlin:20260328T120000
SUMMARY:Ligue 4 Versoix III vs UGS-Chênois VI (33)
UID:e4ccd0b1-56d8-44a0-91d7-9891dcef88f5
STATUS:CONFIRMED
DESCRIPTION:4ème ligue jeunesse - Groupe unique\nBegegnungs-Nr: 33\nHeim: Versoix III\nGast: UGS-Chênois VI\n
LOCATION:
CATEGORIES:Saison 2025/26
END:VEVENT
BEGIN:VEVENT
DTSTAMP:20260424T134030Z
DTSTART;TZID=Europe/Berlin:20251213T093000
DTEND;TZID=Europe/Berlin:20251213T123000
SUMMARY:Ligue 4 Silver Star IV vs UGS-Chênois VI (18)
UID:746e1535-6ff1-4b6b-9b0d-91b44d40f4ee
STATUS:CONFIRMED
LAST-MODIFIED:20251214T090455Z
DESCRIPTION:4ème ligue jeunesse - Groupe unique\nBegegnungs-Nr: 18\nHeim: Silver Star IV\nGast: UGS-Chênois VI\n
LOCATION:
CATEGORIES:Saison 2025/26
END:VEVENT
END:VCALENDAR
