BEGIN:VCALENDAR
PRODID:-//nuDatenautomaten//framework iCal4j //DE
VERSION:2.0
CALSCALE:GREGORIAN
BEGIN:VTIMEZONE
TZID:Europe/Berlin
LAST-MODIFIED:20260306T231828Z
TZURL:https://www.tzurl.org/zoneinfo/Europe/Berlin
X-LIC-LOCATION:Europe/Berlin
X-PROLEPTIC-TZNAME:LMT
BEGIN:STANDARD
TZNAME:CET
TZOFFSETFROM:+005328
TZOFFSETTO:+0100
DTSTART:18930401T000000
END:STANDARD
BEGIN:DAYLIGHT
TZNAME:CEST
TZOFFSETFROM:+0100
TZOFFSETTO:+0200
DTSTART:19160430T230000
RDATE:19400401T020000
RDATE:19430329T020000
RDATE:19460414T020000
RDATE:19470406T030000
RDATE:19480418T020000
RDATE:19490410T020000
RDATE:19800406T020000
END:DAYLIGHT
BEGIN:STANDARD
TZNAME:CET
TZOFFSETFROM:+0200
TZOFFSETTO:+0100
DTSTART:19161001T010000
RDATE:19421102T030000
RDATE:19431004T030000
RDATE:19441002T030000
RDATE:19451118T030000
RDATE:19461007T030000
END:STANDARD
BEGIN:DAYLIGHT
TZNAME:CEST
TZOFFSETFROM:+0100
TZOFFSETTO:+0200
DTSTART:19170416T020000
RRULE:FREQ=YEARLY;UNTIL=19180415T010000Z;BYMONTH=4;BYDAY=3MO
END:DAYLIGHT
BEGIN:STANDARD
TZNAME:CET
TZOFFSETFROM:+0200
TZOFFSETTO:+0100
DTSTART:19170917T030000
RRULE:FREQ=YEARLY;UNTIL=19180916T010000Z;BYMONTH=9;BYDAY=3MO
END:STANDARD
BEGIN:DAYLIGHT
TZNAME:CEST
TZOFFSETFROM:+0100
TZOFFSETTO:+0200
DTSTART:19440403T020000
RRULE:FREQ=YEARLY;UNTIL=19450402T010000Z;BYMONTH=4;BYDAY=1MO
END:DAYLIGHT
BEGIN:DAYLIGHT
TZNAME:CEMT
TZOFFSETFROM:+0200
TZOFFSETTO:+0300
DTSTART:19450524T020000
RDATE:19470511T030000
END:DAYLIGHT
BEGIN:DAYLIGHT
TZNAME:CEST
TZOFFSETFROM:+0300
TZOFFSETTO:+0200
DTSTART:19450924T030000
RDATE:19470629T030000
END:DAYLIGHT
BEGIN:STANDARD
TZNAME:CET
TZOFFSETFROM:+0100
TZOFFSETTO:+0100
DTSTART:19460101T000000
RDATE:19800101T000000
END:STANDARD
BEGIN:STANDARD
TZNAME:CET
TZOFFSETFROM:+0200
TZOFFSETTO:+0100
DTSTART:19471005T030000
RRULE:FREQ=YEARLY;UNTIL=19491002T010000Z;BYMONTH=10;BYDAY=1SU
END:STANDARD
BEGIN:STANDARD
TZNAME:CET
TZOFFSETFROM:+0200
TZOFFSETTO:+0100
DTSTART:19800928T030000
RRULE:FREQ=YEARLY;UNTIL=19950924T010000Z;BYMONTH=9;BYDAY=-1SU
END:STANDARD
BEGIN:DAYLIGHT
TZNAME:CEST
TZOFFSETFROM:+0100
TZOFFSETTO:+0200
DTSTART:19810329T020000
RRULE:FREQ=YEARLY;BYMONTH=3;BYDAY=-1SU
END:DAYLIGHT
BEGIN:STANDARD
TZNAME:CET
TZOFFSETFROM:+0200
TZOFFSETTO:+0100
DTSTART:19961027T030000
RRULE:FREQ=YEARLY;BYMONTH=10;BYDAY=-1SU
END:STANDARD
END:VTIMEZONE
BEGIN:VEVENT
DTSTAMP:20260424T135754Z
DTSTART;TZID=Europe/Berlin:20251122T140000
DTEND;TZID=Europe/Berlin:20251122T170000
SUMMARY:O50 1.Liga Gr.1 Buchs Zürich vs Wädenswil (8)
UID:53bddf9f-3a53-404b-9cae-aeb7ab81b53a
STATUS:CONFIRMED
LAST-MODIFIED:20251124T150440Z
DESCRIPTION:1. Liga O50 Gruppe 1\nBegegnungs-Nr: 8\nHeim: Buchs Zürich\nGast: Wädenswil\nHalle: Poule in Buchs ZH\, TH Petermoos\nAdresse: Drisglerstrasse 3\, 8107 Buchs ZH\n
LOCATION:Poule in Buchs ZH\, TH Petermoos Drisglerstrasse 3\, 8107 Buchs ZH
CATEGORIES:Saison 2025/26
END:VEVENT
BEGIN:VEVENT
DTSTAMP:20260424T135754Z
DTSTART;TZID=Europe/Berlin:20260328T160000
DTEND;TZID=Europe/Berlin:20260328T190000
SUMMARY:O50 1.Liga Gr.1 Buchs Zürich vs Pinguin Zürich (21)
UID:831237ee-b4d5-4513-a22a-083923f79142
STATUS:CONFIRMED
LAST-MODIFIED:20260401T133547Z
DESCRIPTION:1. Liga O50 Gruppe 1\nBegegnungs-Nr: 21\nHeim: Buchs Zürich\nGast: Pinguin Zürich\nHalle: Poule in Buchs ZH\, TH Petermoos\nAdresse: Drisglerstrasse 3\, 8107 Buchs ZH\n
LOCATION:Poule in Buchs ZH\, TH Petermoos Drisglerstrasse 3\, 8107 Buchs ZH
CATEGORIES:Saison 2025/26
END:VEVENT
BEGIN:VEVENT
DTSTAMP:20260424T135754Z
DTSTART;TZID=Europe/Berlin:20260328T140000
DTEND;TZID=Europe/Berlin:20260328T170000
SUMMARY:O50 1.Liga Gr.1 Buchs Zürich vs Affoltern A/A (16)
UID:a8598790-b636-487f-8563-f748352a8717
STATUS:CONFIRMED
LAST-MODIFIED:20260401T133309Z
DESCRIPTION:1. Liga O50 Gruppe 1\nBegegnungs-Nr: 16\nHeim: Buchs Zürich\nGast: Affoltern A/A\nHalle: Poule in Buchs ZH\, TH Petermoos\nAdresse: Drisglerstrasse 3\, 8107 Buchs ZH\n
LOCATION:Poule in Buchs ZH\, TH Petermoos Drisglerstrasse 3\, 8107 Buchs ZH
CATEGORIES:Saison 2025/26
END:VEVENT
BEGIN:VEVENT
DTSTAMP:20260424T135754Z
DTSTART;TZID=Europe/Berlin:20251122T160000
DTEND;TZID=Europe/Berlin:20251122T190000
SUMMARY:O50 1.Liga Gr.1 Buchs Zürich vs Zürich-Affoltern (10)
UID:60f33ff5-5cb7-4112-99a4-7b67d4a57f60
STATUS:CONFIRMED
LAST-MODIFIED:20251124T124818Z
DESCRIPTION:1. Liga O50 Gruppe 1\nBegegnungs-Nr: 10\nHeim: Buchs Zürich\nGast: Zürich-Affoltern\n\nAdresse: Drisglerstrasse 3\, 8107 Buchs ZH\n
LOCATION:Drisglerstrasse 3\, 8107 Buchs ZH
CATEGORIES:Saison 2025/26
END:VEVENT
BEGIN:VEVENT
DTSTAMP:20260424T135754Z
DTSTART;TZID=Europe/Berlin:20260124T160000
DTEND;TZID=Europe/Berlin:20260124T190000
SUMMARY:O50 1.Liga Gr.1 Embrachertal vs Buchs Zürich (15)
UID:fd5a7f88-763f-491f-83df-ffa12e178b7c
STATUS:CONFIRMED
LAST-MODIFIED:20260130T133433Z
DESCRIPTION:1. Liga O50 Gruppe 1\nBegegnungs-Nr: 15\nHeim: Embrachertal\nGast: Buchs Zürich\n
LOCATION:
CATEGORIES:Saison 2025/26
END:VEVENT
BEGIN:VEVENT
DTSTAMP:20260424T135754Z
DTSTART;TZID=Europe/Berlin:20260124T140000
DTEND;TZID=Europe/Berlin:20260124T170000
SUMMARY:O50 1.Liga Gr.1 Neuhausen vs Buchs Zürich (12)
UID:97cae6f0-ab61-4ea4-a0d8-dde6a6a57bc8
STATUS:CONFIRMED
LAST-MODIFIED:20260130T133233Z
DESCRIPTION:1. Liga O50 Gruppe 1\nBegegnungs-Nr: 12\nHeim: Neuhausen\nGast: Buchs Zürich\nHalle: Poule in Schaffhausen\, TTZ Ebnat\nAdresse: Ebnatstrasse 35\, 8200 Schaffhausen\n
LOCATION:Poule in Schaffhausen\, TTZ Ebnat Ebnatstrasse 35\, 8200 Schaffhausen
CATEGORIES:Saison 2025/26
END:VEVENT
END:VCALENDAR
