BEGIN:VCALENDAR
PRODID:-//nuDatenautomaten//framework iCal4j //DE
VERSION:2.0
CALSCALE:GREGORIAN
BEGIN:VTIMEZONE
TZID:Europe/Berlin
LAST-MODIFIED:20260306T231828Z
TZURL:https://www.tzurl.org/zoneinfo/Europe/Berlin
X-LIC-LOCATION:Europe/Berlin
X-PROLEPTIC-TZNAME:LMT
BEGIN:STANDARD
TZNAME:CET
TZOFFSETFROM:+005328
TZOFFSETTO:+0100
DTSTART:18930401T000000
END:STANDARD
BEGIN:DAYLIGHT
TZNAME:CEST
TZOFFSETFROM:+0100
TZOFFSETTO:+0200
DTSTART:19160430T230000
RDATE:19400401T020000
RDATE:19430329T020000
RDATE:19460414T020000
RDATE:19470406T030000
RDATE:19480418T020000
RDATE:19490410T020000
RDATE:19800406T020000
END:DAYLIGHT
BEGIN:STANDARD
TZNAME:CET
TZOFFSETFROM:+0200
TZOFFSETTO:+0100
DTSTART:19161001T010000
RDATE:19421102T030000
RDATE:19431004T030000
RDATE:19441002T030000
RDATE:19451118T030000
RDATE:19461007T030000
END:STANDARD
BEGIN:DAYLIGHT
TZNAME:CEST
TZOFFSETFROM:+0100
TZOFFSETTO:+0200
DTSTART:19170416T020000
RRULE:FREQ=YEARLY;UNTIL=19180415T010000Z;BYMONTH=4;BYDAY=3MO
END:DAYLIGHT
BEGIN:STANDARD
TZNAME:CET
TZOFFSETFROM:+0200
TZOFFSETTO:+0100
DTSTART:19170917T030000
RRULE:FREQ=YEARLY;UNTIL=19180916T010000Z;BYMONTH=9;BYDAY=3MO
END:STANDARD
BEGIN:DAYLIGHT
TZNAME:CEST
TZOFFSETFROM:+0100
TZOFFSETTO:+0200
DTSTART:19440403T020000
RRULE:FREQ=YEARLY;UNTIL=19450402T010000Z;BYMONTH=4;BYDAY=1MO
END:DAYLIGHT
BEGIN:DAYLIGHT
TZNAME:CEMT
TZOFFSETFROM:+0200
TZOFFSETTO:+0300
DTSTART:19450524T020000
RDATE:19470511T030000
END:DAYLIGHT
BEGIN:DAYLIGHT
TZNAME:CEST
TZOFFSETFROM:+0300
TZOFFSETTO:+0200
DTSTART:19450924T030000
RDATE:19470629T030000
END:DAYLIGHT
BEGIN:STANDARD
TZNAME:CET
TZOFFSETFROM:+0100
TZOFFSETTO:+0100
DTSTART:19460101T000000
RDATE:19800101T000000
END:STANDARD
BEGIN:STANDARD
TZNAME:CET
TZOFFSETFROM:+0200
TZOFFSETTO:+0100
DTSTART:19471005T030000
RRULE:FREQ=YEARLY;UNTIL=19491002T010000Z;BYMONTH=10;BYDAY=1SU
END:STANDARD
BEGIN:STANDARD
TZNAME:CET
TZOFFSETFROM:+0200
TZOFFSETTO:+0100
DTSTART:19800928T030000
RRULE:FREQ=YEARLY;UNTIL=19950924T010000Z;BYMONTH=9;BYDAY=-1SU
END:STANDARD
BEGIN:DAYLIGHT
TZNAME:CEST
TZOFFSETFROM:+0100
TZOFFSETTO:+0200
DTSTART:19810329T020000
RRULE:FREQ=YEARLY;BYMONTH=3;BYDAY=-1SU
END:DAYLIGHT
BEGIN:STANDARD
TZNAME:CET
TZOFFSETFROM:+0200
TZOFFSETTO:+0100
DTSTART:19961027T030000
RRULE:FREQ=YEARLY;BYMONTH=10;BYDAY=-1SU
END:STANDARD
END:VTIMEZONE
BEGIN:VEVENT
DTSTAMP:20260424T062025Z
DTSTART;TZID=Europe/Berlin:20250918T193000
DTEND;TZID=Europe/Berlin:20250918T223000
SUMMARY:ME L1 Gr 1\, Tours 1&2 Martigny vs Collombey/Muraz (0)
UID:1e6cd9fb-ec5b-4344-a460-813d99b8d796
STATUS:CONFIRMED
LAST-MODIFIED:20250919T204937Z
DESCRIPTION:1ère ligue Hommes Groupe 1\, Tours 1&2\nBegegnungs-Nr: 0\nHeim: Martigny\nGast: Collombey/Muraz\n\nAdresse: Rue des Ecoles 9\, 1920 Martigny\n
LOCATION:Rue des Ecoles 9\, 1920 Martigny
CATEGORIES:Saison 2025/26
END:VEVENT
BEGIN:VEVENT
DTSTAMP:20260424T062025Z
DTSTART;TZID=Europe/Berlin:20251014T200000
DTEND;TZID=Europe/Berlin:20251014T230000
SUMMARY:ME L1 Gr 1\, Tours 1&2 Martigny vs Vevey II (0)
UID:c94a33ed-8415-444a-91dd-a8912b352363
STATUS:CONFIRMED
LAST-MODIFIED:20251015T213013Z
DESCRIPTION:1ère ligue Hommes Groupe 1\, Tours 1&2\nBegegnungs-Nr: 0\nHeim: Martigny\nGast: Vevey II\n\nAdresse: Rue des Ecoles 9\, 1920 Martigny\n
LOCATION:Rue des Ecoles 9\, 1920 Martigny
CATEGORIES:Saison 2025/26
END:VEVENT
BEGIN:VEVENT
DTSTAMP:20260424T062025Z
DTSTART;TZID=Europe/Berlin:20251028T200000
DTEND;TZID=Europe/Berlin:20251028T230000
SUMMARY:ME L1 Gr 1\, Tours 1&2 Martigny vs Sierre II (0)
UID:115e8f3d-25e7-4e6a-9889-cebc662ce6e8
STATUS:CONFIRMED
LAST-MODIFIED:20251030T105622Z
DESCRIPTION:1ère ligue Hommes Groupe 1\, Tours 1&2\nBegegnungs-Nr: 0\nHeim: Martigny\nGast: Sierre II\n\nAdresse: Rue des Ecoles 9\, 1920 Martigny\n
LOCATION:Rue des Ecoles 9\, 1920 Martigny
CATEGORIES:Saison 2025/26
END:VEVENT
BEGIN:VEVENT
DTSTAMP:20260424T062025Z
DTSTART;TZID=Europe/Berlin:20251120T200000
DTEND;TZID=Europe/Berlin:20251120T230000
SUMMARY:ME L1 Gr 1\, Tours 1&2 Martigny vs Lausanne II (0)
UID:80660ddc-1d81-4371-aa1a-4e8c39420691
STATUS:CONFIRMED
LAST-MODIFIED:20251121T100230Z
DESCRIPTION:1ère ligue Hommes Groupe 1\, Tours 1&2\nBegegnungs-Nr: 0\nHeim: Martigny\nGast: Lausanne II\n\nAdresse: Rue des Ecoles 9\, 1920 Martigny\n
LOCATION:Rue des Ecoles 9\, 1920 Martigny
CATEGORIES:Saison 2025/26
END:VEVENT
BEGIN:VEVENT
DTSTAMP:20260424T062025Z
DTSTART;TZID=Europe/Berlin:20250911T200000
DTEND;TZID=Europe/Berlin:20250911T230000
SUMMARY:ME L1 Gr 1\, Tours 1&2 Martigny vs Forward-Morges II (0)
UID:e8dac149-24fb-4de6-a97a-f55c80b653ee
STATUS:CONFIRMED
LAST-MODIFIED:20250912T142456Z
DESCRIPTION:1ère ligue Hommes Groupe 1\, Tours 1&2\nBegegnungs-Nr: 0\nHeim: Martigny\nGast: Forward-Morges II\n\nAdresse: Rue des Ecoles 9\, 1920 Martigny\n
LOCATION:Rue des Ecoles 9\, 1920 Martigny
CATEGORIES:Saison 2025/26
END:VEVENT
BEGIN:VEVENT
DTSTAMP:20260424T062025Z
DTSTART;TZID=Europe/Berlin:20260122T200000
DTEND;TZID=Europe/Berlin:20260122T230000
SUMMARY:ME L1 Gr 2\, Tours 3&4 Martigny vs Sierre II (0)
UID:3a5e38fc-44e4-4f74-a4ed-9e252a6ad2aa
STATUS:CONFIRMED
LAST-MODIFIED:20260122T225116Z
DESCRIPTION:1ère ligue Hommes Groupe 2\, Tours 3&4\nBegegnungs-Nr: 0\nHeim: Martigny\nGast: Sierre II\n\nAdresse: Rue des Ecoles 9\, 1920 Martigny\n
LOCATION:Rue des Ecoles 9\, 1920 Martigny
CATEGORIES:Saison 2025/26
END:VEVENT
BEGIN:VEVENT
DTSTAMP:20260424T062025Z
DTSTART;TZID=Europe/Berlin:20260129T200000
DTEND;TZID=Europe/Berlin:20260129T230000
SUMMARY:ME L1 Gr 2\, Tours 3&4 Martigny vs Lausanne V (0)
UID:553ffdfd-a866-4961-88cc-d0b5322c8b3d
STATUS:CONFIRMED
LAST-MODIFIED:20260201T201546Z
DESCRIPTION:1ère ligue Hommes Groupe 2\, Tours 3&4\nBegegnungs-Nr: 0\nHeim: Martigny\nGast: Lausanne V\n\nAdresse: Rue des Ecoles 9\, 1920 Martigny\n
LOCATION:Rue des Ecoles 9\, 1920 Martigny
CATEGORIES:Saison 2025/26
END:VEVENT
BEGIN:VEVENT
DTSTAMP:20260424T062025Z
DTSTART;TZID=Europe/Berlin:20260226T200000
DTEND;TZID=Europe/Berlin:20260226T230000
SUMMARY:ME L1 Gr 2\, Tours 3&4 Martigny vs Yverdon (0)
UID:f916907b-3952-4ca3-a010-5f7e8622b1f3
STATUS:CONFIRMED
LAST-MODIFIED:20260227T102038Z
DESCRIPTION:1ère ligue Hommes Groupe 2\, Tours 3&4\nBegegnungs-Nr: 0\nHeim: Martigny\nGast: Yverdon\n\nAdresse: Rue des Ecoles 9\, 1920 Martigny\n
LOCATION:Rue des Ecoles 9\, 1920 Martigny
CATEGORIES:Saison 2025/26
END:VEVENT
BEGIN:VEVENT
DTSTAMP:20260424T062025Z
DTSTART;TZID=Europe/Berlin:20260317T200000
DTEND;TZID=Europe/Berlin:20260317T230000
SUMMARY:ME L1 Gr 2\, Tours 3&4 Martigny vs Forward-Morges II (0)
UID:55202797-c7ea-422a-b013-2aaf62aee8bf
STATUS:CONFIRMED
LAST-MODIFIED:20260318T000041Z
DESCRIPTION:1ère ligue Hommes Groupe 2\, Tours 3&4\nBegegnungs-Nr: 0\nHeim: Martigny\nGast: Forward-Morges II\n\nAdresse: Rue des Ecoles 9\, 1920 Martigny\n
LOCATION:Rue des Ecoles 9\, 1920 Martigny
CATEGORIES:Saison 2025/26
END:VEVENT
BEGIN:VEVENT
DTSTAMP:20260424T062025Z
DTSTART;TZID=Europe/Berlin:20260331T200000
DTEND;TZID=Europe/Berlin:20260331T230000
SUMMARY:ME L1 Gr 2\, Tours 3&4 Martigny vs Rossens II (0)
UID:bdc510bf-8573-40f5-9ac2-8822291f029a
STATUS:CONFIRMED
LAST-MODIFIED:20260401T092329Z
DESCRIPTION:1ère ligue Hommes Groupe 2\, Tours 3&4\nBegegnungs-Nr: 0\nHeim: Martigny\nGast: Rossens II\n\nAdresse: Rue des Ecoles 9\, 1920 Martigny\n
LOCATION:Rue des Ecoles 9\, 1920 Martigny
CATEGORIES:Saison 2025/26
END:VEVENT
BEGIN:VEVENT
DTSTAMP:20260424T062025Z
DTSTART;TZID=Europe/Berlin:20251106T194500
DTEND;TZID=Europe/Berlin:20251106T224500
SUMMARY:ME L1 Gr 1\, Tours 1&2 Forward-Morges II vs Martigny (0)
UID:4784b695-afc9-492d-8044-724aaff8ca9b
STATUS:CONFIRMED
LAST-MODIFIED:20251109T122246Z
DESCRIPTION:1ère ligue Hommes Groupe 1\, Tours 1&2\nBegegnungs-Nr: 0\nHeim: Forward-Morges II\nGast: Martigny\n\nAdresse: Chemin de Tolochenaz\, 1110 Morges\n
LOCATION:Chemin de Tolochenaz\, 1110 Morges
CATEGORIES:Saison 2025/26
END:VEVENT
BEGIN:VEVENT
DTSTAMP:20260424T062025Z
DTSTART;TZID=Europe/Berlin:20251123T170000
DTEND;TZID=Europe/Berlin:20251123T200000
SUMMARY:ME L1 Gr 1\, Tours 1&2 Collombey/Muraz vs Martigny (0)
UID:a98cb82a-8855-42ac-8b41-aaeccb11d9f8
STATUS:CONFIRMED
LAST-MODIFIED:20251124T183534Z
DESCRIPTION:1ère ligue Hommes Groupe 1\, Tours 1&2\nBegegnungs-Nr: 0\nHeim: Collombey/Muraz\nGast: Martigny\n\nAdresse: Route du Montagnier 81\, 1868 Collombey\n
LOCATION:Route du Montagnier 81\, 1868 Collombey
CATEGORIES:Saison 2025/26
END:VEVENT
BEGIN:VEVENT
DTSTAMP:20260424T062025Z
DTSTART;TZID=Europe/Berlin:20251211T200000
DTEND;TZID=Europe/Berlin:20251211T230000
SUMMARY:ME L1 Gr 1\, Tours 1&2 Vevey II vs Martigny (0)
UID:0fc178b2-9566-4dab-bdd6-ec8897523364
STATUS:CONFIRMED
LAST-MODIFIED:20251215T184422Z
DESCRIPTION:1ère ligue Hommes Groupe 1\, Tours 1&2\nBegegnungs-Nr: 0\nHeim: Vevey II\nGast: Martigny\n\nAdresse: Rue Louis-Meyer\, 1800 Vevey\n
LOCATION:Rue Louis-Meyer\, 1800 Vevey
CATEGORIES:Saison 2025/26
END:VEVENT
BEGIN:VEVENT
DTSTAMP:20260424T062025Z
DTSTART;TZID=Europe/Berlin:20250903T200000
DTEND;TZID=Europe/Berlin:20250903T230000
SUMMARY:ME L1 Gr 1\, Tours 1&2 Sierre II vs Martigny (0)
UID:582a5639-5add-41f4-a7d1-4319d60d434c
STATUS:CONFIRMED
LAST-MODIFIED:20250903T215351Z
DESCRIPTION:1ère ligue Hommes Groupe 1\, Tours 1&2\nBegegnungs-Nr: 0\nHeim: Sierre II\nGast: Martigny\n\nAdresse: Rte des Liddes 6\, 3960 Sierre\n
LOCATION:Rte des Liddes 6\, 3960 Sierre
CATEGORIES:Saison 2025/26
END:VEVENT
BEGIN:VEVENT
DTSTAMP:20260424T062025Z
DTSTART;TZID=Europe/Berlin:20250920T160000
DTEND;TZID=Europe/Berlin:20250920T190000
SUMMARY:ME L1 Gr 1\, Tours 1&2 Lausanne II vs Martigny (0)
UID:057aa788-6409-4bc5-9515-31223c1dc96e
STATUS:CONFIRMED
LAST-MODIFIED:20250921T140422Z
DESCRIPTION:1ère ligue Hommes Groupe 1\, Tours 1&2\nBegegnungs-Nr: 0\nHeim: Lausanne II\nGast: Martigny\n\nAdresse: Vaudoise Aréna\, Ch. du Viaduc 14\, 1008 Prilly\n
LOCATION:Vaudoise Aréna\, Ch. du Viaduc 14\, 1008 Prilly
CATEGORIES:Saison 2025/26
END:VEVENT
BEGIN:VEVENT
DTSTAMP:20260424T062025Z
DTSTART;TZID=Europe/Berlin:20260115T201500
DTEND;TZID=Europe/Berlin:20260115T231500
SUMMARY:ME L1 Gr 2\, Tours 3&4 Yverdon vs Martigny (0)
UID:6e5859c9-0faf-42e5-8e9a-ea0f4d5af119
STATUS:CONFIRMED
LAST-MODIFIED:20260116T185434Z
DESCRIPTION:1ère ligue Hommes Groupe 2\, Tours 3&4\nBegegnungs-Nr: 0\nHeim: Yverdon\nGast: Martigny\n\nAdresse: Avenue des Quatre Marroniers 1\, 1400 Yverdon-les-Bains\n
LOCATION:Avenue des Quatre Marroniers 1\, 1400 Yverdon-les-Bains
CATEGORIES:Saison 2025/26
END:VEVENT
BEGIN:VEVENT
DTSTAMP:20260424T062025Z
DTSTART;TZID=Europe/Berlin:20260205T194500
DTEND;TZID=Europe/Berlin:20260205T224500
SUMMARY:ME L1 Gr 2\, Tours 3&4 Forward-Morges II vs Martigny (0)
UID:f150d48f-376b-4e1e-b199-186bf6024f90
STATUS:CONFIRMED
LAST-MODIFIED:20260206T183804Z
DESCRIPTION:1ère ligue Hommes Groupe 2\, Tours 3&4\nBegegnungs-Nr: 0\nHeim: Forward-Morges II\nGast: Martigny\n\nAdresse: Chemin de Tolochenaz\, 1110 Morges\n
LOCATION:Chemin de Tolochenaz\, 1110 Morges
CATEGORIES:Saison 2025/26
END:VEVENT
BEGIN:VEVENT
DTSTAMP:20260424T062025Z
DTSTART;TZID=Europe/Berlin:20260209T200000
DTEND;TZID=Europe/Berlin:20260209T230000
SUMMARY:ME L1 Gr 2\, Tours 3&4 Rossens II vs Martigny (0)
UID:0fc6a780-4bfb-414f-bea4-ce9ee082a091
STATUS:CONFIRMED
LAST-MODIFIED:20260212T112838Z
DESCRIPTION:1ère ligue Hommes Groupe 2\, Tours 3&4\nBegegnungs-Nr: 0\nHeim: Rossens II\nGast: Martigny\n\nAdresse: Route du Jordil 14\, 1728 Rossens\n
LOCATION:Route du Jordil 14\, 1728 Rossens
CATEGORIES:Saison 2025/26
END:VEVENT
BEGIN:VEVENT
DTSTAMP:20260424T062025Z
DTSTART;TZID=Europe/Berlin:20260304T200000
DTEND;TZID=Europe/Berlin:20260304T230000
SUMMARY:ME L1 Gr 2\, Tours 3&4 Sierre II vs Martigny (0)
UID:c3af6eea-e851-4d15-8071-fd1f8ccfee78
STATUS:CONFIRMED
LAST-MODIFIED:20260305T200100Z
DESCRIPTION:1ère ligue Hommes Groupe 2\, Tours 3&4\nBegegnungs-Nr: 0\nHeim: Sierre II\nGast: Martigny\n\nAdresse: Rte des Liddes 6\, 3960 Sierre\n
LOCATION:Rte des Liddes 6\, 3960 Sierre
CATEGORIES:Saison 2025/26
END:VEVENT
BEGIN:VEVENT
DTSTAMP:20260424T062025Z
DTSTART;TZID=Europe/Berlin:20260310T200000
DTEND;TZID=Europe/Berlin:20260310T230000
SUMMARY:ME L1 Gr 2\, Tours 3&4 Lausanne V vs Martigny (0)
UID:1057c368-ef06-40f6-8130-63bbd434d9e8
STATUS:CONFIRMED
LAST-MODIFIED:20260311T161900Z
DESCRIPTION:1ère ligue Hommes Groupe 2\, Tours 3&4\nBegegnungs-Nr: 0\nHeim: Lausanne V\nGast: Martigny\n\nAdresse: Vaudoise Aréna\, Ch. du Viaduc 14\, 1008 Prilly\n
LOCATION:Vaudoise Aréna\, Ch. du Viaduc 14\, 1008 Prilly
CATEGORIES:Saison 2025/26
END:VEVENT
END:VCALENDAR
