BEGIN:VCALENDAR
PRODID:-//nuDatenautomaten//framework iCal4j //DE
VERSION:2.0
CALSCALE:GREGORIAN
BEGIN:VTIMEZONE
TZID:Europe/Berlin
LAST-MODIFIED:20260306T231828Z
TZURL:https://www.tzurl.org/zoneinfo/Europe/Berlin
X-LIC-LOCATION:Europe/Berlin
X-PROLEPTIC-TZNAME:LMT
BEGIN:STANDARD
TZNAME:CET
TZOFFSETFROM:+005328
TZOFFSETTO:+0100
DTSTART:18930401T000000
END:STANDARD
BEGIN:DAYLIGHT
TZNAME:CEST
TZOFFSETFROM:+0100
TZOFFSETTO:+0200
DTSTART:19160430T230000
RDATE:19400401T020000
RDATE:19430329T020000
RDATE:19460414T020000
RDATE:19470406T030000
RDATE:19480418T020000
RDATE:19490410T020000
RDATE:19800406T020000
END:DAYLIGHT
BEGIN:STANDARD
TZNAME:CET
TZOFFSETFROM:+0200
TZOFFSETTO:+0100
DTSTART:19161001T010000
RDATE:19421102T030000
RDATE:19431004T030000
RDATE:19441002T030000
RDATE:19451118T030000
RDATE:19461007T030000
END:STANDARD
BEGIN:DAYLIGHT
TZNAME:CEST
TZOFFSETFROM:+0100
TZOFFSETTO:+0200
DTSTART:19170416T020000
RRULE:FREQ=YEARLY;UNTIL=19180415T010000Z;BYMONTH=4;BYDAY=3MO
END:DAYLIGHT
BEGIN:STANDARD
TZNAME:CET
TZOFFSETFROM:+0200
TZOFFSETTO:+0100
DTSTART:19170917T030000
RRULE:FREQ=YEARLY;UNTIL=19180916T010000Z;BYMONTH=9;BYDAY=3MO
END:STANDARD
BEGIN:DAYLIGHT
TZNAME:CEST
TZOFFSETFROM:+0100
TZOFFSETTO:+0200
DTSTART:19440403T020000
RRULE:FREQ=YEARLY;UNTIL=19450402T010000Z;BYMONTH=4;BYDAY=1MO
END:DAYLIGHT
BEGIN:DAYLIGHT
TZNAME:CEMT
TZOFFSETFROM:+0200
TZOFFSETTO:+0300
DTSTART:19450524T020000
RDATE:19470511T030000
END:DAYLIGHT
BEGIN:DAYLIGHT
TZNAME:CEST
TZOFFSETFROM:+0300
TZOFFSETTO:+0200
DTSTART:19450924T030000
RDATE:19470629T030000
END:DAYLIGHT
BEGIN:STANDARD
TZNAME:CET
TZOFFSETFROM:+0100
TZOFFSETTO:+0100
DTSTART:19460101T000000
RDATE:19800101T000000
END:STANDARD
BEGIN:STANDARD
TZNAME:CET
TZOFFSETFROM:+0200
TZOFFSETTO:+0100
DTSTART:19471005T030000
RRULE:FREQ=YEARLY;UNTIL=19491002T010000Z;BYMONTH=10;BYDAY=1SU
END:STANDARD
BEGIN:STANDARD
TZNAME:CET
TZOFFSETFROM:+0200
TZOFFSETTO:+0100
DTSTART:19800928T030000
RRULE:FREQ=YEARLY;UNTIL=19950924T010000Z;BYMONTH=9;BYDAY=-1SU
END:STANDARD
BEGIN:DAYLIGHT
TZNAME:CEST
TZOFFSETFROM:+0100
TZOFFSETTO:+0200
DTSTART:19810329T020000
RRULE:FREQ=YEARLY;BYMONTH=3;BYDAY=-1SU
END:DAYLIGHT
BEGIN:STANDARD
TZNAME:CET
TZOFFSETFROM:+0200
TZOFFSETTO:+0100
DTSTART:19961027T030000
RRULE:FREQ=YEARLY;BYMONTH=10;BYDAY=-1SU
END:STANDARD
END:VTIMEZONE
BEGIN:VEVENT
DTSTAMP:20260424T165500Z
DTSTART;TZID=Europe/Berlin:20251111T194500
DTEND;TZID=Europe/Berlin:20251111T224500
SUMMARY:HE 4. Liga Gr. 4 Regio Moossee II vs Bern IX (18)
UID:b0a9ba54-65ee-49d7-8e75-1c3b4b5e68de
STATUS:CONFIRMED
LAST-MODIFIED:20251115T174100Z
DESCRIPTION:4. Liga Herren Gruppe 4\nBegegnungs-Nr: 18\nHeim: Regio Moossee II\nGast: Bern IX\n\nAdresse: Schulhausstrasse 23-25\, 3302 Moosseedorf\n
LOCATION:Schulhausstrasse 23-25\, 3302 Moosseedorf
CATEGORIES:Saison 2025/26
END:VEVENT
BEGIN:VEVENT
DTSTAMP:20260424T165500Z
DTSTART;TZID=Europe/Berlin:20250902T194500
DTEND;TZID=Europe/Berlin:20250902T224500
SUMMARY:HE 4. Liga Gr. 4 Regio Moossee II vs Grossaffoltern (2)
UID:1edbfde7-f21a-4a8e-b26d-f4caa3aad351
STATUS:CONFIRMED
LAST-MODIFIED:20250907T195742Z
DESCRIPTION:4. Liga Herren Gruppe 4\nBegegnungs-Nr: 2\nHeim: Regio Moossee II\nGast: Grossaffoltern\n\nAdresse: Schulhausstrasse 23-25\, 3302 Moosseedorf\n
LOCATION:Schulhausstrasse 23-25\, 3302 Moosseedorf
CATEGORIES:Saison 2025/26
END:VEVENT
BEGIN:VEVENT
DTSTAMP:20260424T165500Z
DTSTART;TZID=Europe/Berlin:20251014T194500
DTEND;TZID=Europe/Berlin:20251014T224500
SUMMARY:HE 4. Liga Gr. 4 Regio Moossee II vs Burgdorf VII (10)
UID:04133428-0a8e-4a37-b314-cda14c786ffa
STATUS:CONFIRMED
LAST-MODIFIED:20251016T191323Z
DESCRIPTION:4. Liga Herren Gruppe 4\nBegegnungs-Nr: 10\nHeim: Regio Moossee II\nGast: Burgdorf VII\n\nAdresse: Schulhausstrasse 23-25\, 3302 Moosseedorf\n
LOCATION:Schulhausstrasse 23-25\, 3302 Moosseedorf
CATEGORIES:Saison 2025/26
END:VEVENT
BEGIN:VEVENT
DTSTAMP:20260424T165500Z
DTSTART;TZID=Europe/Berlin:20260331T194500
DTEND;TZID=Europe/Berlin:20260331T224500
SUMMARY:HE 4. Liga Gr. 4 Regio Moossee II vs Ittigen III (25)
UID:659889c3-9ca1-48e7-b77f-ff04162948b6
STATUS:CONFIRMED
LAST-MODIFIED:20260409T123041Z
DESCRIPTION:4. Liga Herren Gruppe 4\nBegegnungs-Nr: 25\nHeim: Regio Moossee II\nGast: Ittigen III\n\nAdresse: Schulhausstrasse 23-25\, 3302 Moosseedorf\n
LOCATION:Schulhausstrasse 23-25\, 3302 Moosseedorf
CATEGORIES:Saison 2025/26
END:VEVENT
BEGIN:VEVENT
DTSTAMP:20260424T165500Z
DTSTART;TZID=Europe/Berlin:20260317T194500
DTEND;TZID=Europe/Berlin:20260317T224500
SUMMARY:HE 4. Liga Gr. 4 Regio Moossee II vs Köniz II (22)
UID:dffe75f9-7c49-4b51-b49e-5bc0ecc6da33
STATUS:CONFIRMED
LAST-MODIFIED:20260327T143554Z
DESCRIPTION:4. Liga Herren Gruppe 4\nBegegnungs-Nr: 22\nHeim: Regio Moossee II\nGast: Köniz II\n\nAdresse: Schulhausstrasse 23-25\, 3302 Moosseedorf\n
LOCATION:Schulhausstrasse 23-25\, 3302 Moosseedorf
CATEGORIES:Saison 2025/26
END:VEVENT
BEGIN:VEVENT
DTSTAMP:20260424T165500Z
DTSTART;TZID=Europe/Berlin:20260224T194500
DTEND;TZID=Europe/Berlin:20260224T224500
SUMMARY:HE 4. Liga Gr. 4 Regio Moossee II vs Grauholz II (14)
UID:a70b1329-66e0-45ee-ad56-2d0755b33042
STATUS:CONFIRMED
LAST-MODIFIED:20260302T144741Z
DESCRIPTION:4. Liga Herren Gruppe 4\nBegegnungs-Nr: 14\nHeim: Regio Moossee II\nGast: Grauholz II\n\nAdresse: Schulhausstrasse 23-25\, 3302 Moosseedorf\n
LOCATION:Schulhausstrasse 23-25\, 3302 Moosseedorf
CATEGORIES:Saison 2025/26
END:VEVENT
BEGIN:VEVENT
DTSTAMP:20260424T165500Z
DTSTART;TZID=Europe/Berlin:20260120T194500
DTEND;TZID=Europe/Berlin:20260120T224500
SUMMARY:HE 4. Liga Gr. 4 Regio Moossee II vs Münchenbuchsee III (6)
UID:f96e5b31-2438-41eb-8db6-0ed7740dd984
STATUS:CONFIRMED
LAST-MODIFIED:20260125T001905Z
DESCRIPTION:4. Liga Herren Gruppe 4\nBegegnungs-Nr: 6\nHeim: Regio Moossee II\nGast: Münchenbuchsee III\n\nAdresse: Schulhausstrasse 23-25\, 3302 Moosseedorf\n
LOCATION:Schulhausstrasse 23-25\, 3302 Moosseedorf
CATEGORIES:Saison 2025/26
END:VEVENT
BEGIN:VEVENT
DTSTAMP:20260424T165500Z
DTSTART;TZID=Europe/Berlin:20251208T194500
DTEND;TZID=Europe/Berlin:20251208T224500
SUMMARY:HE 4. Liga Gr. 4 Ittigen III vs Regio Moossee II (25)
UID:52eadcc2-9cbd-47bd-a4ac-a21dd6bb5432
STATUS:CONFIRMED
LAST-MODIFIED:20251216T120632Z
DESCRIPTION:4. Liga Herren Gruppe 4\nBegegnungs-Nr: 25\nHeim: Ittigen III\nGast: Regio Moossee II\n\nAdresse: Fischrainweg 17\, 3048 Worblaufen\n
LOCATION:Fischrainweg 17\, 3048 Worblaufen
CATEGORIES:Saison 2025/26
END:VEVENT
BEGIN:VEVENT
DTSTAMP:20260424T165500Z
DTSTART;TZID=Europe/Berlin:20251201T200000
DTEND;TZID=Europe/Berlin:20251201T230000
SUMMARY:HE 4. Liga Gr. 4 Köniz II vs Regio Moossee II (22)
UID:e6b8eb9a-a145-49e1-aae4-8b1bd8794e24
STATUS:CONFIRMED
LAST-MODIFIED:20251207T173216Z
DESCRIPTION:4. Liga Herren Gruppe 4\nBegegnungs-Nr: 22\nHeim: Köniz II\nGast: Regio Moossee II\n\nAdresse: Kirchstrasse 72-76\, 3084 Wabern\n
LOCATION:Kirchstrasse 72-76\, 3084 Wabern
CATEGORIES:Saison 2025/26
END:VEVENT
BEGIN:VEVENT
DTSTAMP:20260424T165500Z
DTSTART;TZID=Europe/Berlin:20251104T200000
DTEND;TZID=Europe/Berlin:20251104T230000
SUMMARY:HE 4. Liga Gr. 4 Grauholz II vs Regio Moossee II (14)
UID:bdad669c-d2c8-48bb-b429-09d7ef4e1b64
STATUS:CONFIRMED
LAST-MODIFIED:20251115T174012Z
DESCRIPTION:4. Liga Herren Gruppe 4\nBegegnungs-Nr: 14\nHeim: Grauholz II\nGast: Regio Moossee II\n\nAdresse: Schulhausweg 8\, 3324 Hindelbank\n
LOCATION:Schulhausweg 8\, 3324 Hindelbank
CATEGORIES:Saison 2025/26
END:VEVENT
BEGIN:VEVENT
DTSTAMP:20260424T165500Z
DTSTART;TZID=Europe/Berlin:20250910T200000
DTEND;TZID=Europe/Berlin:20250910T230000
SUMMARY:HE 4. Liga Gr. 4 Münchenbuchsee III vs Regio Moossee II (6)
UID:9938bbf8-9c0a-401e-a39c-1f8400f1ef2f
STATUS:CONFIRMED
LAST-MODIFIED:20250918T140720Z
DESCRIPTION:4. Liga Herren Gruppe 4\nBegegnungs-Nr: 6\nHeim: Münchenbuchsee III\nGast: Regio Moossee II\n\nAdresse: Laubbergweg 41\, 3053 Münchenbuchsee\n
LOCATION:Laubbergweg 41\, 3053 Münchenbuchsee
CATEGORIES:Saison 2025/26
END:VEVENT
BEGIN:VEVENT
DTSTAMP:20260424T165500Z
DTSTART;TZID=Europe/Berlin:20260306T193000
DTEND;TZID=Europe/Berlin:20260306T223000
SUMMARY:HE 4. Liga Gr. 4 Bern IX vs Regio Moossee II (18)
UID:199a91de-14a4-4793-b578-552efbd1a29d
STATUS:CONFIRMED
LAST-MODIFIED:20260308T175028Z
DESCRIPTION:4. Liga Herren Gruppe 4\nBegegnungs-Nr: 18\nHeim: Bern IX\nGast: Regio Moossee II\n\nAdresse: Papiermühlestrasse 81\, 3014 Bern\n
LOCATION:Papiermühlestrasse 81\, 3014 Bern
CATEGORIES:Saison 2025/26
END:VEVENT
BEGIN:VEVENT
DTSTAMP:20260424T165500Z
DTSTART;TZID=Europe/Berlin:20260206T193000
DTEND;TZID=Europe/Berlin:20260206T223000
SUMMARY:HE 4. Liga Gr. 4 Burgdorf VII vs Regio Moossee II (10)
UID:0bf7ba0c-8188-4d5f-b64f-5fb481b2c5fb
STATUS:CONFIRMED
LAST-MODIFIED:20260217T213410Z
DESCRIPTION:4. Liga Herren Gruppe 4\nBegegnungs-Nr: 10\nHeim: Burgdorf VII\nGast: Regio Moossee II\n\nAdresse: Pestalozzistrasse 69\, 3400 Burgdorf\n
LOCATION:Pestalozzistrasse 69\, 3400 Burgdorf
CATEGORIES:Saison 2025/26
END:VEVENT
BEGIN:VEVENT
DTSTAMP:20260424T165500Z
DTSTART;TZID=Europe/Berlin:20260126T200000
DTEND;TZID=Europe/Berlin:20260126T230000
SUMMARY:HE 4. Liga Gr. 4 Grossaffoltern vs Regio Moossee II (2)
UID:52a64ce8-a81c-49dd-934b-7f31c2fff659
STATUS:CONFIRMED
LAST-MODIFIED:20260217T213350Z
DESCRIPTION:4. Liga Herren Gruppe 4\nBegegnungs-Nr: 2\nHeim: Grossaffoltern\nGast: Regio Moossee II\n\nAdresse: Schulhausstrasse 5 \, 3257 Grossaffoltern\n
LOCATION:Schulhausstrasse 5 \, 3257 Grossaffoltern
CATEGORIES:Saison 2025/26
END:VEVENT
END:VCALENDAR
