BEGIN:VCALENDAR
PRODID:-//nuDatenautomaten//framework iCal4j //DE
VERSION:2.0
CALSCALE:GREGORIAN
BEGIN:VTIMEZONE
TZID:Europe/Berlin
LAST-MODIFIED:20260306T231828Z
TZURL:https://www.tzurl.org/zoneinfo/Europe/Berlin
X-LIC-LOCATION:Europe/Berlin
X-PROLEPTIC-TZNAME:LMT
BEGIN:STANDARD
TZNAME:CET
TZOFFSETFROM:+005328
TZOFFSETTO:+0100
DTSTART:18930401T000000
END:STANDARD
BEGIN:DAYLIGHT
TZNAME:CEST
TZOFFSETFROM:+0100
TZOFFSETTO:+0200
DTSTART:19160430T230000
RDATE:19400401T020000
RDATE:19430329T020000
RDATE:19460414T020000
RDATE:19470406T030000
RDATE:19480418T020000
RDATE:19490410T020000
RDATE:19800406T020000
END:DAYLIGHT
BEGIN:STANDARD
TZNAME:CET
TZOFFSETFROM:+0200
TZOFFSETTO:+0100
DTSTART:19161001T010000
RDATE:19421102T030000
RDATE:19431004T030000
RDATE:19441002T030000
RDATE:19451118T030000
RDATE:19461007T030000
END:STANDARD
BEGIN:DAYLIGHT
TZNAME:CEST
TZOFFSETFROM:+0100
TZOFFSETTO:+0200
DTSTART:19170416T020000
RRULE:FREQ=YEARLY;UNTIL=19180415T010000Z;BYMONTH=4;BYDAY=3MO
END:DAYLIGHT
BEGIN:STANDARD
TZNAME:CET
TZOFFSETFROM:+0200
TZOFFSETTO:+0100
DTSTART:19170917T030000
RRULE:FREQ=YEARLY;UNTIL=19180916T010000Z;BYMONTH=9;BYDAY=3MO
END:STANDARD
BEGIN:DAYLIGHT
TZNAME:CEST
TZOFFSETFROM:+0100
TZOFFSETTO:+0200
DTSTART:19440403T020000
RRULE:FREQ=YEARLY;UNTIL=19450402T010000Z;BYMONTH=4;BYDAY=1MO
END:DAYLIGHT
BEGIN:DAYLIGHT
TZNAME:CEMT
TZOFFSETFROM:+0200
TZOFFSETTO:+0300
DTSTART:19450524T020000
RDATE:19470511T030000
END:DAYLIGHT
BEGIN:DAYLIGHT
TZNAME:CEST
TZOFFSETFROM:+0300
TZOFFSETTO:+0200
DTSTART:19450924T030000
RDATE:19470629T030000
END:DAYLIGHT
BEGIN:STANDARD
TZNAME:CET
TZOFFSETFROM:+0100
TZOFFSETTO:+0100
DTSTART:19460101T000000
RDATE:19800101T000000
END:STANDARD
BEGIN:STANDARD
TZNAME:CET
TZOFFSETFROM:+0200
TZOFFSETTO:+0100
DTSTART:19471005T030000
RRULE:FREQ=YEARLY;UNTIL=19491002T010000Z;BYMONTH=10;BYDAY=1SU
END:STANDARD
BEGIN:STANDARD
TZNAME:CET
TZOFFSETFROM:+0200
TZOFFSETTO:+0100
DTSTART:19800928T030000
RRULE:FREQ=YEARLY;UNTIL=19950924T010000Z;BYMONTH=9;BYDAY=-1SU
END:STANDARD
BEGIN:DAYLIGHT
TZNAME:CEST
TZOFFSETFROM:+0100
TZOFFSETTO:+0200
DTSTART:19810329T020000
RRULE:FREQ=YEARLY;BYMONTH=3;BYDAY=-1SU
END:DAYLIGHT
BEGIN:STANDARD
TZNAME:CET
TZOFFSETFROM:+0200
TZOFFSETTO:+0100
DTSTART:19961027T030000
RRULE:FREQ=YEARLY;BYMONTH=10;BYDAY=-1SU
END:STANDARD
END:VTIMEZONE
BEGIN:VEVENT
DTSTAMP:20260424T134209Z
DTSTART;TZID=Europe/Berlin:20250917T194500
DTEND;TZID=Europe/Berlin:20250917T224500
SUMMARY:Ligue 3 Gr.1 Ph.A Onex II vs Carouge V (4)
UID:74fe122c-c858-47f9-9791-bf356037ffda
STATUS:CONFIRMED
LAST-MODIFIED:20250918T142942Z
DESCRIPTION:3ème ligue Homme Gr.1 Phase A\nBegegnungs-Nr: 4\nHeim: Onex II\nGast: Carouge V\n
LOCATION:
CATEGORIES:Saison 2025/26
END:VEVENT
BEGIN:VEVENT
DTSTAMP:20260424T134209Z
DTSTART;TZID=Europe/Berlin:20251203T194500
DTEND;TZID=Europe/Berlin:20251203T224500
SUMMARY:Ligue 3 Gr.1 Ph.A Onex II vs Silver Star V (29)
UID:5fb8a959-393a-4516-8e74-d210be362856
STATUS:CONFIRMED
LAST-MODIFIED:20251204T083124Z
DESCRIPTION:3ème ligue Homme Gr.1 Phase A\nBegegnungs-Nr: 29\nHeim: Onex II\nGast: Silver Star V\n
LOCATION:
CATEGORIES:Saison 2025/26
END:VEVENT
BEGIN:VEVENT
DTSTAMP:20260424T134209Z
DTSTART;TZID=Europe/Berlin:20251126T194500
DTEND;TZID=Europe/Berlin:20251126T224500
SUMMARY:Ligue 3 Gr.1 Ph.A Onex II vs Vernier II (25)
UID:5f8b9b43-34a3-4d78-a2aa-e12b0ab18515
STATUS:CONFIRMED
LAST-MODIFIED:20251127T112846Z
DESCRIPTION:3ème ligue Homme Gr.1 Phase A\nBegegnungs-Nr: 25\nHeim: Onex II\nGast: Vernier II\n
LOCATION:
CATEGORIES:Saison 2025/26
END:VEVENT
BEGIN:VEVENT
DTSTAMP:20260424T134209Z
DTSTART;TZID=Europe/Berlin:20251029T194500
DTEND;TZID=Europe/Berlin:20251029T224500
SUMMARY:Ligue 3 Gr.1 Ph.A Onex II vs Rapid-Genève II (18)
UID:3a1e8103-d5fd-4e1a-8803-a13ffad28747
STATUS:CONFIRMED
LAST-MODIFIED:20251030T121931Z
DESCRIPTION:3ème ligue Homme Gr.1 Phase A\nBegegnungs-Nr: 18\nHeim: Onex II\nGast: Rapid-Genève II\n
LOCATION:
CATEGORIES:Saison 2025/26
END:VEVENT
BEGIN:VEVENT
DTSTAMP:20260424T134209Z
DTSTART;TZID=Europe/Berlin:20250924T194500
DTEND;TZID=Europe/Berlin:20250924T224500
SUMMARY:Ligue 3 Gr.1 Ph.A Onex II vs ZZ-Lancy VII (8)
UID:8a32850a-8786-4e39-9c03-677730814344
STATUS:CONFIRMED
LAST-MODIFIED:20250925T121616Z
DESCRIPTION:3ème ligue Homme Gr.1 Phase A\nBegegnungs-Nr: 8\nHeim: Onex II\nGast: ZZ-Lancy VII\n
LOCATION:
CATEGORIES:Saison 2025/26
END:VEVENT
BEGIN:VEVENT
DTSTAMP:20260424T134209Z
DTSTART;TZID=Europe/Berlin:20260114T194500
DTEND;TZID=Europe/Berlin:20260114T224500
SUMMARY:Ligue 3 Gr.1 Ph.B Onex II vs Meyrin III (3)
UID:16384733-0fdd-4430-8e20-e46124baea17
STATUS:CONFIRMED
LAST-MODIFIED:20260115T134611Z
DESCRIPTION:3ème ligue Homme Gr.1 Phase B\nBegegnungs-Nr: 3\nHeim: Onex II\nGast: Meyrin III\n
LOCATION:
CATEGORIES:Saison 2025/26
END:VEVENT
BEGIN:VEVENT
DTSTAMP:20260424T134209Z
DTSTART;TZID=Europe/Berlin:20260325T194500
DTEND;TZID=Europe/Berlin:20260325T224500
SUMMARY:Ligue 3 Gr.1 Ph.B Onex II vs Rapid-Genève (23)
UID:5bebe1ca-087a-44d5-ac4b-4a1ed31cb633
STATUS:CONFIRMED
LAST-MODIFIED:20260326T141746Z
DESCRIPTION:3ème ligue Homme Gr.1 Phase B\nBegegnungs-Nr: 23\nHeim: Onex II\nGast: Rapid-Genève\n
LOCATION:
CATEGORIES:Saison 2025/26
END:VEVENT
BEGIN:VEVENT
DTSTAMP:20260424T134209Z
DTSTART;TZID=Europe/Berlin:20260318T194500
DTEND;TZID=Europe/Berlin:20260318T224500
SUMMARY:Ligue 3 Gr.1 Ph.B Onex II vs Versoix III (19)
UID:79d55f79-7761-4a38-ab15-3badd50b3207
STATUS:CONFIRMED
LAST-MODIFIED:20260319T131948Z
DESCRIPTION:3ème ligue Homme Gr.1 Phase B\nBegegnungs-Nr: 19\nHeim: Onex II\nGast: Versoix III\n
LOCATION:
CATEGORIES:Saison 2025/26
END:VEVENT
BEGIN:VEVENT
DTSTAMP:20260424T134209Z
DTSTART;TZID=Europe/Berlin:20260218T194500
DTEND;TZID=Europe/Berlin:20260218T224500
SUMMARY:Ligue 3 Gr.1 Ph.B Onex II vs ZZ-Lancy VII (14)
UID:2c2d1591-96d5-4c76-9eb8-514936e69b9c
STATUS:CONFIRMED
LAST-MODIFIED:20260220T075452Z
DESCRIPTION:3ème ligue Homme Gr.1 Phase B\nBegegnungs-Nr: 14\nHeim: Onex II\nGast: ZZ-Lancy VII\n
LOCATION:
CATEGORIES:Saison 2025/26
END:VEVENT
BEGIN:VEVENT
DTSTAMP:20260424T134209Z
DTSTART;TZID=Europe/Berlin:20260211T194500
DTEND;TZID=Europe/Berlin:20260211T224500
SUMMARY:Ligue 3 Gr.1 Ph.B Onex II vs Châtelaine IV (10)
UID:9d112a37-e874-48a6-8c60-a3de2ec753c3
STATUS:CONFIRMED
LAST-MODIFIED:20260212T071820Z
DESCRIPTION:3ème ligue Homme Gr.1 Phase B\nBegegnungs-Nr: 10\nHeim: Onex II\nGast: Châtelaine IV\n
LOCATION:
CATEGORIES:Saison 2025/26
END:VEVENT
BEGIN:VEVENT
DTSTAMP:20260424T134209Z
DTSTART;TZID=Europe/Berlin:20250903T194500
DTEND;TZID=Europe/Berlin:20250903T224500
SUMMARY:Ligue 3 Gr.1 Ph.A Rapid-Genève II vs Onex II (3)
UID:c73bf045-fb89-4938-abc5-4f05a4ac0b05
STATUS:CONFIRMED
LAST-MODIFIED:20250904T142102Z
DESCRIPTION:3ème ligue Homme Gr.1 Phase A\nBegegnungs-Nr: 3\nHeim: Rapid-Genève II\nGast: Onex II\n
LOCATION:
CATEGORIES:Saison 2025/26
END:VEVENT
BEGIN:VEVENT
DTSTAMP:20260424T134209Z
DTSTART;TZID=Europe/Berlin:20251119T200000
DTEND;TZID=Europe/Berlin:20251119T230000
SUMMARY:Ligue 3 Gr.1 Ph.A ZZ-Lancy VII vs Onex II (23)
UID:8c5a4fc2-eff4-49a4-ba2f-b7f069ae5d23
STATUS:CONFIRMED
LAST-MODIFIED:20251119T203345Z
DESCRIPTION:3ème ligue Homme Gr.1 Phase A\nBegegnungs-Nr: 23\nHeim: ZZ-Lancy VII\nGast: Onex II\n
LOCATION:
CATEGORIES:Saison 2025/26
END:VEVENT
BEGIN:VEVENT
DTSTAMP:20260424T134209Z
DTSTART;TZID=Europe/Berlin:20251112T200000
DTEND;TZID=Europe/Berlin:20251112T230000
SUMMARY:Ligue 3 Gr.1 Ph.A Carouge V vs Onex II (19)
UID:926ae997-d1d3-44db-b936-9f4f764f7f21
STATUS:CONFIRMED
LAST-MODIFIED:20251113T133953Z
DESCRIPTION:3ème ligue Homme Gr.1 Phase A\nBegegnungs-Nr: 19\nHeim: Carouge V\nGast: Onex II\n
LOCATION:
CATEGORIES:Saison 2025/26
END:VEVENT
BEGIN:VEVENT
DTSTAMP:20260424T134209Z
DTSTART;TZID=Europe/Berlin:20251015T194500
DTEND;TZID=Europe/Berlin:20251015T224500
SUMMARY:Ligue 3 Gr.1 Ph.A Silver Star V vs Onex II (14)
UID:7074c914-2f05-41ef-a8f3-32579b01809e
STATUS:CONFIRMED
LAST-MODIFIED:20251016T091633Z
DESCRIPTION:3ème ligue Homme Gr.1 Phase A\nBegegnungs-Nr: 14\nHeim: Silver Star V\nGast: Onex II\n
LOCATION:
CATEGORIES:Saison 2025/26
END:VEVENT
BEGIN:VEVENT
DTSTAMP:20260424T134209Z
DTSTART;TZID=Europe/Berlin:20251008T194500
DTEND;TZID=Europe/Berlin:20251008T224500
SUMMARY:Ligue 3 Gr.1 Ph.A Vernier II vs Onex II (10)
UID:5b48a947-fe0f-44a9-a6ab-56fb6ff8a0ec
STATUS:CONFIRMED
LAST-MODIFIED:20251009T085938Z
DESCRIPTION:3ème ligue Homme Gr.1 Phase A\nBegegnungs-Nr: 10\nHeim: Vernier II\nGast: Onex II\n
LOCATION:
CATEGORIES:Saison 2025/26
END:VEVENT
BEGIN:VEVENT
DTSTAMP:20260424T134209Z
DTSTART;TZID=Europe/Berlin:20260128T194500
DTEND;TZID=Europe/Berlin:20260128T224500
SUMMARY:Ligue 3 Gr.1 Ph.B Rapid-Genève vs Onex II (8)
UID:4f82f977-d8a7-435f-8097-d28c66337590
STATUS:CONFIRMED
LAST-MODIFIED:20260129T095042Z
DESCRIPTION:3ème ligue Homme Gr.1 Phase B\nBegegnungs-Nr: 8\nHeim: Rapid-Genève\nGast: Onex II\n
LOCATION:
CATEGORIES:Saison 2025/26
END:VEVENT
BEGIN:VEVENT
DTSTAMP:20260424T134209Z
DTSTART;TZID=Europe/Berlin:20260121T194500
DTEND;TZID=Europe/Berlin:20260121T224500
SUMMARY:Ligue 3 Gr.1 Ph.B Versoix III vs Onex II (4)
UID:dec45626-f45d-4995-8e43-d4c6cf3fb7f8
STATUS:CONFIRMED
LAST-MODIFIED:20260122T093646Z
DESCRIPTION:3ème ligue Homme Gr.1 Phase B\nBegegnungs-Nr: 4\nHeim: Versoix III\nGast: Onex II\n
LOCATION:
CATEGORIES:Saison 2025/26
END:VEVENT
BEGIN:VEVENT
DTSTAMP:20260424T134209Z
DTSTART;TZID=Europe/Berlin:20260429T200000
DTEND;TZID=Europe/Berlin:20260429T230000
SUMMARY:Ligue 3 Gr.1 Ph.B ZZ-Lancy VII vs Onex II (29)
UID:ea1c63fa-7bab-4a92-8a06-85b94e3ed94b
STATUS:CONFIRMED
DESCRIPTION:3ème ligue Homme Gr.1 Phase B\nBegegnungs-Nr: 29\nHeim: ZZ-Lancy VII\nGast: Onex II\n
LOCATION:
CATEGORIES:Saison 2025/26
END:VEVENT
BEGIN:VEVENT
DTSTAMP:20260424T134209Z
DTSTART;TZID=Europe/Berlin:20260401T194500
DTEND;TZID=Europe/Berlin:20260401T224500
SUMMARY:Ligue 3 Gr.1 Ph.B Châtelaine IV vs Onex II (25)
UID:29ffd1e2-6d6e-4ec9-a8e6-e516be7e0602
STATUS:CONFIRMED
LAST-MODIFIED:20260402T064254Z
DESCRIPTION:3ème ligue Homme Gr.1 Phase B\nBegegnungs-Nr: 25\nHeim: Châtelaine IV\nGast: Onex II\n
LOCATION:
CATEGORIES:Saison 2025/26
END:VEVENT
BEGIN:VEVENT
DTSTAMP:20260424T134209Z
DTSTART;TZID=Europe/Berlin:20260311T194500
DTEND;TZID=Europe/Berlin:20260311T224500
SUMMARY:Ligue 3 Gr.1 Ph.B Meyrin III vs Onex II (18)
UID:01918a7e-e074-42f7-aff1-4ce5f55110f2
STATUS:CONFIRMED
LAST-MODIFIED:20260312T135929Z
DESCRIPTION:3ème ligue Homme Gr.1 Phase B\nBegegnungs-Nr: 18\nHeim: Meyrin III\nGast: Onex II\n
LOCATION:
CATEGORIES:Saison 2025/26
END:VEVENT
END:VCALENDAR
