BEGIN:VCALENDAR
PRODID:-//nuDatenautomaten//framework iCal4j //DE
VERSION:2.0
CALSCALE:GREGORIAN
BEGIN:VTIMEZONE
TZID:Europe/Berlin
LAST-MODIFIED:20260306T231828Z
TZURL:https://www.tzurl.org/zoneinfo/Europe/Berlin
X-LIC-LOCATION:Europe/Berlin
X-PROLEPTIC-TZNAME:LMT
BEGIN:STANDARD
TZNAME:CET
TZOFFSETFROM:+005328
TZOFFSETTO:+0100
DTSTART:18930401T000000
END:STANDARD
BEGIN:DAYLIGHT
TZNAME:CEST
TZOFFSETFROM:+0100
TZOFFSETTO:+0200
DTSTART:19160430T230000
RDATE:19400401T020000
RDATE:19430329T020000
RDATE:19460414T020000
RDATE:19470406T030000
RDATE:19480418T020000
RDATE:19490410T020000
RDATE:19800406T020000
END:DAYLIGHT
BEGIN:STANDARD
TZNAME:CET
TZOFFSETFROM:+0200
TZOFFSETTO:+0100
DTSTART:19161001T010000
RDATE:19421102T030000
RDATE:19431004T030000
RDATE:19441002T030000
RDATE:19451118T030000
RDATE:19461007T030000
END:STANDARD
BEGIN:DAYLIGHT
TZNAME:CEST
TZOFFSETFROM:+0100
TZOFFSETTO:+0200
DTSTART:19170416T020000
RRULE:FREQ=YEARLY;UNTIL=19180415T010000Z;BYMONTH=4;BYDAY=3MO
END:DAYLIGHT
BEGIN:STANDARD
TZNAME:CET
TZOFFSETFROM:+0200
TZOFFSETTO:+0100
DTSTART:19170917T030000
RRULE:FREQ=YEARLY;UNTIL=19180916T010000Z;BYMONTH=9;BYDAY=3MO
END:STANDARD
BEGIN:DAYLIGHT
TZNAME:CEST
TZOFFSETFROM:+0100
TZOFFSETTO:+0200
DTSTART:19440403T020000
RRULE:FREQ=YEARLY;UNTIL=19450402T010000Z;BYMONTH=4;BYDAY=1MO
END:DAYLIGHT
BEGIN:DAYLIGHT
TZNAME:CEMT
TZOFFSETFROM:+0200
TZOFFSETTO:+0300
DTSTART:19450524T020000
RDATE:19470511T030000
END:DAYLIGHT
BEGIN:DAYLIGHT
TZNAME:CEST
TZOFFSETFROM:+0300
TZOFFSETTO:+0200
DTSTART:19450924T030000
RDATE:19470629T030000
END:DAYLIGHT
BEGIN:STANDARD
TZNAME:CET
TZOFFSETFROM:+0100
TZOFFSETTO:+0100
DTSTART:19460101T000000
RDATE:19800101T000000
END:STANDARD
BEGIN:STANDARD
TZNAME:CET
TZOFFSETFROM:+0200
TZOFFSETTO:+0100
DTSTART:19471005T030000
RRULE:FREQ=YEARLY;UNTIL=19491002T010000Z;BYMONTH=10;BYDAY=1SU
END:STANDARD
BEGIN:STANDARD
TZNAME:CET
TZOFFSETFROM:+0200
TZOFFSETTO:+0100
DTSTART:19800928T030000
RRULE:FREQ=YEARLY;UNTIL=19950924T010000Z;BYMONTH=9;BYDAY=-1SU
END:STANDARD
BEGIN:DAYLIGHT
TZNAME:CEST
TZOFFSETFROM:+0100
TZOFFSETTO:+0200
DTSTART:19810329T020000
RRULE:FREQ=YEARLY;BYMONTH=3;BYDAY=-1SU
END:DAYLIGHT
BEGIN:STANDARD
TZNAME:CET
TZOFFSETFROM:+0200
TZOFFSETTO:+0100
DTSTART:19961027T030000
RRULE:FREQ=YEARLY;BYMONTH=10;BYDAY=-1SU
END:STANDARD
END:VTIMEZONE
BEGIN:VEVENT
DTSTAMP:20260424T115010Z
DTSTART;TZID=Europe/Berlin:20251117T193000
DTEND;TZID=Europe/Berlin:20251117T223000
SUMMARY:ME L5 Gr 1\, Tours 1&2 Brig-Glis II vs Sierre V (0)
UID:50b8c40a-0d81-4c18-90d1-5655a859bed5
STATUS:CONFIRMED
LAST-MODIFIED:20251121T151447Z
DESCRIPTION:5ème ligue Hommes Groupe 1\, Tours 1&2\nBegegnungs-Nr: 0\nHeim: Brig-Glis II\nGast: Sierre V\n\nAdresse: Alte Simplonstrasse 53\, 3900 Brig\n
LOCATION:Alte Simplonstrasse 53\, 3900 Brig
CATEGORIES:Saison 2025/26
END:VEVENT
BEGIN:VEVENT
DTSTAMP:20260424T115010Z
DTSTART;TZID=Europe/Berlin:20250908T193000
DTEND;TZID=Europe/Berlin:20250908T223000
SUMMARY:ME L5 Gr 1\, Tours 1&2 Brig-Glis II vs Grône II (0)
UID:820688e7-4bb3-473a-8e57-9bde262505de
STATUS:CONFIRMED
LAST-MODIFIED:20250910T230657Z
DESCRIPTION:5ème ligue Hommes Groupe 1\, Tours 1&2\nBegegnungs-Nr: 0\nHeim: Brig-Glis II\nGast: Grône II\n\nAdresse: Alte Simplonstrasse 53\, 3900 Brig\n
LOCATION:Alte Simplonstrasse 53\, 3900 Brig
CATEGORIES:Saison 2025/26
END:VEVENT
BEGIN:VEVENT
DTSTAMP:20260424T115010Z
DTSTART;TZID=Europe/Berlin:20250929T193000
DTEND;TZID=Europe/Berlin:20250929T223000
SUMMARY:ME L5 Gr 1\, Tours 1&2 Brig-Glis II vs Gampel-Steg III (0)
UID:c54bbc16-3d75-4268-bf2c-e5fc8b7de0ca
STATUS:CONFIRMED
LAST-MODIFIED:20250930T095829Z
DESCRIPTION:5ème ligue Hommes Groupe 1\, Tours 1&2\nBegegnungs-Nr: 0\nHeim: Brig-Glis II\nGast: Gampel-Steg III\n\nAdresse: Alte Simplonstrasse 53\, 3900 Brig\n
LOCATION:Alte Simplonstrasse 53\, 3900 Brig
CATEGORIES:Saison 2025/26
END:VEVENT
BEGIN:VEVENT
DTSTAMP:20260424T115010Z
DTSTART;TZID=Europe/Berlin:20251006T193000
DTEND;TZID=Europe/Berlin:20251006T223000
SUMMARY:ME L5 Gr 1\, Tours 1&2 Brig-Glis II vs Sion IV (0)
UID:0ccb3b18-c5f2-4dbb-bc4f-2feaf089ae5f
STATUS:CONFIRMED
LAST-MODIFIED:20251006T212523Z
DESCRIPTION:5ème ligue Hommes Groupe 1\, Tours 1&2\nBegegnungs-Nr: 0\nHeim: Brig-Glis II\nGast: Sion IV\n\nAdresse: Alte Simplonstrasse 53\, 3900 Brig\n
LOCATION:Alte Simplonstrasse 53\, 3900 Brig
CATEGORIES:Saison 2025/26
END:VEVENT
BEGIN:VEVENT
DTSTAMP:20260424T115010Z
DTSTART;TZID=Europe/Berlin:20251027T193000
DTEND;TZID=Europe/Berlin:20251027T223000
SUMMARY:ME L5 Gr 1\, Tours 1&2 Brig-Glis II vs Martigny IV (0)
UID:be916381-06c9-43b2-8dfc-c921300f0379
STATUS:CONFIRMED
LAST-MODIFIED:20251028T113342Z
DESCRIPTION:5ème ligue Hommes Groupe 1\, Tours 1&2\nBegegnungs-Nr: 0\nHeim: Brig-Glis II\nGast: Martigny IV\n\nAdresse: Alte Simplonstrasse 53\, 3900 Brig\n
LOCATION:Alte Simplonstrasse 53\, 3900 Brig
CATEGORIES:Saison 2025/26
END:VEVENT
BEGIN:VEVENT
DTSTAMP:20260424T115010Z
DTSTART;TZID=Europe/Berlin:20260119T193000
DTEND;TZID=Europe/Berlin:20260119T223000
SUMMARY:ME L6 Gr 1\, Tours 3&4 Brig-Glis II vs Martigny VI (0)
UID:1b53658d-c13c-4653-b746-d4d863469a1c
STATUS:CONFIRMED
LAST-MODIFIED:20260119T233508Z
DESCRIPTION:6ème ligue Hommes Groupe 1\, Tours 3&4\nBegegnungs-Nr: 0\nHeim: Brig-Glis II\nGast: Martigny VI\n\nAdresse: Alte Simplonstrasse 53\, 3900 Brig\n
LOCATION:Alte Simplonstrasse 53\, 3900 Brig
CATEGORIES:Saison 2025/26
END:VEVENT
BEGIN:VEVENT
DTSTAMP:20260424T115010Z
DTSTART;TZID=Europe/Berlin:20260209T193000
DTEND;TZID=Europe/Berlin:20260209T223000
SUMMARY:ME L6 Gr 1\, Tours 3&4 Brig-Glis II vs Sion V (0)
UID:39b162ae-356b-44df-bb1b-df73ba395b2d
STATUS:CONFIRMED
LAST-MODIFIED:20260210T114756Z
DESCRIPTION:6ème ligue Hommes Groupe 1\, Tours 3&4\nBegegnungs-Nr: 0\nHeim: Brig-Glis II\nGast: Sion V\n\nAdresse: Alte Simplonstrasse 53\, 3900 Brig\n
LOCATION:Alte Simplonstrasse 53\, 3900 Brig
CATEGORIES:Saison 2025/26
END:VEVENT
BEGIN:VEVENT
DTSTAMP:20260424T115010Z
DTSTART;TZID=Europe/Berlin:20260309T193000
DTEND;TZID=Europe/Berlin:20260309T223000
SUMMARY:ME L6 Gr 1\, Tours 3&4 Brig-Glis II vs Sierre VI (0)
UID:ce921eee-9f25-488d-b59c-adb167bde0d9
STATUS:CONFIRMED
LAST-MODIFIED:20260310T110003Z
DESCRIPTION:6ème ligue Hommes Groupe 1\, Tours 3&4\nBegegnungs-Nr: 0\nHeim: Brig-Glis II\nGast: Sierre VI\n\nAdresse: Alte Simplonstrasse 53\, 3900 Brig\n
LOCATION:Alte Simplonstrasse 53\, 3900 Brig
CATEGORIES:Saison 2025/26
END:VEVENT
BEGIN:VEVENT
DTSTAMP:20260424T115010Z
DTSTART;TZID=Europe/Berlin:20260330T193000
DTEND;TZID=Europe/Berlin:20260330T223000
SUMMARY:ME L6 Gr 1\, Tours 3&4 Brig-Glis II vs Grône III (0)
UID:8fa1f534-3c38-4454-b8f8-7f5b39022966
STATUS:CONFIRMED
LAST-MODIFIED:20260401T092514Z
DESCRIPTION:6ème ligue Hommes Groupe 1\, Tours 3&4\nBegegnungs-Nr: 0\nHeim: Brig-Glis II\nGast: Grône III\n\nAdresse: Alte Simplonstrasse 53\, 3900 Brig\n
LOCATION:Alte Simplonstrasse 53\, 3900 Brig
CATEGORIES:Saison 2025/26
END:VEVENT
BEGIN:VEVENT
DTSTAMP:20260424T115010Z
DTSTART;TZID=Europe/Berlin:20260427T193000
DTEND;TZID=Europe/Berlin:20260427T223000
SUMMARY:ME L6 Gr 1\, Tours 3&4 Brig-Glis II vs Stalden III (0)
UID:ecbe8b0b-0f72-47ec-8ebc-40ae4e01e90b
STATUS:CONFIRMED
DESCRIPTION:6ème ligue Hommes Groupe 1\, Tours 3&4\nBegegnungs-Nr: 0\nHeim: Brig-Glis II\nGast: Stalden III\n\nAdresse: Alte Simplonstrasse 53\, 3900 Brig\n
LOCATION:Alte Simplonstrasse 53\, 3900 Brig
CATEGORIES:Saison 2025/26
END:VEVENT
BEGIN:VEVENT
DTSTAMP:20260424T115010Z
DTSTART;TZID=Europe/Berlin:20251107T200000
DTEND;TZID=Europe/Berlin:20251107T230000
SUMMARY:ME L5 Gr 1\, Tours 1&2 Grône II vs Brig-Glis II (0)
UID:e9e9476a-6545-4002-af32-eccd6399954e
STATUS:CONFIRMED
LAST-MODIFIED:20251109T122342Z
DESCRIPTION:5ème ligue Hommes Groupe 1\, Tours 1&2\nBegegnungs-Nr: 0\nHeim: Grône II\nGast: Brig-Glis II\n\nAdresse:  Rue Centrale\,  \, Rue de la Piscine\, \, 3979 Grône\n
LOCATION: Rue Centrale\,  \, Rue de la Piscine\, \, 3979 Grône
CATEGORIES:Saison 2025/26
END:VEVENT
BEGIN:VEVENT
DTSTAMP:20260424T115010Z
DTSTART;TZID=Europe/Berlin:20251125T193000
DTEND;TZID=Europe/Berlin:20251125T223000
SUMMARY:ME L5 Gr 1\, Tours 1&2 Gampel-Steg III vs Brig-Glis II (0)
UID:dcde85b8-d795-4dc3-9d1e-c36198e7c1e1
STATUS:CONFIRMED
LAST-MODIFIED:20251126T124805Z
DESCRIPTION:5ème ligue Hommes Groupe 1\, Tours 1&2\nBegegnungs-Nr: 0\nHeim: Gampel-Steg III\nGast: Brig-Glis II\n\nAdresse: Bachofen\, 3949 Hohtenn\n
LOCATION:Bachofen\, 3949 Hohtenn
CATEGORIES:Saison 2025/26
END:VEVENT
BEGIN:VEVENT
DTSTAMP:20260424T115010Z
DTSTART;TZID=Europe/Berlin:20251210T190000
DTEND;TZID=Europe/Berlin:20251210T220000
SUMMARY:ME L5 Gr 1\, Tours 1&2 Sion IV vs Brig-Glis II (0)
UID:c883721b-a57a-48ca-b57f-9dd1cf07b23a
STATUS:CONFIRMED
LAST-MODIFIED:20251211T055754Z
DESCRIPTION:5ème ligue Hommes Groupe 1\, Tours 1&2\nBegegnungs-Nr: 0\nHeim: Sion IV\nGast: Brig-Glis II\n\nAdresse: Rue du Chanoine-Berchtold 17\, 1950 Sion\n
LOCATION:Rue du Chanoine-Berchtold 17\, 1950 Sion
CATEGORIES:Saison 2025/26
END:VEVENT
BEGIN:VEVENT
DTSTAMP:20260424T115010Z
DTSTART;TZID=Europe/Berlin:20250904T200000
DTEND;TZID=Europe/Berlin:20250904T230000
SUMMARY:ME L5 Gr 1\, Tours 1&2 Martigny IV vs Brig-Glis II (0)
UID:f304e619-6c0c-47d3-8d91-98b11bf12a39
STATUS:CONFIRMED
LAST-MODIFIED:20250905T182755Z
DESCRIPTION:5ème ligue Hommes Groupe 1\, Tours 1&2\nBegegnungs-Nr: 0\nHeim: Martigny IV\nGast: Brig-Glis II\n\nAdresse: Rue des Ecoles 9\, 1920 Martigny\n
LOCATION:Rue des Ecoles 9\, 1920 Martigny
CATEGORIES:Saison 2025/26
END:VEVENT
BEGIN:VEVENT
DTSTAMP:20260424T115010Z
DTSTART;TZID=Europe/Berlin:20250924T193000
DTEND;TZID=Europe/Berlin:20250924T223000
SUMMARY:ME L5 Gr 1\, Tours 1&2 Sierre V vs Brig-Glis II (0)
UID:bc9671de-c399-4ab5-8cab-9805fd2a2c1c
STATUS:CONFIRMED
LAST-MODIFIED:20250925T232439Z
DESCRIPTION:5ème ligue Hommes Groupe 1\, Tours 1&2\nBegegnungs-Nr: 0\nHeim: Sierre V\nGast: Brig-Glis II\n\nAdresse: Rte des Liddes 6\, 3960 Sierre\n
LOCATION:Rte des Liddes 6\, 3960 Sierre
CATEGORIES:Saison 2025/26
END:VEVENT
BEGIN:VEVENT
DTSTAMP:20260424T115010Z
DTSTART;TZID=Europe/Berlin:20260116T194500
DTEND;TZID=Europe/Berlin:20260116T224500
SUMMARY:ME L6 Gr 1\, Tours 3&4 Sierre VI vs Brig-Glis II (0)
UID:4f94f489-37c5-4f18-a4f2-ecb074766e23
STATUS:CONFIRMED
LAST-MODIFIED:20260122T225257Z
DESCRIPTION:6ème ligue Hommes Groupe 1\, Tours 3&4\nBegegnungs-Nr: 0\nHeim: Sierre VI\nGast: Brig-Glis II\n\nAdresse: Rte des Liddes 6\, 3960 Sierre\n
LOCATION:Rte des Liddes 6\, 3960 Sierre
CATEGORIES:Saison 2025/26
END:VEVENT
BEGIN:VEVENT
DTSTAMP:20260424T115010Z
DTSTART;TZID=Europe/Berlin:20260206T200000
DTEND;TZID=Europe/Berlin:20260206T230000
SUMMARY:ME L6 Gr 1\, Tours 3&4 Grône III vs Brig-Glis II (0)
UID:6700c3d2-d3dd-42b8-8675-aed5b95b4bcd
STATUS:CONFIRMED
LAST-MODIFIED:20260208T181626Z
DESCRIPTION:6ème ligue Hommes Groupe 1\, Tours 3&4\nBegegnungs-Nr: 0\nHeim: Grône III\nGast: Brig-Glis II\n\nAdresse:  Rue Centrale\,  \, Rue de la Piscine\, \, 3979 Grône\n
LOCATION: Rue Centrale\,  \, Rue de la Piscine\, \, 3979 Grône
CATEGORIES:Saison 2025/26
END:VEVENT
BEGIN:VEVENT
DTSTAMP:20260424T115010Z
DTSTART;TZID=Europe/Berlin:20260223T200000
DTEND;TZID=Europe/Berlin:20260223T230000
SUMMARY:ME L6 Gr 1\, Tours 3&4 Stalden III vs Brig-Glis II (0)
UID:35e2cfbf-6a8b-476b-96c5-13b06366b8a9
STATUS:CONFIRMED
LAST-MODIFIED:20260303T223859Z
DESCRIPTION:6ème ligue Hommes Groupe 1\, Tours 3&4\nBegegnungs-Nr: 0\nHeim: Stalden III\nGast: Brig-Glis II\n\nAdresse: -\, 3922 Stalden\n
LOCATION:-\, 3922 Stalden
CATEGORIES:Saison 2025/26
END:VEVENT
BEGIN:VEVENT
DTSTAMP:20260424T115010Z
DTSTART;TZID=Europe/Berlin:20260327T193000
DTEND;TZID=Europe/Berlin:20260327T223000
SUMMARY:ME L6 Gr 1\, Tours 3&4 Martigny VI vs Brig-Glis II (0)
UID:f1b8d680-1ab2-4f92-ac2f-63d1ab7e86af
STATUS:CONFIRMED
LAST-MODIFIED:20260330T184721Z
DESCRIPTION:6ème ligue Hommes Groupe 1\, Tours 3&4\nBegegnungs-Nr: 0\nHeim: Martigny VI\nGast: Brig-Glis II\n\nAdresse: Rue des Ecoles 9\, 1920 Martigny\n
LOCATION:Rue des Ecoles 9\, 1920 Martigny
CATEGORIES:Saison 2025/26
END:VEVENT
BEGIN:VEVENT
DTSTAMP:20260424T115010Z
DTSTART;TZID=Europe/Berlin:20260424T190000
DTEND;TZID=Europe/Berlin:20260424T220000
SUMMARY:ME L6 Gr 1\, Tours 3&4 Sion V vs Brig-Glis II (0)
UID:1ea63f37-2e94-4275-8b7c-e2ad2e830802
STATUS:CONFIRMED
DESCRIPTION:6ème ligue Hommes Groupe 1\, Tours 3&4\nBegegnungs-Nr: 0\nHeim: Sion V\nGast: Brig-Glis II\n\nAdresse: Rue du Chanoine-Berchtold 17\, 1950 Sion\n
LOCATION:Rue du Chanoine-Berchtold 17\, 1950 Sion
CATEGORIES:Saison 2025/26
END:VEVENT
END:VCALENDAR
