BEGIN:VCALENDAR
PRODID:-//nuDatenautomaten//framework iCal4j //DE
VERSION:2.0
CALSCALE:GREGORIAN
BEGIN:VTIMEZONE
TZID:Europe/Berlin
LAST-MODIFIED:20260306T231828Z
TZURL:https://www.tzurl.org/zoneinfo/Europe/Berlin
X-LIC-LOCATION:Europe/Berlin
X-PROLEPTIC-TZNAME:LMT
BEGIN:STANDARD
TZNAME:CET
TZOFFSETFROM:+005328
TZOFFSETTO:+0100
DTSTART:18930401T000000
END:STANDARD
BEGIN:DAYLIGHT
TZNAME:CEST
TZOFFSETFROM:+0100
TZOFFSETTO:+0200
DTSTART:19160430T230000
RDATE:19400401T020000
RDATE:19430329T020000
RDATE:19460414T020000
RDATE:19470406T030000
RDATE:19480418T020000
RDATE:19490410T020000
RDATE:19800406T020000
END:DAYLIGHT
BEGIN:STANDARD
TZNAME:CET
TZOFFSETFROM:+0200
TZOFFSETTO:+0100
DTSTART:19161001T010000
RDATE:19421102T030000
RDATE:19431004T030000
RDATE:19441002T030000
RDATE:19451118T030000
RDATE:19461007T030000
END:STANDARD
BEGIN:DAYLIGHT
TZNAME:CEST
TZOFFSETFROM:+0100
TZOFFSETTO:+0200
DTSTART:19170416T020000
RRULE:FREQ=YEARLY;UNTIL=19180415T010000Z;BYMONTH=4;BYDAY=3MO
END:DAYLIGHT
BEGIN:STANDARD
TZNAME:CET
TZOFFSETFROM:+0200
TZOFFSETTO:+0100
DTSTART:19170917T030000
RRULE:FREQ=YEARLY;UNTIL=19180916T010000Z;BYMONTH=9;BYDAY=3MO
END:STANDARD
BEGIN:DAYLIGHT
TZNAME:CEST
TZOFFSETFROM:+0100
TZOFFSETTO:+0200
DTSTART:19440403T020000
RRULE:FREQ=YEARLY;UNTIL=19450402T010000Z;BYMONTH=4;BYDAY=1MO
END:DAYLIGHT
BEGIN:DAYLIGHT
TZNAME:CEMT
TZOFFSETFROM:+0200
TZOFFSETTO:+0300
DTSTART:19450524T020000
RDATE:19470511T030000
END:DAYLIGHT
BEGIN:DAYLIGHT
TZNAME:CEST
TZOFFSETFROM:+0300
TZOFFSETTO:+0200
DTSTART:19450924T030000
RDATE:19470629T030000
END:DAYLIGHT
BEGIN:STANDARD
TZNAME:CET
TZOFFSETFROM:+0100
TZOFFSETTO:+0100
DTSTART:19460101T000000
RDATE:19800101T000000
END:STANDARD
BEGIN:STANDARD
TZNAME:CET
TZOFFSETFROM:+0200
TZOFFSETTO:+0100
DTSTART:19471005T030000
RRULE:FREQ=YEARLY;UNTIL=19491002T010000Z;BYMONTH=10;BYDAY=1SU
END:STANDARD
BEGIN:STANDARD
TZNAME:CET
TZOFFSETFROM:+0200
TZOFFSETTO:+0100
DTSTART:19800928T030000
RRULE:FREQ=YEARLY;UNTIL=19950924T010000Z;BYMONTH=9;BYDAY=-1SU
END:STANDARD
BEGIN:DAYLIGHT
TZNAME:CEST
TZOFFSETFROM:+0100
TZOFFSETTO:+0200
DTSTART:19810329T020000
RRULE:FREQ=YEARLY;BYMONTH=3;BYDAY=-1SU
END:DAYLIGHT
BEGIN:STANDARD
TZNAME:CET
TZOFFSETFROM:+0200
TZOFFSETTO:+0100
DTSTART:19961027T030000
RRULE:FREQ=YEARLY;BYMONTH=10;BYDAY=-1SU
END:STANDARD
END:VTIMEZONE
BEGIN:VEVENT
DTSTAMP:20260424T152510Z
DTSTART;TZID=Europe/Berlin:20250902T200000
DTEND;TZID=Europe/Berlin:20250902T230000
SUMMARY:Ligue 2 Gr.2\, Ph.A Châtelaine IV vs Châtelaine III (3)
UID:4a0e9017-2ab9-4852-9ee1-6f071540e5ed
STATUS:CONFIRMED
LAST-MODIFIED:20250904T112943Z
DESCRIPTION:2ème ligue Homme Gr.2 Phase A\nBegegnungs-Nr: 3\nHeim: Châtelaine IV\nGast: Châtelaine III\n
LOCATION:
CATEGORIES:Saison 2025/26
END:VEVENT
BEGIN:VEVENT
DTSTAMP:20260424T152510Z
DTSTART;TZID=Europe/Berlin:20251118T200000
DTEND;TZID=Europe/Berlin:20251118T230000
SUMMARY:Ligue 2 Gr.2\, Ph.A Châtelaine IV vs ZZ-Lancy V (24)
UID:1ebb764c-f668-4883-90cf-f991d2ee75f7
STATUS:CONFIRMED
LAST-MODIFIED:20251119T202941Z
DESCRIPTION:2ème ligue Homme Gr.2 Phase A\nBegegnungs-Nr: 24\nHeim: Châtelaine IV\nGast: ZZ-Lancy V\n
LOCATION:
CATEGORIES:Saison 2025/26
END:VEVENT
BEGIN:VEVENT
DTSTAMP:20260424T152510Z
DTSTART;TZID=Europe/Berlin:20251111T200000
DTEND;TZID=Europe/Berlin:20251111T230000
SUMMARY:Ligue 2 Gr.2\, Ph.A Châtelaine IV vs Onex (21)
UID:5bd46f07-1f38-4d4a-a06f-7f429aaba4b3
STATUS:CONFIRMED
LAST-MODIFIED:20251112T134005Z
DESCRIPTION:2ème ligue Homme Gr.2 Phase A\nBegegnungs-Nr: 21\nHeim: Châtelaine IV\nGast: Onex\n
LOCATION:
CATEGORIES:Saison 2025/26
END:VEVENT
BEGIN:VEVENT
DTSTAMP:20260424T152510Z
DTSTART;TZID=Europe/Berlin:20251014T200000
DTEND;TZID=Europe/Berlin:20251014T230000
SUMMARY:Ligue 2 Gr.2\, Ph.A Châtelaine IV vs Silver Star IV (15)
UID:4261ea46-f082-4f37-81e7-ad701b3c8bab
STATUS:CONFIRMED
LAST-MODIFIED:20250830T132837Z
DESCRIPTION:2ème ligue Homme Gr.2 Phase A\nBegegnungs-Nr: 15\nHeim: Châtelaine IV\nGast: Silver Star IV\n
LOCATION:
CATEGORIES:Saison 2025/26
END:VEVENT
BEGIN:VEVENT
DTSTAMP:20260424T152510Z
DTSTART;TZID=Europe/Berlin:20251007T200000
DTEND;TZID=Europe/Berlin:20251007T230000
SUMMARY:Ligue 2 Gr.2\, Ph.A Châtelaine IV vs Bernex II (12)
UID:3b107ade-2ddb-4760-a57f-45b50ff8121d
STATUS:CONFIRMED
LAST-MODIFIED:20251008T070342Z
DESCRIPTION:2ème ligue Homme Gr.2 Phase A\nBegegnungs-Nr: 12\nHeim: Châtelaine IV\nGast: Bernex II\n
LOCATION:
CATEGORIES:Saison 2025/26
END:VEVENT
BEGIN:VEVENT
DTSTAMP:20260424T152510Z
DTSTART;TZID=Europe/Berlin:20260128T194500
DTEND;TZID=Europe/Berlin:20260128T224500
SUMMARY:Ligue 3 Gr.1 Ph.B Châtelaine IV vs Versoix III (7)
UID:4b43e95a-4df8-4031-b95f-fe26633770f6
STATUS:CONFIRMED
LAST-MODIFIED:20260129T094939Z
DESCRIPTION:3ème ligue Homme Gr.1 Phase B\nBegegnungs-Nr: 7\nHeim: Châtelaine IV\nGast: Versoix III\n
LOCATION:
CATEGORIES:Saison 2025/26
END:VEVENT
BEGIN:VEVENT
DTSTAMP:20260424T152510Z
DTSTART;TZID=Europe/Berlin:20260401T194500
DTEND;TZID=Europe/Berlin:20260401T224500
SUMMARY:Ligue 3 Gr.1 Ph.B Châtelaine IV vs Onex II (25)
UID:29ffd1e2-6d6e-4ec9-a8e6-e516be7e0602
STATUS:CONFIRMED
LAST-MODIFIED:20260402T064254Z
DESCRIPTION:3ème ligue Homme Gr.1 Phase B\nBegegnungs-Nr: 25\nHeim: Châtelaine IV\nGast: Onex II\n
LOCATION:
CATEGORIES:Saison 2025/26
END:VEVENT
BEGIN:VEVENT
DTSTAMP:20260424T152510Z
DTSTART;TZID=Europe/Berlin:20260318T194500
DTEND;TZID=Europe/Berlin:20260318T224500
SUMMARY:Ligue 3 Gr.1 Ph.B Châtelaine IV vs Meyrin III (21)
UID:16eef6cf-47e8-4f00-88e8-924409923c86
STATUS:CONFIRMED
LAST-MODIFIED:20260319T132039Z
DESCRIPTION:3ème ligue Homme Gr.1 Phase B\nBegegnungs-Nr: 21\nHeim: Châtelaine IV\nGast: Meyrin III\n
LOCATION:
CATEGORIES:Saison 2025/26
END:VEVENT
BEGIN:VEVENT
DTSTAMP:20260424T152510Z
DTSTART;TZID=Europe/Berlin:20260114T194500
DTEND;TZID=Europe/Berlin:20260114T224500
SUMMARY:Ligue 3 Gr.1 Ph.B Châtelaine IV vs ZZ-Lancy VII (1)
UID:b6b1ad6f-6b78-4cbc-8ff5-4cfea04956b8
STATUS:CONFIRMED
LAST-MODIFIED:20260115T134351Z
DESCRIPTION:3ème ligue Homme Gr.1 Phase B\nBegegnungs-Nr: 1\nHeim: Châtelaine IV\nGast: ZZ-Lancy VII\n
LOCATION:
CATEGORIES:Saison 2025/26
END:VEVENT
BEGIN:VEVENT
DTSTAMP:20260424T152510Z
DTSTART;TZID=Europe/Berlin:20260218T194500
DTEND;TZID=Europe/Berlin:20260218T224500
SUMMARY:Ligue 3 Gr.1 Ph.B Châtelaine IV vs Rapid-Genève (13)
UID:9569de20-9f60-4316-b29f-ad65a07b0e15
STATUS:CONFIRMED
LAST-MODIFIED:20260219T120012Z
DESCRIPTION:3ème ligue Homme Gr.1 Phase B\nBegegnungs-Nr: 13\nHeim: Châtelaine IV\nGast: Rapid-Genève\n
LOCATION:
CATEGORIES:Saison 2025/26
END:VEVENT
BEGIN:VEVENT
DTSTAMP:20260424T152510Z
DTSTART;TZID=Europe/Berlin:20250923T200000
DTEND;TZID=Europe/Berlin:20250923T230000
SUMMARY:Ligue 2 Gr.2\, Ph.A ZZ-Lancy V vs Châtelaine IV (9)
UID:461511ac-9dd7-442e-a533-0434ce8a4dc2
STATUS:CONFIRMED
LAST-MODIFIED:20250924T065230Z
DESCRIPTION:2ème ligue Homme Gr.2 Phase A\nBegegnungs-Nr: 9\nHeim: ZZ-Lancy V\nGast: Châtelaine IV\n
LOCATION:
CATEGORIES:Saison 2025/26
END:VEVENT
BEGIN:VEVENT
DTSTAMP:20260424T152510Z
DTSTART;TZID=Europe/Berlin:20250916T194500
DTEND;TZID=Europe/Berlin:20250916T224500
SUMMARY:Ligue 2 Gr.2\, Ph.A Onex vs Châtelaine IV (6)
UID:06e7a3b4-02f2-49d0-bb2e-6712ff9fbefd
STATUS:CONFIRMED
LAST-MODIFIED:20250917T070007Z
DESCRIPTION:2ème ligue Homme Gr.2 Phase A\nBegegnungs-Nr: 6\nHeim: Onex\nGast: Châtelaine IV\n
LOCATION:
CATEGORIES:Saison 2025/26
END:VEVENT
BEGIN:VEVENT
DTSTAMP:20260424T152510Z
DTSTART;TZID=Europe/Berlin:20251125T194500
DTEND;TZID=Europe/Berlin:20251125T224500
SUMMARY:Ligue 2 Gr.2\, Ph.A Bernex II vs Châtelaine IV (27)
UID:05aded4e-febd-44e9-9ed6-73d6556016de
STATUS:CONFIRMED
LAST-MODIFIED:20251126T081641Z
DESCRIPTION:2ème ligue Homme Gr.2 Phase A\nBegegnungs-Nr: 27\nHeim: Bernex II\nGast: Châtelaine IV\n
LOCATION:
CATEGORIES:Saison 2025/26
END:VEVENT
BEGIN:VEVENT
DTSTAMP:20260424T152510Z
DTSTART;TZID=Europe/Berlin:20251028T200000
DTEND;TZID=Europe/Berlin:20251028T230000
SUMMARY:Ligue 2 Gr.2\, Ph.A Châtelaine III vs Châtelaine IV (18)
UID:c5344fd4-11f8-4f3a-b567-0265c2634907
STATUS:CONFIRMED
LAST-MODIFIED:20251029T075146Z
DESCRIPTION:2ème ligue Homme Gr.2 Phase A\nBegegnungs-Nr: 18\nHeim: Châtelaine III\nGast: Châtelaine IV\n
LOCATION:
CATEGORIES:Saison 2025/26
END:VEVENT
BEGIN:VEVENT
DTSTAMP:20260424T152510Z
DTSTART;TZID=Europe/Berlin:20251202T194500
DTEND;TZID=Europe/Berlin:20251202T224500
SUMMARY:Ligue 2 Gr.2\, Ph.A Silver Star IV vs Châtelaine IV (30)
UID:000e3978-9c1e-4a09-8ad0-52771d2df525
STATUS:CONFIRMED
LAST-MODIFIED:20250830T133040Z
DESCRIPTION:2ème ligue Homme Gr.2 Phase A\nBegegnungs-Nr: 30\nHeim: Silver Star IV\nGast: Châtelaine IV\n
LOCATION:
CATEGORIES:Saison 2025/26
END:VEVENT
BEGIN:VEVENT
DTSTAMP:20260424T152510Z
DTSTART;TZID=Europe/Berlin:20260121T194500
DTEND;TZID=Europe/Berlin:20260121T224500
SUMMARY:Ligue 3 Gr.1 Ph.B Meyrin III vs Châtelaine IV (6)
UID:9c525d84-5acb-4df1-a9a2-cd80f339e1dc
STATUS:CONFIRMED
LAST-MODIFIED:20260122T093742Z
DESCRIPTION:3ème ligue Homme Gr.1 Phase B\nBegegnungs-Nr: 6\nHeim: Meyrin III\nGast: Châtelaine IV\n
LOCATION:
CATEGORIES:Saison 2025/26
END:VEVENT
BEGIN:VEVENT
DTSTAMP:20260424T152510Z
DTSTART;TZID=Europe/Berlin:20260429T194500
DTEND;TZID=Europe/Berlin:20260429T224500
SUMMARY:Ligue 3 Gr.1 Ph.B Rapid-Genève vs Châtelaine IV (28)
UID:6243964e-0706-4d69-a1c4-2460a78505b6
STATUS:CONFIRMED
DESCRIPTION:3ème ligue Homme Gr.1 Phase B\nBegegnungs-Nr: 28\nHeim: Rapid-Genève\nGast: Châtelaine IV\n
LOCATION:
CATEGORIES:Saison 2025/26
END:VEVENT
BEGIN:VEVENT
DTSTAMP:20260424T152510Z
DTSTART;TZID=Europe/Berlin:20260325T194500
DTEND;TZID=Europe/Berlin:20260325T224500
SUMMARY:Ligue 3 Gr.1 Ph.B Versoix III vs Châtelaine IV (22)
UID:972ece20-471a-48c4-b1cd-6140d3e6078b
STATUS:CONFIRMED
LAST-MODIFIED:20260326T094956Z
DESCRIPTION:3ème ligue Homme Gr.1 Phase B\nBegegnungs-Nr: 22\nHeim: Versoix III\nGast: Châtelaine IV\n
LOCATION:
CATEGORIES:Saison 2025/26
END:VEVENT
BEGIN:VEVENT
DTSTAMP:20260424T152510Z
DTSTART;TZID=Europe/Berlin:20260311T200000
DTEND;TZID=Europe/Berlin:20260311T230000
SUMMARY:Ligue 3 Gr.1 Ph.B ZZ-Lancy VII vs Châtelaine IV (16)
UID:6022eab8-57aa-40b7-9e99-6e17cf48610f
STATUS:CONFIRMED
LAST-MODIFIED:20260312T140012Z
DESCRIPTION:3ème ligue Homme Gr.1 Phase B\nBegegnungs-Nr: 16\nHeim: ZZ-Lancy VII\nGast: Châtelaine IV\n
LOCATION:
CATEGORIES:Saison 2025/26
END:VEVENT
BEGIN:VEVENT
DTSTAMP:20260424T152510Z
DTSTART;TZID=Europe/Berlin:20260211T194500
DTEND;TZID=Europe/Berlin:20260211T224500
SUMMARY:Ligue 3 Gr.1 Ph.B Onex II vs Châtelaine IV (10)
UID:9d112a37-e874-48a6-8c60-a3de2ec753c3
STATUS:CONFIRMED
LAST-MODIFIED:20260212T071820Z
DESCRIPTION:3ème ligue Homme Gr.1 Phase B\nBegegnungs-Nr: 10\nHeim: Onex II\nGast: Châtelaine IV\n
LOCATION:
CATEGORIES:Saison 2025/26
END:VEVENT
BEGIN:VEVENT
DTSTAMP:20260424T152510Z
DTSTART;TZID=Europe/Berlin:20251211T200000
DTEND;TZID=Europe/Berlin:20251211T230000
SUMMARY:Ligue 2 Bar. relég. ZZ-Lancy VI vs Châtelaine IV (1)
UID:ce9bc1af-3b33-4675-a983-ee2ea97fd88d
STATUS:CONFIRMED
LAST-MODIFIED:20251212T080858Z
DESCRIPTION:2ème ligue Barrage relegation Phase A\nBegegnungs-Nr: 1\nHeim: ZZ-Lancy VI\nGast: Châtelaine IV\n
LOCATION:
CATEGORIES:Saison 2025/26
END:VEVENT
END:VCALENDAR
