BEGIN:VCALENDAR
PRODID:-//nuDatenautomaten//framework iCal4j //DE
VERSION:2.0
CALSCALE:GREGORIAN
BEGIN:VTIMEZONE
TZID:Europe/Berlin
LAST-MODIFIED:20260306T231828Z
TZURL:https://www.tzurl.org/zoneinfo/Europe/Berlin
X-LIC-LOCATION:Europe/Berlin
X-PROLEPTIC-TZNAME:LMT
BEGIN:STANDARD
TZNAME:CET
TZOFFSETFROM:+005328
TZOFFSETTO:+0100
DTSTART:18930401T000000
END:STANDARD
BEGIN:DAYLIGHT
TZNAME:CEST
TZOFFSETFROM:+0100
TZOFFSETTO:+0200
DTSTART:19160430T230000
RDATE:19400401T020000
RDATE:19430329T020000
RDATE:19460414T020000
RDATE:19470406T030000
RDATE:19480418T020000
RDATE:19490410T020000
RDATE:19800406T020000
END:DAYLIGHT
BEGIN:STANDARD
TZNAME:CET
TZOFFSETFROM:+0200
TZOFFSETTO:+0100
DTSTART:19161001T010000
RDATE:19421102T030000
RDATE:19431004T030000
RDATE:19441002T030000
RDATE:19451118T030000
RDATE:19461007T030000
END:STANDARD
BEGIN:DAYLIGHT
TZNAME:CEST
TZOFFSETFROM:+0100
TZOFFSETTO:+0200
DTSTART:19170416T020000
RRULE:FREQ=YEARLY;UNTIL=19180415T010000Z;BYMONTH=4;BYDAY=3MO
END:DAYLIGHT
BEGIN:STANDARD
TZNAME:CET
TZOFFSETFROM:+0200
TZOFFSETTO:+0100
DTSTART:19170917T030000
RRULE:FREQ=YEARLY;UNTIL=19180916T010000Z;BYMONTH=9;BYDAY=3MO
END:STANDARD
BEGIN:DAYLIGHT
TZNAME:CEST
TZOFFSETFROM:+0100
TZOFFSETTO:+0200
DTSTART:19440403T020000
RRULE:FREQ=YEARLY;UNTIL=19450402T010000Z;BYMONTH=4;BYDAY=1MO
END:DAYLIGHT
BEGIN:DAYLIGHT
TZNAME:CEMT
TZOFFSETFROM:+0200
TZOFFSETTO:+0300
DTSTART:19450524T020000
RDATE:19470511T030000
END:DAYLIGHT
BEGIN:DAYLIGHT
TZNAME:CEST
TZOFFSETFROM:+0300
TZOFFSETTO:+0200
DTSTART:19450924T030000
RDATE:19470629T030000
END:DAYLIGHT
BEGIN:STANDARD
TZNAME:CET
TZOFFSETFROM:+0100
TZOFFSETTO:+0100
DTSTART:19460101T000000
RDATE:19800101T000000
END:STANDARD
BEGIN:STANDARD
TZNAME:CET
TZOFFSETFROM:+0200
TZOFFSETTO:+0100
DTSTART:19471005T030000
RRULE:FREQ=YEARLY;UNTIL=19491002T010000Z;BYMONTH=10;BYDAY=1SU
END:STANDARD
BEGIN:STANDARD
TZNAME:CET
TZOFFSETFROM:+0200
TZOFFSETTO:+0100
DTSTART:19800928T030000
RRULE:FREQ=YEARLY;UNTIL=19950924T010000Z;BYMONTH=9;BYDAY=-1SU
END:STANDARD
BEGIN:DAYLIGHT
TZNAME:CEST
TZOFFSETFROM:+0100
TZOFFSETTO:+0200
DTSTART:19810329T020000
RRULE:FREQ=YEARLY;BYMONTH=3;BYDAY=-1SU
END:DAYLIGHT
BEGIN:STANDARD
TZNAME:CET
TZOFFSETFROM:+0200
TZOFFSETTO:+0100
DTSTART:19961027T030000
RRULE:FREQ=YEARLY;BYMONTH=10;BYDAY=-1SU
END:STANDARD
END:VTIMEZONE
BEGIN:VEVENT
DTSTAMP:20260424T044417Z
DTSTART;TZID=Europe/Berlin:20260224T200000
DTEND;TZID=Europe/Berlin:20260224T230000
SUMMARY:O40 3. Liga Gr. 1 Horn vs Bronschhofen (0)
UID:afc55499-aa04-4880-b61d-476403ec4257
STATUS:CONFIRMED
LAST-MODIFIED:20260225T112228Z
DESCRIPTION:3. Liga O40 Gruppe 1\nBegegnungs-Nr: 0\nHeim: Horn\nGast: Bronschhofen\n\nAdresse: Feldstrasse 16\, 9326 Horn\n
LOCATION:Feldstrasse 16\, 9326 Horn
CATEGORIES:Saison 2025/26
END:VEVENT
BEGIN:VEVENT
DTSTAMP:20260424T044417Z
DTSTART;TZID=Europe/Berlin:20260217T200000
DTEND;TZID=Europe/Berlin:20260217T230000
SUMMARY:O40 3. Liga Gr. 1 Horn vs Gaiserwald II (0)
UID:e18d7ae1-7afd-4112-a09d-34c197e26d6f
STATUS:CONFIRMED
LAST-MODIFIED:20260225T111925Z
DESCRIPTION:3. Liga O40 Gruppe 1\nBegegnungs-Nr: 0\nHeim: Horn\nGast: Gaiserwald II\n\nAdresse: Feldstrasse 16\, 9326 Horn\n
LOCATION:Feldstrasse 16\, 9326 Horn
CATEGORIES:Saison 2025/26
END:VEVENT
BEGIN:VEVENT
DTSTAMP:20260424T044417Z
DTSTART;TZID=Europe/Berlin:20260421T200000
DTEND;TZID=Europe/Berlin:20260421T230000
SUMMARY:O40 3. Liga Gr. 1 Horn vs Romanshorn II (0)
UID:2993abae-6cbc-441b-bf3a-e92f122554d4
STATUS:CONFIRMED
LAST-MODIFIED:20260423T083419Z
DESCRIPTION:3. Liga O40 Gruppe 1\nBegegnungs-Nr: 0\nHeim: Horn\nGast: Romanshorn II\n\nAdresse: Feldstrasse 16\, 9326 Horn\n
LOCATION:Feldstrasse 16\, 9326 Horn
CATEGORIES:Saison 2025/26
END:VEVENT
BEGIN:VEVENT
DTSTAMP:20260424T044417Z
DTSTART;TZID=Europe/Berlin:20251021T200000
DTEND;TZID=Europe/Berlin:20251021T230000
SUMMARY:O40 3. Liga Gr. 1 Horn vs Muolen (0)
UID:2d377063-3853-472c-beeb-fba86494af70
STATUS:CONFIRMED
LAST-MODIFIED:20251022T090900Z
DESCRIPTION:3. Liga O40 Gruppe 1\nBegegnungs-Nr: 0\nHeim: Horn\nGast: Muolen\n\nAdresse: Feldstrasse 16\, 9326 Horn\n
LOCATION:Feldstrasse 16\, 9326 Horn
CATEGORIES:Saison 2025/26
END:VEVENT
BEGIN:VEVENT
DTSTAMP:20260424T044417Z
DTSTART;TZID=Europe/Berlin:20251118T200000
DTEND;TZID=Europe/Berlin:20251118T230000
SUMMARY:O40 3. Liga Gr. 1 Horn vs Wallenwil (0)
UID:bab6514b-5828-42b8-a9b4-0da02a89c08f
STATUS:CONFIRMED
LAST-MODIFIED:20251121T094730Z
DESCRIPTION:3. Liga O40 Gruppe 1\nBegegnungs-Nr: 0\nHeim: Horn\nGast: Wallenwil\n\nAdresse: Feldstrasse 16\, 9326 Horn\n
LOCATION:Feldstrasse 16\, 9326 Horn
CATEGORIES:Saison 2025/26
END:VEVENT
BEGIN:VEVENT
DTSTAMP:20260424T044417Z
DTSTART;TZID=Europe/Berlin:20250812T200000
DTEND;TZID=Europe/Berlin:20250812T230000
SUMMARY:O40 3. Liga Gr. 1 Horn vs Wuppenau (0)
UID:c4f2930d-b79b-4716-b6fa-974b7e863292
STATUS:CONFIRMED
LAST-MODIFIED:20250819T130304Z
DESCRIPTION:3. Liga O40 Gruppe 1\nBegegnungs-Nr: 0\nHeim: Horn\nGast: Wuppenau\n\nAdresse: Feldstrasse 16\, 9326 Horn\n
LOCATION:Feldstrasse 16\, 9326 Horn
CATEGORIES:Saison 2025/26
END:VEVENT
BEGIN:VEVENT
DTSTAMP:20260424T044417Z
DTSTART;TZID=Europe/Berlin:20260112T201500
DTEND;TZID=Europe/Berlin:20260112T231500
SUMMARY:O40 3. Liga Gr. 1 Wuppenau vs Horn (0)
UID:2dbc31d3-873f-40a0-8b66-e2c210abe8ee
STATUS:CONFIRMED
LAST-MODIFIED:20260115T093824Z
DESCRIPTION:3. Liga O40 Gruppe 1\nBegegnungs-Nr: 0\nHeim: Wuppenau\nGast: Horn\n\nAdresse: Nollenstrasse\, 9514 Wuppenau\n
LOCATION:Nollenstrasse\, 9514 Wuppenau
CATEGORIES:Saison 2025/26
END:VEVENT
BEGIN:VEVENT
DTSTAMP:20260424T044417Z
DTSTART;TZID=Europe/Berlin:20260429T200000
DTEND;TZID=Europe/Berlin:20260429T230000
SUMMARY:O40 3. Liga Gr. 1 Muolen vs Horn (0)
UID:804a308c-638a-40a9-a7b1-04796be4fc8d
STATUS:CONFIRMED
LAST-MODIFIED:20260327T085739Z
DESCRIPTION:3. Liga O40 Gruppe 1\nBegegnungs-Nr: 0\nHeim: Muolen\nGast: Horn\n\nAdresse: Olmishauserstrasse 3\, 9314 Steinebrunn\n
LOCATION:Olmishauserstrasse 3\, 9314 Steinebrunn
CATEGORIES:Saison 2025/26
END:VEVENT
BEGIN:VEVENT
DTSTAMP:20260424T044417Z
DTSTART;TZID=Europe/Berlin:20260420T201500
DTEND;TZID=Europe/Berlin:20260420T231500
SUMMARY:O40 3. Liga Gr. 1 Wallenwil vs Horn (0)
UID:f94c2644-7d71-4697-90a3-6696a4989db6
STATUS:CONFIRMED
LAST-MODIFIED:20260421T062556Z
DESCRIPTION:3. Liga O40 Gruppe 1\nBegegnungs-Nr: 0\nHeim: Wallenwil\nGast: Horn\n\nAdresse: Stationsstrasse 29\, 8360 Wallenwil\n
LOCATION:Stationsstrasse 29\, 8360 Wallenwil
CATEGORIES:Saison 2025/26
END:VEVENT
BEGIN:VEVENT
DTSTAMP:20260424T044417Z
DTSTART;TZID=Europe/Berlin:20250915T200000
DTEND;TZID=Europe/Berlin:20250915T230000
SUMMARY:O40 3. Liga Gr. 1 Bronschhofen vs Horn (0)
UID:73d80e20-22f9-4ebf-98fd-13046934a8ed
STATUS:CONFIRMED
LAST-MODIFIED:20250916T092739Z
DESCRIPTION:3. Liga O40 Gruppe 1\nBegegnungs-Nr: 0\nHeim: Bronschhofen\nGast: Horn\n\nAdresse: Schulstrasse 6\, 9552 Bronschhofen\n
LOCATION:Schulstrasse 6\, 9552 Bronschhofen
CATEGORIES:Saison 2025/26
END:VEVENT
BEGIN:VEVENT
DTSTAMP:20260424T044417Z
DTSTART;TZID=Europe/Berlin:20251127T200000
DTEND;TZID=Europe/Berlin:20251127T230000
SUMMARY:O40 3. Liga Gr. 1 Gaiserwald II vs Horn (0)
UID:2889f0ff-a169-4e4b-9ff5-22e66cb65118
STATUS:CONFIRMED
LAST-MODIFIED:20251128T134505Z
DESCRIPTION:3. Liga O40 Gruppe 1\nBegegnungs-Nr: 0\nHeim: Gaiserwald II\nGast: Horn\n\nAdresse: Sonnenbergstrasse 15\, 9030 Abtwil\n
LOCATION:Sonnenbergstrasse 15\, 9030 Abtwil
CATEGORIES:Saison 2025/26
END:VEVENT
BEGIN:VEVENT
DTSTAMP:20260424T044417Z
DTSTART;TZID=Europe/Berlin:20251218T201500
DTEND;TZID=Europe/Berlin:20251218T231500
SUMMARY:O40 3. Liga Gr. 1 Romanshorn II vs Horn (0)
UID:263c7d70-cb54-4bba-986a-b9071b79f1db
STATUS:CONFIRMED
LAST-MODIFIED:20260109T080612Z
DESCRIPTION:3. Liga O40 Gruppe 1\nBegegnungs-Nr: 0\nHeim: Romanshorn II\nGast: Horn\n\nAdresse: Florastrasse\, 8590 Romanshorn\n
LOCATION:Florastrasse\, 8590 Romanshorn
CATEGORIES:Saison 2025/26
END:VEVENT
END:VCALENDAR
