BEGIN:VCALENDAR
PRODID:-//nuDatenautomaten//framework iCal4j //DE
VERSION:2.0
CALSCALE:GREGORIAN
BEGIN:VTIMEZONE
TZID:Europe/Berlin
LAST-MODIFIED:20260306T231828Z
TZURL:https://www.tzurl.org/zoneinfo/Europe/Berlin
X-LIC-LOCATION:Europe/Berlin
X-PROLEPTIC-TZNAME:LMT
BEGIN:STANDARD
TZNAME:CET
TZOFFSETFROM:+005328
TZOFFSETTO:+0100
DTSTART:18930401T000000
END:STANDARD
BEGIN:DAYLIGHT
TZNAME:CEST
TZOFFSETFROM:+0100
TZOFFSETTO:+0200
DTSTART:19160430T230000
RDATE:19400401T020000
RDATE:19430329T020000
RDATE:19460414T020000
RDATE:19470406T030000
RDATE:19480418T020000
RDATE:19490410T020000
RDATE:19800406T020000
END:DAYLIGHT
BEGIN:STANDARD
TZNAME:CET
TZOFFSETFROM:+0200
TZOFFSETTO:+0100
DTSTART:19161001T010000
RDATE:19421102T030000
RDATE:19431004T030000
RDATE:19441002T030000
RDATE:19451118T030000
RDATE:19461007T030000
END:STANDARD
BEGIN:DAYLIGHT
TZNAME:CEST
TZOFFSETFROM:+0100
TZOFFSETTO:+0200
DTSTART:19170416T020000
RRULE:FREQ=YEARLY;UNTIL=19180415T010000Z;BYMONTH=4;BYDAY=3MO
END:DAYLIGHT
BEGIN:STANDARD
TZNAME:CET
TZOFFSETFROM:+0200
TZOFFSETTO:+0100
DTSTART:19170917T030000
RRULE:FREQ=YEARLY;UNTIL=19180916T010000Z;BYMONTH=9;BYDAY=3MO
END:STANDARD
BEGIN:DAYLIGHT
TZNAME:CEST
TZOFFSETFROM:+0100
TZOFFSETTO:+0200
DTSTART:19440403T020000
RRULE:FREQ=YEARLY;UNTIL=19450402T010000Z;BYMONTH=4;BYDAY=1MO
END:DAYLIGHT
BEGIN:DAYLIGHT
TZNAME:CEMT
TZOFFSETFROM:+0200
TZOFFSETTO:+0300
DTSTART:19450524T020000
RDATE:19470511T030000
END:DAYLIGHT
BEGIN:DAYLIGHT
TZNAME:CEST
TZOFFSETFROM:+0300
TZOFFSETTO:+0200
DTSTART:19450924T030000
RDATE:19470629T030000
END:DAYLIGHT
BEGIN:STANDARD
TZNAME:CET
TZOFFSETFROM:+0100
TZOFFSETTO:+0100
DTSTART:19460101T000000
RDATE:19800101T000000
END:STANDARD
BEGIN:STANDARD
TZNAME:CET
TZOFFSETFROM:+0200
TZOFFSETTO:+0100
DTSTART:19471005T030000
RRULE:FREQ=YEARLY;UNTIL=19491002T010000Z;BYMONTH=10;BYDAY=1SU
END:STANDARD
BEGIN:STANDARD
TZNAME:CET
TZOFFSETFROM:+0200
TZOFFSETTO:+0100
DTSTART:19800928T030000
RRULE:FREQ=YEARLY;UNTIL=19950924T010000Z;BYMONTH=9;BYDAY=-1SU
END:STANDARD
BEGIN:DAYLIGHT
TZNAME:CEST
TZOFFSETFROM:+0100
TZOFFSETTO:+0200
DTSTART:19810329T020000
RRULE:FREQ=YEARLY;BYMONTH=3;BYDAY=-1SU
END:DAYLIGHT
BEGIN:STANDARD
TZNAME:CET
TZOFFSETFROM:+0200
TZOFFSETTO:+0100
DTSTART:19961027T030000
RRULE:FREQ=YEARLY;BYMONTH=10;BYDAY=-1SU
END:STANDARD
END:VTIMEZONE
BEGIN:VEVENT
DTSTAMP:20260424T044537Z
DTSTART;TZID=Europe/Berlin:20260401T200000
DTEND;TZID=Europe/Berlin:20260401T230000
SUMMARY:O40 1. Liga Köniz vs Burgdorf II (20)
UID:4f9c4f4f-b80e-4914-b3bb-31946f20a7c9
STATUS:CONFIRMED
LAST-MODIFIED:20260409T123323Z
DESCRIPTION:1. Liga O40\nBegegnungs-Nr: 20\nHeim: Köniz\nGast: Burgdorf II\n\nAdresse: Kirchstrasse 72-76\, 3084 Wabern\n
LOCATION:Kirchstrasse 72-76\, 3084 Wabern
CATEGORIES:Saison 2025/26
END:VEVENT
BEGIN:VEVENT
DTSTAMP:20260424T044537Z
DTSTART;TZID=Europe/Berlin:20260323T200000
DTEND;TZID=Europe/Berlin:20260323T230000
SUMMARY:O40 1. Liga Köniz vs Solothurn (28)
UID:4b113691-44fb-4a6c-a690-a8d6d0615470
STATUS:CONFIRMED
LAST-MODIFIED:20260409T123240Z
DESCRIPTION:1. Liga O40\nBegegnungs-Nr: 28\nHeim: Köniz\nGast: Solothurn\n\nAdresse: Kirchstrasse 72-76\, 3084 Wabern\n
LOCATION:Kirchstrasse 72-76\, 3084 Wabern
CATEGORIES:Saison 2025/26
END:VEVENT
BEGIN:VEVENT
DTSTAMP:20260424T044537Z
DTSTART;TZID=Europe/Berlin:20260112T200000
DTEND;TZID=Europe/Berlin:20260112T230000
SUMMARY:O40 1. Liga Köniz vs Bern (1)
UID:2a25ca73-c615-4af9-932d-73c20c2505d5
STATUS:CONFIRMED
LAST-MODIFIED:20260125T002743Z
DESCRIPTION:1. Liga O40\nBegegnungs-Nr: 1\nHeim: Köniz\nGast: Bern\n\nAdresse: Kirchstrasse 72-76\, 3084 Wabern\n
LOCATION:Kirchstrasse 72-76\, 3084 Wabern
CATEGORIES:Saison 2025/26
END:VEVENT
BEGIN:VEVENT
DTSTAMP:20260424T044537Z
DTSTART;TZID=Europe/Berlin:20260202T200000
DTEND;TZID=Europe/Berlin:20260202T230000
SUMMARY:O40 1. Liga Köniz vs Burgdorf (11)
UID:fb795d2f-77f8-40e9-aabe-bb3258e11163
STATUS:CONFIRMED
LAST-MODIFIED:20260217T214525Z
DESCRIPTION:1. Liga O40\nBegegnungs-Nr: 11\nHeim: Köniz\nGast: Burgdorf\n\nAdresse: Kirchstrasse 72-76\, 3084 Wabern\n
LOCATION:Kirchstrasse 72-76\, 3084 Wabern
CATEGORIES:Saison 2025/26
END:VEVENT
BEGIN:VEVENT
DTSTAMP:20260424T044537Z
DTSTART;TZID=Europe/Berlin:20250922T200000
DTEND;TZID=Europe/Berlin:20250922T230000
SUMMARY:O40 1. Liga Köniz vs Heimberg (6)
UID:82201377-7a0b-4bc6-b308-0c877694e259
STATUS:CONFIRMED
LAST-MODIFIED:20251003T172816Z
DESCRIPTION:1. Liga O40\nBegegnungs-Nr: 6\nHeim: Köniz\nGast: Heimberg\n\nAdresse: Kirchstrasse 72-76\, 3084 Wabern\n
LOCATION:Kirchstrasse 72-76\, 3084 Wabern
CATEGORIES:Saison 2025/26
END:VEVENT
BEGIN:VEVENT
DTSTAMP:20260424T044537Z
DTSTART;TZID=Europe/Berlin:20251124T200000
DTEND;TZID=Europe/Berlin:20251124T230000
SUMMARY:O40 1. Liga Köniz vs Aarberg (23)
UID:ae328582-630a-4f75-b63d-c59dbe94e5c7
STATUS:CONFIRMED
LAST-MODIFIED:20251207T174738Z
DESCRIPTION:1. Liga O40\nBegegnungs-Nr: 23\nHeim: Köniz\nGast: Aarberg\n\nAdresse: Kirchstrasse 72-76\, 3084 Wabern\n
LOCATION:Kirchstrasse 72-76\, 3084 Wabern
CATEGORIES:Saison 2025/26
END:VEVENT
BEGIN:VEVENT
DTSTAMP:20260424T044537Z
DTSTART;TZID=Europe/Berlin:20251027T200000
DTEND;TZID=Europe/Berlin:20251027T230000
SUMMARY:O40 1. Liga Köniz vs Port (16)
UID:204a5aec-a784-4a67-8975-dc6d68ff6e53
STATUS:CONFIRMED
LAST-MODIFIED:20251029T221543Z
DESCRIPTION:1. Liga O40\nBegegnungs-Nr: 16\nHeim: Köniz\nGast: Port\n\nAdresse: Kirchstrasse 72-76\, 3084 Wabern\n
LOCATION:Kirchstrasse 72-76\, 3084 Wabern
CATEGORIES:Saison 2025/26
END:VEVENT
BEGIN:VEVENT
DTSTAMP:20260424T044537Z
DTSTART;TZID=Europe/Berlin:20251101T160000
DTEND;TZID=Europe/Berlin:20251101T190000
SUMMARY:O40 1. Liga Burgdorf vs Köniz (11)
UID:6af9b1ca-9b19-4f05-810b-da37f8ea8164
STATUS:CONFIRMED
LAST-MODIFIED:20251111T071847Z
DESCRIPTION:1. Liga O40\nBegegnungs-Nr: 11\nHeim: Burgdorf\nGast: Köniz\n\nAdresse: Pestalozzistrasse 69\, 3400 Burgdorf\n
LOCATION:Pestalozzistrasse 69\, 3400 Burgdorf
CATEGORIES:Saison 2025/26
END:VEVENT
BEGIN:VEVENT
DTSTAMP:20260424T044537Z
DTSTART;TZID=Europe/Berlin:20260311T201500
DTEND;TZID=Europe/Berlin:20260311T231500
SUMMARY:O40 1. Liga Aarberg vs Köniz (23)
UID:a80a7ace-bb97-4e9a-8651-cad12385d220
STATUS:CONFIRMED
LAST-MODIFIED:20260315T230546Z
DESCRIPTION:1. Liga O40\nBegegnungs-Nr: 23\nHeim: Aarberg\nGast: Köniz\n\nAdresse: Nidaustrasse 7\, 3270 Aarberg\n
LOCATION:Nidaustrasse 7\, 3270 Aarberg
CATEGORIES:Saison 2025/26
END:VEVENT
BEGIN:VEVENT
DTSTAMP:20260424T044537Z
DTSTART;TZID=Europe/Berlin:20260217T194500
DTEND;TZID=Europe/Berlin:20260217T224500
SUMMARY:O40 1. Liga Port vs Köniz (16)
UID:e69011ce-254d-4ade-863f-8b9f868eb217
STATUS:CONFIRMED
LAST-MODIFIED:20260218T065952Z
DESCRIPTION:1. Liga O40\nBegegnungs-Nr: 16\nHeim: Port\nGast: Köniz\n\nAdresse: Allmendstrasse 23\, 2562 Port\n
LOCATION:Allmendstrasse 23\, 2562 Port
CATEGORIES:Saison 2025/26
END:VEVENT
BEGIN:VEVENT
DTSTAMP:20260424T044537Z
DTSTART;TZID=Europe/Berlin:20260129T193000
DTEND;TZID=Europe/Berlin:20260129T223000
SUMMARY:O40 1. Liga Heimberg vs Köniz (6)
UID:af9e19ca-52b9-43c3-b89d-45a459a5fce2
STATUS:CONFIRMED
LAST-MODIFIED:20260217T214502Z
DESCRIPTION:1. Liga O40\nBegegnungs-Nr: 6\nHeim: Heimberg\nGast: Köniz\n\nAdresse: Niesenstrasse 38\, 3627 Heimberg\n
LOCATION:Niesenstrasse 38\, 3627 Heimberg
CATEGORIES:Saison 2025/26
END:VEVENT
BEGIN:VEVENT
DTSTAMP:20260424T044537Z
DTSTART;TZID=Europe/Berlin:20251212T200000
DTEND;TZID=Europe/Berlin:20251212T230000
SUMMARY:O40 1. Liga Solothurn vs Köniz (28)
UID:0436b23f-a54f-4128-ab43-b72a3578f6ae
STATUS:CONFIRMED
LAST-MODIFIED:20251216T121011Z
DESCRIPTION:1. Liga O40\nBegegnungs-Nr: 28\nHeim: Solothurn\nGast: Köniz\n\nAdresse: Untere Sternengasse 24\, 4500 Solothurn\n
LOCATION:Untere Sternengasse 24\, 4500 Solothurn
CATEGORIES:Saison 2025/26
END:VEVENT
BEGIN:VEVENT
DTSTAMP:20260424T044537Z
DTSTART;TZID=Europe/Berlin:20251114T193000
DTEND;TZID=Europe/Berlin:20251114T223000
SUMMARY:O40 1. Liga Burgdorf II vs Köniz (20)
UID:5a71b062-b427-41ac-88d3-71cb7a57bc7f
STATUS:CONFIRMED
LAST-MODIFIED:20251115T172939Z
DESCRIPTION:1. Liga O40\nBegegnungs-Nr: 20\nHeim: Burgdorf II\nGast: Köniz\n\nAdresse: Pestalozzistrasse 69\, 3400 Burgdorf\n
LOCATION:Pestalozzistrasse 69\, 3400 Burgdorf
CATEGORIES:Saison 2025/26
END:VEVENT
BEGIN:VEVENT
DTSTAMP:20260424T044537Z
DTSTART;TZID=Europe/Berlin:20250827T193000
DTEND;TZID=Europe/Berlin:20250827T223000
SUMMARY:O40 1. Liga Bern vs Köniz (1)
UID:fc8757fa-f5fe-436a-bb28-eb484f8b15a8
STATUS:CONFIRMED
LAST-MODIFIED:20250828T192557Z
DESCRIPTION:1. Liga O40\nBegegnungs-Nr: 1\nHeim: Bern\nGast: Köniz\n\nAdresse: Papiermühlestrasse 81\, 3014 Bern\n
LOCATION:Papiermühlestrasse 81\, 3014 Bern
CATEGORIES:Saison 2025/26
END:VEVENT
END:VCALENDAR
