BEGIN:VCALENDAR
PRODID:-//nuDatenautomaten//framework iCal4j //DE
VERSION:2.0
CALSCALE:GREGORIAN
BEGIN:VTIMEZONE
TZID:Europe/Berlin
LAST-MODIFIED:20260306T231828Z
TZURL:https://www.tzurl.org/zoneinfo/Europe/Berlin
X-LIC-LOCATION:Europe/Berlin
X-PROLEPTIC-TZNAME:LMT
BEGIN:STANDARD
TZNAME:CET
TZOFFSETFROM:+005328
TZOFFSETTO:+0100
DTSTART:18930401T000000
END:STANDARD
BEGIN:DAYLIGHT
TZNAME:CEST
TZOFFSETFROM:+0100
TZOFFSETTO:+0200
DTSTART:19160430T230000
RDATE:19400401T020000
RDATE:19430329T020000
RDATE:19460414T020000
RDATE:19470406T030000
RDATE:19480418T020000
RDATE:19490410T020000
RDATE:19800406T020000
END:DAYLIGHT
BEGIN:STANDARD
TZNAME:CET
TZOFFSETFROM:+0200
TZOFFSETTO:+0100
DTSTART:19161001T010000
RDATE:19421102T030000
RDATE:19431004T030000
RDATE:19441002T030000
RDATE:19451118T030000
RDATE:19461007T030000
END:STANDARD
BEGIN:DAYLIGHT
TZNAME:CEST
TZOFFSETFROM:+0100
TZOFFSETTO:+0200
DTSTART:19170416T020000
RRULE:FREQ=YEARLY;UNTIL=19180415T010000Z;BYMONTH=4;BYDAY=3MO
END:DAYLIGHT
BEGIN:STANDARD
TZNAME:CET
TZOFFSETFROM:+0200
TZOFFSETTO:+0100
DTSTART:19170917T030000
RRULE:FREQ=YEARLY;UNTIL=19180916T010000Z;BYMONTH=9;BYDAY=3MO
END:STANDARD
BEGIN:DAYLIGHT
TZNAME:CEST
TZOFFSETFROM:+0100
TZOFFSETTO:+0200
DTSTART:19440403T020000
RRULE:FREQ=YEARLY;UNTIL=19450402T010000Z;BYMONTH=4;BYDAY=1MO
END:DAYLIGHT
BEGIN:DAYLIGHT
TZNAME:CEMT
TZOFFSETFROM:+0200
TZOFFSETTO:+0300
DTSTART:19450524T020000
RDATE:19470511T030000
END:DAYLIGHT
BEGIN:DAYLIGHT
TZNAME:CEST
TZOFFSETFROM:+0300
TZOFFSETTO:+0200
DTSTART:19450924T030000
RDATE:19470629T030000
END:DAYLIGHT
BEGIN:STANDARD
TZNAME:CET
TZOFFSETFROM:+0100
TZOFFSETTO:+0100
DTSTART:19460101T000000
RDATE:19800101T000000
END:STANDARD
BEGIN:STANDARD
TZNAME:CET
TZOFFSETFROM:+0200
TZOFFSETTO:+0100
DTSTART:19471005T030000
RRULE:FREQ=YEARLY;UNTIL=19491002T010000Z;BYMONTH=10;BYDAY=1SU
END:STANDARD
BEGIN:STANDARD
TZNAME:CET
TZOFFSETFROM:+0200
TZOFFSETTO:+0100
DTSTART:19800928T030000
RRULE:FREQ=YEARLY;UNTIL=19950924T010000Z;BYMONTH=9;BYDAY=-1SU
END:STANDARD
BEGIN:DAYLIGHT
TZNAME:CEST
TZOFFSETFROM:+0100
TZOFFSETTO:+0200
DTSTART:19810329T020000
RRULE:FREQ=YEARLY;BYMONTH=3;BYDAY=-1SU
END:DAYLIGHT
BEGIN:STANDARD
TZNAME:CET
TZOFFSETFROM:+0200
TZOFFSETTO:+0100
DTSTART:19961027T030000
RRULE:FREQ=YEARLY;BYMONTH=10;BYDAY=-1SU
END:STANDARD
END:VTIMEZONE
BEGIN:VEVENT
DTSTAMP:20260424T150503Z
DTSTART;TZID=Europe/Berlin:20250911T200000
DTEND;TZID=Europe/Berlin:20250911T230000
SUMMARY:ME L3 Gr 2\, Tours 1&2 Avry-Rosé II vs Bulle III (0)
UID:3a74a32b-5caa-4059-b980-f75d073a3e3e
STATUS:CONFIRMED
LAST-MODIFIED:20250912T142538Z
DESCRIPTION:3ème ligue Hommes Groupe 2\, Tours 1&2\nBegegnungs-Nr: 0\nHeim: Avry-Rosé II\nGast: Bulle III\n\nAdresse: Route du Château 15\, 1754 Avry-sur-Matran\n
LOCATION:Route du Château 15\, 1754 Avry-sur-Matran
CATEGORIES:Saison 2025/26
END:VEVENT
BEGIN:VEVENT
DTSTAMP:20260424T150503Z
DTSTART;TZID=Europe/Berlin:20250918T200000
DTEND;TZID=Europe/Berlin:20250918T230000
SUMMARY:ME L3 Gr 2\, Tours 1&2 Avry-Rosé II vs Fribourg VI (0)
UID:d967be23-e414-457c-a6b5-27de95be46a4
STATUS:CONFIRMED
LAST-MODIFIED:20250919T204952Z
DESCRIPTION:3ème ligue Hommes Groupe 2\, Tours 1&2\nBegegnungs-Nr: 0\nHeim: Avry-Rosé II\nGast: Fribourg VI\n\nAdresse: Route du Château 15\, 1754 Avry-sur-Matran\n
LOCATION:Route du Château 15\, 1754 Avry-sur-Matran
CATEGORIES:Saison 2025/26
END:VEVENT
BEGIN:VEVENT
DTSTAMP:20260424T150503Z
DTSTART;TZID=Europe/Berlin:20251030T200000
DTEND;TZID=Europe/Berlin:20251030T230000
SUMMARY:ME L3 Gr 2\, Tours 1&2 Avry-Rosé II vs Mézières (0)
UID:26b7c826-eb0d-491b-9d34-de1a8049842b
STATUS:CONFIRMED
LAST-MODIFIED:20251101T153912Z
DESCRIPTION:3ème ligue Hommes Groupe 2\, Tours 1&2\nBegegnungs-Nr: 0\nHeim: Avry-Rosé II\nGast: Mézières\n\nAdresse: Route du Château 15\, 1754 Avry-sur-Matran\n
LOCATION:Route du Château 15\, 1754 Avry-sur-Matran
CATEGORIES:Saison 2025/26
END:VEVENT
BEGIN:VEVENT
DTSTAMP:20260424T150503Z
DTSTART;TZID=Europe/Berlin:20251127T200000
DTEND;TZID=Europe/Berlin:20251127T230000
SUMMARY:ME L3 Gr 2\, Tours 1&2 Avry-Rosé II vs Rossens IV (0)
UID:fe04eb37-c65a-4ccb-bd91-b796e18d19e7
STATUS:CONFIRMED
LAST-MODIFIED:20251128T203820Z
DESCRIPTION:3ème ligue Hommes Groupe 2\, Tours 1&2\nBegegnungs-Nr: 0\nHeim: Avry-Rosé II\nGast: Rossens IV\n\nAdresse: Route du Château 15\, 1754 Avry-sur-Matran\n
LOCATION:Route du Château 15\, 1754 Avry-sur-Matran
CATEGORIES:Saison 2025/26
END:VEVENT
BEGIN:VEVENT
DTSTAMP:20260424T150503Z
DTSTART;TZID=Europe/Berlin:20251211T200000
DTEND;TZID=Europe/Berlin:20251211T230000
SUMMARY:ME L3 Gr 2\, Tours 1&2 Avry-Rosé II vs Fribourg V (0)
UID:1c962caf-8268-4e30-abc4-bd4825c308a8
STATUS:CONFIRMED
LAST-MODIFIED:20251213T094723Z
DESCRIPTION:3ème ligue Hommes Groupe 2\, Tours 1&2\nBegegnungs-Nr: 0\nHeim: Avry-Rosé II\nGast: Fribourg V\n\nAdresse: Route du Château 15\, 1754 Avry-sur-Matran\n
LOCATION:Route du Château 15\, 1754 Avry-sur-Matran
CATEGORIES:Saison 2025/26
END:VEVENT
BEGIN:VEVENT
DTSTAMP:20260424T150503Z
DTSTART;TZID=Europe/Berlin:20260122T200000
DTEND;TZID=Europe/Berlin:20260122T230000
SUMMARY:ME L3 Gr 2\, Tours 3&4 Avry-Rosé II vs Fribourg V (0)
UID:6d23e13a-0389-4932-8649-ca2413f5b8a8
STATUS:CONFIRMED
LAST-MODIFIED:20260122T225146Z
DESCRIPTION:3ème ligue Hommes Groupe 2\, Tours 3&4\nBegegnungs-Nr: 0\nHeim: Avry-Rosé II\nGast: Fribourg V\n\nAdresse: Route du Château 15\, 1754 Avry-sur-Matran\n
LOCATION:Route du Château 15\, 1754 Avry-sur-Matran
CATEGORIES:Saison 2025/26
END:VEVENT
BEGIN:VEVENT
DTSTAMP:20260424T150503Z
DTSTART;TZID=Europe/Berlin:20260206T200000
DTEND;TZID=Europe/Berlin:20260206T230000
SUMMARY:ME L3 Gr 2\, Tours 3&4 Avry-Rosé II vs Ependes (0)
UID:402129cf-492f-4a24-969f-c07ce32b2dfd
STATUS:CONFIRMED
LAST-MODIFIED:20260207T003657Z
DESCRIPTION:3ème ligue Hommes Groupe 2\, Tours 3&4\nBegegnungs-Nr: 0\nHeim: Avry-Rosé II\nGast: Ependes\n\nAdresse: Route du Château 15\, 1754 Avry-sur-Matran\n
LOCATION:Route du Château 15\, 1754 Avry-sur-Matran
CATEGORIES:Saison 2025/26
END:VEVENT
BEGIN:VEVENT
DTSTAMP:20260424T150503Z
DTSTART;TZID=Europe/Berlin:20260312T200000
DTEND;TZID=Europe/Berlin:20260312T230000
SUMMARY:ME L3 Gr 2\, Tours 3&4 Avry-Rosé II vs Rossens IV (0)
UID:6f8f6cb5-ea3c-41b0-92f8-fe2f89373aab
STATUS:CONFIRMED
LAST-MODIFIED:20260313T231722Z
DESCRIPTION:3ème ligue Hommes Groupe 2\, Tours 3&4\nBegegnungs-Nr: 0\nHeim: Avry-Rosé II\nGast: Rossens IV\n\nAdresse: Route du Château 15\, 1754 Avry-sur-Matran\n
LOCATION:Route du Château 15\, 1754 Avry-sur-Matran
CATEGORIES:Saison 2025/26
END:VEVENT
BEGIN:VEVENT
DTSTAMP:20260424T150503Z
DTSTART;TZID=Europe/Berlin:20260424T200000
DTEND;TZID=Europe/Berlin:20260424T230000
SUMMARY:ME L3 Gr 2\, Tours 3&4 Avry-Rosé II vs Blonay (0)
UID:88d759ec-e8e4-4d44-b964-502765649ac3
STATUS:CONFIRMED
LAST-MODIFIED:20251227T195715Z
DESCRIPTION:3ème ligue Hommes Groupe 2\, Tours 3&4\nBegegnungs-Nr: 0\nHeim: Avry-Rosé II\nGast: Blonay\n\nAdresse: Route du Château 15\, 1754 Avry-sur-Matran\n
LOCATION:Route du Château 15\, 1754 Avry-sur-Matran
CATEGORIES:Saison 2025/26
END:VEVENT
BEGIN:VEVENT
DTSTAMP:20260424T150503Z
DTSTART;TZID=Europe/Berlin:20260501T200000
DTEND;TZID=Europe/Berlin:20260501T230000
SUMMARY:ME L3 Gr 2\, Tours 3&4 Avry-Rosé II vs Mézières (0)
UID:79669d78-78e3-4711-b791-a412834499a5
STATUS:CONFIRMED
LAST-MODIFIED:20251227T195836Z
DESCRIPTION:3ème ligue Hommes Groupe 2\, Tours 3&4\nBegegnungs-Nr: 0\nHeim: Avry-Rosé II\nGast: Mézières\n\nAdresse: Route du Château 15\, 1754 Avry-sur-Matran\n
LOCATION:Route du Château 15\, 1754 Avry-sur-Matran
CATEGORIES:Saison 2025/26
END:VEVENT
BEGIN:VEVENT
DTSTAMP:20260424T150503Z
DTSTART;TZID=Europe/Berlin:20250902T200000
DTEND;TZID=Europe/Berlin:20250902T230000
SUMMARY:ME L3 Gr 2\, Tours 1&2 Mézières vs Avry-Rosé II (0)
UID:0fb03dc4-4c3a-430a-9707-06f7054b9ba6
STATUS:CONFIRMED
LAST-MODIFIED:20250903T213002Z
DESCRIPTION:3ème ligue Hommes Groupe 2\, Tours 1&2\nBegegnungs-Nr: 0\nHeim: Mézières\nGast: Avry-Rosé II\n\nAdresse: -\, 1083 Mézières\n
LOCATION:-\, 1083 Mézières
CATEGORIES:Saison 2025/26
END:VEVENT
BEGIN:VEVENT
DTSTAMP:20260424T150503Z
DTSTART;TZID=Europe/Berlin:20250930T200000
DTEND;TZID=Europe/Berlin:20250930T230000
SUMMARY:ME L3 Gr 2\, Tours 1&2 Rossens IV vs Avry-Rosé II (0)
UID:0773d091-ee7b-47ff-9cb4-820950eaa574
STATUS:CONFIRMED
LAST-MODIFIED:20251001T172500Z
DESCRIPTION:3ème ligue Hommes Groupe 2\, Tours 1&2\nBegegnungs-Nr: 0\nHeim: Rossens IV\nGast: Avry-Rosé II\n\nAdresse: Route du Jordil 14\, 1728 Rossens\n
LOCATION:Route du Jordil 14\, 1728 Rossens
CATEGORIES:Saison 2025/26
END:VEVENT
BEGIN:VEVENT
DTSTAMP:20260424T150503Z
DTSTART;TZID=Europe/Berlin:20251009T193000
DTEND;TZID=Europe/Berlin:20251009T223000
SUMMARY:ME L3 Gr 2\, Tours 1&2 Fribourg V vs Avry-Rosé II (0)
UID:cfd9c060-b8fd-4aa3-8eaf-89dae929b008
STATUS:CONFIRMED
LAST-MODIFIED:20251011T111938Z
DESCRIPTION:3ème ligue Hommes Groupe 2\, Tours 1&2\nBegegnungs-Nr: 0\nHeim: Fribourg V\nGast: Avry-Rosé II\n\nAdresse: Route du Centre sportif\, 1752 Villars-sur-Glâne\n
LOCATION:Route du Centre sportif\, 1752 Villars-sur-Glâne
CATEGORIES:Saison 2025/26
END:VEVENT
BEGIN:VEVENT
DTSTAMP:20260424T150503Z
DTSTART;TZID=Europe/Berlin:20251103T200000
DTEND;TZID=Europe/Berlin:20251103T230000
SUMMARY:ME L3 Gr 2\, Tours 1&2 Bulle III vs Avry-Rosé II (0)
UID:fa1c9c75-5aed-4f64-8479-714c64335ecb
STATUS:CONFIRMED
LAST-MODIFIED:20251104T095615Z
DESCRIPTION:3ème ligue Hommes Groupe 2\, Tours 1&2\nBegegnungs-Nr: 0\nHeim: Bulle III\nGast: Avry-Rosé II\n\nAdresse: Rue du Stade 50\, 1630 Bulle\n
LOCATION:Rue du Stade 50\, 1630 Bulle
CATEGORIES:Saison 2025/26
END:VEVENT
BEGIN:VEVENT
DTSTAMP:20260424T150503Z
DTSTART;TZID=Europe/Berlin:20251120T191500
DTEND;TZID=Europe/Berlin:20251120T221500
SUMMARY:ME L3 Gr 2\, Tours 1&2 Fribourg VI vs Avry-Rosé II (0)
UID:3b624084-5bb5-4932-8425-08955657abdb
STATUS:CONFIRMED
LAST-MODIFIED:20251121T100447Z
DESCRIPTION:3ème ligue Hommes Groupe 2\, Tours 1&2\nBegegnungs-Nr: 0\nHeim: Fribourg VI\nGast: Avry-Rosé II\n\nAdresse: Avenue Général Guisan 61\, 1700 Fribourg\n
LOCATION:Avenue Général Guisan 61\, 1700 Fribourg
CATEGORIES:Saison 2025/26
END:VEVENT
BEGIN:VEVENT
DTSTAMP:20260424T150503Z
DTSTART;TZID=Europe/Berlin:20260106T200000
DTEND;TZID=Europe/Berlin:20260106T230000
SUMMARY:ME L3 Gr 2\, Tours 3&4 Rossens IV vs Avry-Rosé II (0)
UID:3a54cf04-5541-4fd6-8abf-8a0ad627620a
STATUS:CONFIRMED
LAST-MODIFIED:20260107T164432Z
DESCRIPTION:3ème ligue Hommes Groupe 2\, Tours 3&4\nBegegnungs-Nr: 0\nHeim: Rossens IV\nGast: Avry-Rosé II\n\nAdresse: Route du Jordil 14\, 1728 Rossens\n
LOCATION:Route du Jordil 14\, 1728 Rossens
CATEGORIES:Saison 2025/26
END:VEVENT
BEGIN:VEVENT
DTSTAMP:20260424T150503Z
DTSTART;TZID=Europe/Berlin:20260213T193000
DTEND;TZID=Europe/Berlin:20260213T223000
SUMMARY:ME L3 Gr 2\, Tours 3&4 Blonay vs Avry-Rosé II (0)
UID:f05c5373-3210-4fcb-9145-2c14d0fca12b
STATUS:CONFIRMED
LAST-MODIFIED:20260215T205931Z
DESCRIPTION:3ème ligue Hommes Groupe 2\, Tours 3&4\nBegegnungs-Nr: 0\nHeim: Blonay\nGast: Avry-Rosé II\n\nAdresse: Route de Prélaz 2\, 1807 Blonay\n
LOCATION:Route de Prélaz 2\, 1807 Blonay
CATEGORIES:Saison 2025/26
END:VEVENT
BEGIN:VEVENT
DTSTAMP:20260424T150503Z
DTSTART;TZID=Europe/Berlin:20260224T200000
DTEND;TZID=Europe/Berlin:20260224T230000
SUMMARY:ME L3 Gr 2\, Tours 3&4 Mézières vs Avry-Rosé II (0)
UID:a722121b-7963-4f8c-a9c7-933cfcc71ffa
STATUS:CONFIRMED
LAST-MODIFIED:20260225T224609Z
DESCRIPTION:3ème ligue Hommes Groupe 2\, Tours 3&4\nBegegnungs-Nr: 0\nHeim: Mézières\nGast: Avry-Rosé II\n\nAdresse: -\, 1083 Mézières\n
LOCATION:-\, 1083 Mézières
CATEGORIES:Saison 2025/26
END:VEVENT
BEGIN:VEVENT
DTSTAMP:20260424T150503Z
DTSTART;TZID=Europe/Berlin:20260326T193000
DTEND;TZID=Europe/Berlin:20260326T223000
SUMMARY:ME L3 Gr 2\, Tours 3&4 Fribourg V vs Avry-Rosé II (0)
UID:975dc7b4-0825-4808-ad79-3989b923ec11
STATUS:CONFIRMED
LAST-MODIFIED:20260330T184633Z
DESCRIPTION:3ème ligue Hommes Groupe 2\, Tours 3&4\nBegegnungs-Nr: 0\nHeim: Fribourg V\nGast: Avry-Rosé II\n\nAdresse: Route du Centre sportif\, 1752 Villars-sur-Glâne\n
LOCATION:Route du Centre sportif\, 1752 Villars-sur-Glâne
CATEGORIES:Saison 2025/26
END:VEVENT
BEGIN:VEVENT
DTSTAMP:20260424T150503Z
DTSTART;TZID=Europe/Berlin:20260401T194500
DTEND;TZID=Europe/Berlin:20260401T224500
SUMMARY:ME L3 Gr 2\, Tours 3&4 Ependes vs Avry-Rosé II (0)
UID:2de319a0-27cc-4c89-aee4-59027a966932
STATUS:CONFIRMED
LAST-MODIFIED:20260402T171932Z
DESCRIPTION:3ème ligue Hommes Groupe 2\, Tours 3&4\nBegegnungs-Nr: 0\nHeim: Ependes\nGast: Avry-Rosé II\n\nAdresse: -\, 1731 Ependes FR\n
LOCATION:-\, 1731 Ependes FR
CATEGORIES:Saison 2025/26
END:VEVENT
END:VCALENDAR
