BEGIN:VCALENDAR
PRODID:-//nuDatenautomaten//framework iCal4j //DE
VERSION:2.0
CALSCALE:GREGORIAN
BEGIN:VTIMEZONE
TZID:Europe/Berlin
LAST-MODIFIED:20260306T231828Z
TZURL:https://www.tzurl.org/zoneinfo/Europe/Berlin
X-LIC-LOCATION:Europe/Berlin
X-PROLEPTIC-TZNAME:LMT
BEGIN:STANDARD
TZNAME:CET
TZOFFSETFROM:+005328
TZOFFSETTO:+0100
DTSTART:18930401T000000
END:STANDARD
BEGIN:DAYLIGHT
TZNAME:CEST
TZOFFSETFROM:+0100
TZOFFSETTO:+0200
DTSTART:19160430T230000
RDATE:19400401T020000
RDATE:19430329T020000
RDATE:19460414T020000
RDATE:19470406T030000
RDATE:19480418T020000
RDATE:19490410T020000
RDATE:19800406T020000
END:DAYLIGHT
BEGIN:STANDARD
TZNAME:CET
TZOFFSETFROM:+0200
TZOFFSETTO:+0100
DTSTART:19161001T010000
RDATE:19421102T030000
RDATE:19431004T030000
RDATE:19441002T030000
RDATE:19451118T030000
RDATE:19461007T030000
END:STANDARD
BEGIN:DAYLIGHT
TZNAME:CEST
TZOFFSETFROM:+0100
TZOFFSETTO:+0200
DTSTART:19170416T020000
RRULE:FREQ=YEARLY;UNTIL=19180415T010000Z;BYMONTH=4;BYDAY=3MO
END:DAYLIGHT
BEGIN:STANDARD
TZNAME:CET
TZOFFSETFROM:+0200
TZOFFSETTO:+0100
DTSTART:19170917T030000
RRULE:FREQ=YEARLY;UNTIL=19180916T010000Z;BYMONTH=9;BYDAY=3MO
END:STANDARD
BEGIN:DAYLIGHT
TZNAME:CEST
TZOFFSETFROM:+0100
TZOFFSETTO:+0200
DTSTART:19440403T020000
RRULE:FREQ=YEARLY;UNTIL=19450402T010000Z;BYMONTH=4;BYDAY=1MO
END:DAYLIGHT
BEGIN:DAYLIGHT
TZNAME:CEMT
TZOFFSETFROM:+0200
TZOFFSETTO:+0300
DTSTART:19450524T020000
RDATE:19470511T030000
END:DAYLIGHT
BEGIN:DAYLIGHT
TZNAME:CEST
TZOFFSETFROM:+0300
TZOFFSETTO:+0200
DTSTART:19450924T030000
RDATE:19470629T030000
END:DAYLIGHT
BEGIN:STANDARD
TZNAME:CET
TZOFFSETFROM:+0100
TZOFFSETTO:+0100
DTSTART:19460101T000000
RDATE:19800101T000000
END:STANDARD
BEGIN:STANDARD
TZNAME:CET
TZOFFSETFROM:+0200
TZOFFSETTO:+0100
DTSTART:19471005T030000
RRULE:FREQ=YEARLY;UNTIL=19491002T010000Z;BYMONTH=10;BYDAY=1SU
END:STANDARD
BEGIN:STANDARD
TZNAME:CET
TZOFFSETFROM:+0200
TZOFFSETTO:+0100
DTSTART:19800928T030000
RRULE:FREQ=YEARLY;UNTIL=19950924T010000Z;BYMONTH=9;BYDAY=-1SU
END:STANDARD
BEGIN:DAYLIGHT
TZNAME:CEST
TZOFFSETFROM:+0100
TZOFFSETTO:+0200
DTSTART:19810329T020000
RRULE:FREQ=YEARLY;BYMONTH=3;BYDAY=-1SU
END:DAYLIGHT
BEGIN:STANDARD
TZNAME:CET
TZOFFSETFROM:+0200
TZOFFSETTO:+0100
DTSTART:19961027T030000
RRULE:FREQ=YEARLY;BYMONTH=10;BYDAY=-1SU
END:STANDARD
END:VTIMEZONE
BEGIN:VEVENT
DTSTAMP:20260424T151706Z
DTSTART;TZID=Europe/Berlin:20251121T193000
DTEND;TZID=Europe/Berlin:20251121T223000
SUMMARY:ME L2 Gr 2\, Tours 1&2 Blonay vs Rossens III (0)
UID:bef986fd-ba8e-4c94-92ea-3b371143e21d
STATUS:CONFIRMED
LAST-MODIFIED:20251124T184548Z
DESCRIPTION:2ème ligue Hommes Groupe 2\, Tours 1&2\nBegegnungs-Nr: 0\nHeim: Blonay\nGast: Rossens III\n\nAdresse: Route de Prélaz 2\, 1807 Blonay\n
LOCATION:Route de Prélaz 2\, 1807 Blonay
CATEGORIES:Saison 2025/26
END:VEVENT
BEGIN:VEVENT
DTSTAMP:20260424T151706Z
DTSTART;TZID=Europe/Berlin:20250912T193000
DTEND;TZID=Europe/Berlin:20250912T223000
SUMMARY:ME L2 Gr 2\, Tours 1&2 Blonay vs Fribourg IV (0)
UID:58e810ec-42b5-4d33-8eeb-0bca5ea27aec
STATUS:CONFIRMED
LAST-MODIFIED:20250913T125946Z
DESCRIPTION:2ème ligue Hommes Groupe 2\, Tours 1&2\nBegegnungs-Nr: 0\nHeim: Blonay\nGast: Fribourg IV\n\nAdresse: Route de Prélaz 2\, 1807 Blonay\n
LOCATION:Route de Prélaz 2\, 1807 Blonay
CATEGORIES:Saison 2025/26
END:VEVENT
BEGIN:VEVENT
DTSTAMP:20260424T151706Z
DTSTART;TZID=Europe/Berlin:20251003T193000
DTEND;TZID=Europe/Berlin:20251003T223000
SUMMARY:ME L2 Gr 2\, Tours 1&2 Blonay vs Montriond-Ouchy  (0)
UID:db1f3a6e-ac5c-4d6c-94e4-f1c4002ba9e2
STATUS:CONFIRMED
LAST-MODIFIED:20251006T191458Z
DESCRIPTION:2ème ligue Hommes Groupe 2\, Tours 1&2\nBegegnungs-Nr: 0\nHeim: Blonay\nGast: Montriond-Ouchy \n\nAdresse: Route de Prélaz 2\, 1807 Blonay\n
LOCATION:Route de Prélaz 2\, 1807 Blonay
CATEGORIES:Saison 2025/26
END:VEVENT
BEGIN:VEVENT
DTSTAMP:20260424T151706Z
DTSTART;TZID=Europe/Berlin:20251024T193000
DTEND;TZID=Europe/Berlin:20251024T223000
SUMMARY:ME L2 Gr 2\, Tours 1&2 Blonay vs Fribourg III (0)
UID:64e28d43-d4a1-4111-bfd8-1d5fd3450e35
STATUS:CONFIRMED
LAST-MODIFIED:20251028T113247Z
DESCRIPTION:2ème ligue Hommes Groupe 2\, Tours 1&2\nBegegnungs-Nr: 0\nHeim: Blonay\nGast: Fribourg III\n\nAdresse: Route de Prélaz 2\, 1807 Blonay\n
LOCATION:Route de Prélaz 2\, 1807 Blonay
CATEGORIES:Saison 2025/26
END:VEVENT
BEGIN:VEVENT
DTSTAMP:20260424T151706Z
DTSTART;TZID=Europe/Berlin:20251031T193000
DTEND;TZID=Europe/Berlin:20251031T223000
SUMMARY:ME L2 Gr 2\, Tours 1&2 Blonay vs Lausanne V (0)
UID:590de276-7d95-4ebd-91ef-94a9f904a1f5
STATUS:CONFIRMED
LAST-MODIFIED:20251103T123622Z
DESCRIPTION:2ème ligue Hommes Groupe 2\, Tours 1&2\nBegegnungs-Nr: 0\nHeim: Blonay\nGast: Lausanne V\n\nAdresse: Route de Prélaz 2\, 1807 Blonay\n
LOCATION:Route de Prélaz 2\, 1807 Blonay
CATEGORIES:Saison 2025/26
END:VEVENT
BEGIN:VEVENT
DTSTAMP:20260424T151706Z
DTSTART;TZID=Europe/Berlin:20260123T193000
DTEND;TZID=Europe/Berlin:20260123T223000
SUMMARY:ME L3 Gr 2\, Tours 3&4 Blonay vs Rossens IV (0)
UID:98a40df6-3db4-4d8a-9ad2-f5da3611ce5f
STATUS:CONFIRMED
LAST-MODIFIED:20260124T154259Z
DESCRIPTION:3ème ligue Hommes Groupe 2\, Tours 3&4\nBegegnungs-Nr: 0\nHeim: Blonay\nGast: Rossens IV\n\nAdresse: Route de Prélaz 2\, 1807 Blonay\n
LOCATION:Route de Prélaz 2\, 1807 Blonay
CATEGORIES:Saison 2025/26
END:VEVENT
BEGIN:VEVENT
DTSTAMP:20260424T151706Z
DTSTART;TZID=Europe/Berlin:20260213T193000
DTEND;TZID=Europe/Berlin:20260213T223000
SUMMARY:ME L3 Gr 2\, Tours 3&4 Blonay vs Avry-Rosé II (0)
UID:f05c5373-3210-4fcb-9145-2c14d0fca12b
STATUS:CONFIRMED
LAST-MODIFIED:20260215T205931Z
DESCRIPTION:3ème ligue Hommes Groupe 2\, Tours 3&4\nBegegnungs-Nr: 0\nHeim: Blonay\nGast: Avry-Rosé II\n\nAdresse: Route de Prélaz 2\, 1807 Blonay\n
LOCATION:Route de Prélaz 2\, 1807 Blonay
CATEGORIES:Saison 2025/26
END:VEVENT
BEGIN:VEVENT
DTSTAMP:20260424T151706Z
DTSTART;TZID=Europe/Berlin:20260227T193000
DTEND;TZID=Europe/Berlin:20260227T223000
SUMMARY:ME L3 Gr 2\, Tours 3&4 Blonay vs Ependes (0)
UID:e0915604-f72f-44a9-91ba-f9bcc6a26ca8
STATUS:CONFIRMED
LAST-MODIFIED:20260301T134941Z
DESCRIPTION:3ème ligue Hommes Groupe 2\, Tours 3&4\nBegegnungs-Nr: 0\nHeim: Blonay\nGast: Ependes\n\nAdresse: Route de Prélaz 2\, 1807 Blonay\n
LOCATION:Route de Prélaz 2\, 1807 Blonay
CATEGORIES:Saison 2025/26
END:VEVENT
BEGIN:VEVENT
DTSTAMP:20260424T151706Z
DTSTART;TZID=Europe/Berlin:20260313T193000
DTEND;TZID=Europe/Berlin:20260313T223000
SUMMARY:ME L3 Gr 2\, Tours 3&4 Blonay vs Mézières (0)
UID:1068a4bf-a740-4f6b-ac1d-3248a058225a
STATUS:CONFIRMED
LAST-MODIFIED:20260314T163418Z
DESCRIPTION:3ème ligue Hommes Groupe 2\, Tours 3&4\nBegegnungs-Nr: 0\nHeim: Blonay\nGast: Mézières\n\nAdresse: Route de Prélaz 2\, 1807 Blonay\n
LOCATION:Route de Prélaz 2\, 1807 Blonay
CATEGORIES:Saison 2025/26
END:VEVENT
BEGIN:VEVENT
DTSTAMP:20260424T151706Z
DTSTART;TZID=Europe/Berlin:20260403T193000
DTEND;TZID=Europe/Berlin:20260403T223000
SUMMARY:ME L3 Gr 2\, Tours 3&4 Blonay vs Fribourg V (0)
UID:d38be063-1213-41ce-9fa3-0f730205ddb1
STATUS:CONFIRMED
LAST-MODIFIED:20260407T193037Z
DESCRIPTION:3ème ligue Hommes Groupe 2\, Tours 3&4\nBegegnungs-Nr: 0\nHeim: Blonay\nGast: Fribourg V\n\nAdresse: Route de Prélaz 2\, 1807 Blonay\n
LOCATION:Route de Prélaz 2\, 1807 Blonay
CATEGORIES:Saison 2025/26
END:VEVENT
BEGIN:VEVENT
DTSTAMP:20260424T151706Z
DTSTART;TZID=Europe/Berlin:20251105T201500
DTEND;TZID=Europe/Berlin:20251105T231500
SUMMARY:ME L2 Gr 2\, Tours 1&2 Fribourg IV vs Blonay (0)
UID:0b0cbcc3-8d10-49cc-beb2-2341bcbcaff2
STATUS:CONFIRMED
LAST-MODIFIED:20251106T100347Z
DESCRIPTION:2ème ligue Hommes Groupe 2\, Tours 1&2\nBegegnungs-Nr: 0\nHeim: Fribourg IV\nGast: Blonay\n\nAdresse: Avenue Général Guisan 61\, 1700 Fribourg\n
LOCATION:Avenue Général Guisan 61\, 1700 Fribourg
CATEGORIES:Saison 2025/26
END:VEVENT
BEGIN:VEVENT
DTSTAMP:20260424T151706Z
DTSTART;TZID=Europe/Berlin:20251128T193000
DTEND;TZID=Europe/Berlin:20251128T223000
SUMMARY:ME L2 Gr 2\, Tours 1&2 Montriond-Ouchy  vs Blonay (0)
UID:0f99424d-58ea-4122-b20c-dd1979629e85
STATUS:CONFIRMED
LAST-MODIFIED:20251201T101051Z
DESCRIPTION:2ème ligue Hommes Groupe 2\, Tours 1&2\nBegegnungs-Nr: 0\nHeim: Montriond-Ouchy \nGast: Blonay\n\nAdresse: Avenue d'Ouchy 45\, 1006 Lausanne\n
LOCATION:Avenue d'Ouchy 45\, 1006 Lausanne
CATEGORIES:Saison 2025/26
END:VEVENT
BEGIN:VEVENT
DTSTAMP:20260424T151706Z
DTSTART;TZID=Europe/Berlin:20251210T201500
DTEND;TZID=Europe/Berlin:20251210T231500
SUMMARY:ME L2 Gr 2\, Tours 1&2 Fribourg III vs Blonay (0)
UID:6494f623-75ef-4106-8bc0-c67d4f0ada72
STATUS:CONFIRMED
LAST-MODIFIED:20251213T130858Z
DESCRIPTION:2ème ligue Hommes Groupe 2\, Tours 1&2\nBegegnungs-Nr: 0\nHeim: Fribourg III\nGast: Blonay\n\nAdresse: Avenue Général Guisan 61\, 1700 Fribourg\n
LOCATION:Avenue Général Guisan 61\, 1700 Fribourg
CATEGORIES:Saison 2025/26
END:VEVENT
BEGIN:VEVENT
DTSTAMP:20260424T151706Z
DTSTART;TZID=Europe/Berlin:20250902T200000
DTEND;TZID=Europe/Berlin:20250902T230000
SUMMARY:ME L2 Gr 2\, Tours 1&2 Lausanne V vs Blonay (0)
UID:5dbd0e16-23a0-4fec-8bd8-628469134384
STATUS:CONFIRMED
LAST-MODIFIED:20250903T212928Z
DESCRIPTION:2ème ligue Hommes Groupe 2\, Tours 1&2\nBegegnungs-Nr: 0\nHeim: Lausanne V\nGast: Blonay\n\nAdresse: Vaudoise Aréna\, Ch. du Viaduc 14\, 1008 Prilly\n
LOCATION:Vaudoise Aréna\, Ch. du Viaduc 14\, 1008 Prilly
CATEGORIES:Saison 2025/26
END:VEVENT
BEGIN:VEVENT
DTSTAMP:20260424T151706Z
DTSTART;TZID=Europe/Berlin:20250829T200000
DTEND;TZID=Europe/Berlin:20250829T230000
SUMMARY:ME L2 Gr 2\, Tours 1&2 Rossens III vs Blonay (0)
UID:6bde9d90-d649-4e3a-9bfd-bb5b35a3e829
STATUS:CONFIRMED
LAST-MODIFIED:20250830T101800Z
DESCRIPTION:2ème ligue Hommes Groupe 2\, Tours 1&2\nBegegnungs-Nr: 0\nHeim: Rossens III\nGast: Blonay\n\nAdresse: Route du Jordil 14\, 1728 Rossens\n
LOCATION:Route du Jordil 14\, 1728 Rossens
CATEGORIES:Saison 2025/26
END:VEVENT
BEGIN:VEVENT
DTSTAMP:20260424T151706Z
DTSTART;TZID=Europe/Berlin:20260113T200000
DTEND;TZID=Europe/Berlin:20260113T230000
SUMMARY:ME L3 Gr 2\, Tours 3&4 Mézières vs Blonay (0)
UID:b340c462-3646-4418-8460-cd3af67f5ec2
STATUS:CONFIRMED
LAST-MODIFIED:20260115T101853Z
DESCRIPTION:3ème ligue Hommes Groupe 2\, Tours 3&4\nBegegnungs-Nr: 0\nHeim: Mézières\nGast: Blonay\n\nAdresse: -\, 1083 Mézières\n
LOCATION:-\, 1083 Mézières
CATEGORIES:Saison 2025/26
END:VEVENT
BEGIN:VEVENT
DTSTAMP:20260424T151706Z
DTSTART;TZID=Europe/Berlin:20260205T193000
DTEND;TZID=Europe/Berlin:20260205T223000
SUMMARY:ME L3 Gr 2\, Tours 3&4 Fribourg V vs Blonay (0)
UID:eda17a12-e261-4d6a-8010-3bb7be483c99
STATUS:CONFIRMED
LAST-MODIFIED:20260206T183834Z
DESCRIPTION:3ème ligue Hommes Groupe 2\, Tours 3&4\nBegegnungs-Nr: 0\nHeim: Fribourg V\nGast: Blonay\n\nAdresse: Route du Centre sportif\, 1752 Villars-sur-Glâne\n
LOCATION:Route du Centre sportif\, 1752 Villars-sur-Glâne
CATEGORIES:Saison 2025/26
END:VEVENT
BEGIN:VEVENT
DTSTAMP:20260424T151706Z
DTSTART;TZID=Europe/Berlin:20260317T200000
DTEND;TZID=Europe/Berlin:20260317T230000
SUMMARY:ME L3 Gr 2\, Tours 3&4 Rossens IV vs Blonay (0)
UID:9cb2cd52-3973-4d11-8355-998d6142dc24
STATUS:CONFIRMED
LAST-MODIFIED:20260321T102418Z
DESCRIPTION:3ème ligue Hommes Groupe 2\, Tours 3&4\nBegegnungs-Nr: 0\nHeim: Rossens IV\nGast: Blonay\n\nAdresse: Route du Jordil 14\, 1728 Rossens\n
LOCATION:Route du Jordil 14\, 1728 Rossens
CATEGORIES:Saison 2025/26
END:VEVENT
BEGIN:VEVENT
DTSTAMP:20260424T151706Z
DTSTART;TZID=Europe/Berlin:20260424T200000
DTEND;TZID=Europe/Berlin:20260424T230000
SUMMARY:ME L3 Gr 2\, Tours 3&4 Avry-Rosé II vs Blonay (0)
UID:88d759ec-e8e4-4d44-b964-502765649ac3
STATUS:CONFIRMED
LAST-MODIFIED:20251227T195715Z
DESCRIPTION:3ème ligue Hommes Groupe 2\, Tours 3&4\nBegegnungs-Nr: 0\nHeim: Avry-Rosé II\nGast: Blonay\n\nAdresse: Route du Château 15\, 1754 Avry-sur-Matran\n
LOCATION:Route du Château 15\, 1754 Avry-sur-Matran
CATEGORIES:Saison 2025/26
END:VEVENT
BEGIN:VEVENT
DTSTAMP:20260424T151706Z
DTSTART;TZID=Europe/Berlin:20260429T194500
DTEND;TZID=Europe/Berlin:20260429T224500
SUMMARY:ME L3 Gr 2\, Tours 3&4 Ependes vs Blonay (0)
UID:8f600607-c786-4e9f-9dea-04f51e8757c4
STATUS:CONFIRMED
DESCRIPTION:3ème ligue Hommes Groupe 2\, Tours 3&4\nBegegnungs-Nr: 0\nHeim: Ependes\nGast: Blonay\n\nAdresse: -\, 1731 Ependes FR\n
LOCATION:-\, 1731 Ependes FR
CATEGORIES:Saison 2025/26
END:VEVENT
END:VCALENDAR
