BEGIN:VCALENDAR
PRODID:-//nuDatenautomaten//framework iCal4j //DE
VERSION:2.0
CALSCALE:GREGORIAN
BEGIN:VTIMEZONE
TZID:Europe/Berlin
LAST-MODIFIED:20260306T231828Z
TZURL:https://www.tzurl.org/zoneinfo/Europe/Berlin
X-LIC-LOCATION:Europe/Berlin
X-PROLEPTIC-TZNAME:LMT
BEGIN:STANDARD
TZNAME:CET
TZOFFSETFROM:+005328
TZOFFSETTO:+0100
DTSTART:18930401T000000
END:STANDARD
BEGIN:DAYLIGHT
TZNAME:CEST
TZOFFSETFROM:+0100
TZOFFSETTO:+0200
DTSTART:19160430T230000
RDATE:19400401T020000
RDATE:19430329T020000
RDATE:19460414T020000
RDATE:19470406T030000
RDATE:19480418T020000
RDATE:19490410T020000
RDATE:19800406T020000
END:DAYLIGHT
BEGIN:STANDARD
TZNAME:CET
TZOFFSETFROM:+0200
TZOFFSETTO:+0100
DTSTART:19161001T010000
RDATE:19421102T030000
RDATE:19431004T030000
RDATE:19441002T030000
RDATE:19451118T030000
RDATE:19461007T030000
END:STANDARD
BEGIN:DAYLIGHT
TZNAME:CEST
TZOFFSETFROM:+0100
TZOFFSETTO:+0200
DTSTART:19170416T020000
RRULE:FREQ=YEARLY;UNTIL=19180415T010000Z;BYMONTH=4;BYDAY=3MO
END:DAYLIGHT
BEGIN:STANDARD
TZNAME:CET
TZOFFSETFROM:+0200
TZOFFSETTO:+0100
DTSTART:19170917T030000
RRULE:FREQ=YEARLY;UNTIL=19180916T010000Z;BYMONTH=9;BYDAY=3MO
END:STANDARD
BEGIN:DAYLIGHT
TZNAME:CEST
TZOFFSETFROM:+0100
TZOFFSETTO:+0200
DTSTART:19440403T020000
RRULE:FREQ=YEARLY;UNTIL=19450402T010000Z;BYMONTH=4;BYDAY=1MO
END:DAYLIGHT
BEGIN:DAYLIGHT
TZNAME:CEMT
TZOFFSETFROM:+0200
TZOFFSETTO:+0300
DTSTART:19450524T020000
RDATE:19470511T030000
END:DAYLIGHT
BEGIN:DAYLIGHT
TZNAME:CEST
TZOFFSETFROM:+0300
TZOFFSETTO:+0200
DTSTART:19450924T030000
RDATE:19470629T030000
END:DAYLIGHT
BEGIN:STANDARD
TZNAME:CET
TZOFFSETFROM:+0100
TZOFFSETTO:+0100
DTSTART:19460101T000000
RDATE:19800101T000000
END:STANDARD
BEGIN:STANDARD
TZNAME:CET
TZOFFSETFROM:+0200
TZOFFSETTO:+0100
DTSTART:19471005T030000
RRULE:FREQ=YEARLY;UNTIL=19491002T010000Z;BYMONTH=10;BYDAY=1SU
END:STANDARD
BEGIN:STANDARD
TZNAME:CET
TZOFFSETFROM:+0200
TZOFFSETTO:+0100
DTSTART:19800928T030000
RRULE:FREQ=YEARLY;UNTIL=19950924T010000Z;BYMONTH=9;BYDAY=-1SU
END:STANDARD
BEGIN:DAYLIGHT
TZNAME:CEST
TZOFFSETFROM:+0100
TZOFFSETTO:+0200
DTSTART:19810329T020000
RRULE:FREQ=YEARLY;BYMONTH=3;BYDAY=-1SU
END:DAYLIGHT
BEGIN:STANDARD
TZNAME:CET
TZOFFSETFROM:+0200
TZOFFSETTO:+0100
DTSTART:19961027T030000
RRULE:FREQ=YEARLY;BYMONTH=10;BYDAY=-1SU
END:STANDARD
END:VTIMEZONE
BEGIN:VEVENT
DTSTAMP:20260424T134158Z
DTSTART;TZID=Europe/Berlin:20251113T194500
DTEND;TZID=Europe/Berlin:20251113T224500
SUMMARY:Ligue 4 Gr.4 Ph.A Silver Star VIII vs Collex-Bossy (20)
UID:ad49546e-0ae0-4328-ae7e-4d6f30e055ac
STATUS:CONFIRMED
LAST-MODIFIED:20251114T082452Z
DESCRIPTION:4ème ligue Hommes Gr.4 Phase A\nBegegnungs-Nr: 20\nHeim: Silver Star VIII\nGast: Collex-Bossy\n
LOCATION:
CATEGORIES:Saison 2025/26
END:VEVENT
BEGIN:VEVENT
DTSTAMP:20260424T134158Z
DTSTART;TZID=Europe/Berlin:20250904T194500
DTEND;TZID=Europe/Berlin:20250904T224500
SUMMARY:Ligue 4 Gr.4 Ph.A Silver Star VIII vs UGS-Chênois VIII (1)
UID:b1dde73a-ed46-4638-8af7-6e987c62bf88
STATUS:CONFIRMED
LAST-MODIFIED:20250905T172848Z
DESCRIPTION:4ème ligue Hommes Gr.4 Phase A\nBegegnungs-Nr: 1\nHeim: Silver Star VIII\nGast: UGS-Chênois VIII\n
LOCATION:
CATEGORIES:Saison 2025/26
END:VEVENT
BEGIN:VEVENT
DTSTAMP:20260424T134158Z
DTSTART;TZID=Europe/Berlin:20250925T194500
DTEND;TZID=Europe/Berlin:20250925T224500
SUMMARY:Ligue 4 Gr.4 Ph.A Silver Star VIII vs Meyrin IV (9)
UID:e4cae014-5554-4a2c-9953-1c4f84be7546
STATUS:CONFIRMED
LAST-MODIFIED:20250926T183754Z
DESCRIPTION:4ème ligue Hommes Gr.4 Phase A\nBegegnungs-Nr: 9\nHeim: Silver Star VIII\nGast: Meyrin IV\n
LOCATION:
CATEGORIES:Saison 2025/26
END:VEVENT
BEGIN:VEVENT
DTSTAMP:20260424T134158Z
DTSTART;TZID=Europe/Berlin:20251204T194500
DTEND;TZID=Europe/Berlin:20251204T224500
SUMMARY:Ligue 4 Gr.4 Ph.A Silver Star VIII vs Versoix IV (29)
UID:15787b17-773a-4a79-a63d-6df69e7ceaad
STATUS:CONFIRMED
LAST-MODIFIED:20251205T082542Z
DESCRIPTION:4ème ligue Hommes Gr.4 Phase A\nBegegnungs-Nr: 29\nHeim: Silver Star VIII\nGast: Versoix IV\n\nAdresse: Rue de Vermont 33\, 1202 Genève\n
LOCATION:Rue de Vermont 33\, 1202 Genève
CATEGORIES:Saison 2025/26
END:VEVENT
BEGIN:VEVENT
DTSTAMP:20260424T134158Z
DTSTART;TZID=Europe/Berlin:20251127T194500
DTEND;TZID=Europe/Berlin:20251127T224500
SUMMARY:Ligue 4 Gr.4 Ph.A Silver Star VIII vs Grand-Saconnex III (26)
UID:5f585d0a-47d6-4b6c-a4eb-b8b46c5f377f
STATUS:CONFIRMED
LAST-MODIFIED:20251128T083432Z
DESCRIPTION:4ème ligue Hommes Gr.4 Phase A\nBegegnungs-Nr: 26\nHeim: Silver Star VIII\nGast: Grand-Saconnex III\n
LOCATION:
CATEGORIES:Saison 2025/26
END:VEVENT
BEGIN:VEVENT
DTSTAMP:20260424T134158Z
DTSTART;TZID=Europe/Berlin:20260430T194500
DTEND;TZID=Europe/Berlin:20260430T224500
SUMMARY:Ligue 4 Gr.1 Ph.B Silver Star VIII vs Rapid-Genève II (28)
UID:54fb35f5-231e-42b3-b631-b6abe32c53da
STATUS:CONFIRMED
DESCRIPTION:4ème ligue Hommes Gr.1 Phase B\nBegegnungs-Nr: 28\nHeim: Silver Star VIII\nGast: Rapid-Genève II\n
LOCATION:
CATEGORIES:Saison 2025/26
END:VEVENT
BEGIN:VEVENT
DTSTAMP:20260424T134158Z
DTSTART;TZID=Europe/Berlin:20260319T194500
DTEND;TZID=Europe/Berlin:20260319T224500
SUMMARY:Ligue 4 Gr.1 Ph.B Silver Star VIII vs Puplinge II (20)
UID:03046f50-9b1a-4ca1-801f-3383bc165ebf
STATUS:CONFIRMED
LAST-MODIFIED:20260320T081254Z
DESCRIPTION:4ème ligue Hommes Gr.1 Phase B\nBegegnungs-Nr: 20\nHeim: Silver Star VIII\nGast: Puplinge II\n
LOCATION:
CATEGORIES:Saison 2025/26
END:VEVENT
BEGIN:VEVENT
DTSTAMP:20260424T134158Z
DTSTART;TZID=Europe/Berlin:20260115T194500
DTEND;TZID=Europe/Berlin:20260115T224500
SUMMARY:Ligue 4 Gr.1 Ph.B Silver Star VIII vs UGS-Chênois X (2)
UID:062b2120-a9b7-48e8-be9a-6b43e108715f
STATUS:CONFIRMED
LAST-MODIFIED:20260116T093835Z
DESCRIPTION:4ème ligue Hommes Gr.1 Phase B\nBegegnungs-Nr: 2\nHeim: Silver Star VIII\nGast: UGS-Chênois X\n
LOCATION:
CATEGORIES:Saison 2025/26
END:VEVENT
BEGIN:VEVENT
DTSTAMP:20260424T134158Z
DTSTART;TZID=Europe/Berlin:20260212T194500
DTEND;TZID=Europe/Berlin:20260212T224500
SUMMARY:Ligue 4 Gr.1 Ph.B Silver Star VIII vs Onex V (12)
UID:ee94dce8-f8ed-490e-80a0-32f3c5447e19
STATUS:CONFIRMED
LAST-MODIFIED:20260213T081957Z
DESCRIPTION:4ème ligue Hommes Gr.1 Phase B\nBegegnungs-Nr: 12\nHeim: Silver Star VIII\nGast: Onex V\n
LOCATION:
CATEGORIES:Saison 2025/26
END:VEVENT
BEGIN:VEVENT
DTSTAMP:20260424T134158Z
DTSTART;TZID=Europe/Berlin:20260129T194500
DTEND;TZID=Europe/Berlin:20260129T224500
SUMMARY:Ligue 4 Gr.1 Ph.B Silver Star VIII vs Carouge VI (8)
UID:6522c6a3-b7d2-4971-9c7d-f62c4a7e1fe8
STATUS:CONFIRMED
LAST-MODIFIED:20260130T084245Z
DESCRIPTION:4ème ligue Hommes Gr.1 Phase B\nBegegnungs-Nr: 8\nHeim: Silver Star VIII\nGast: Carouge VI\n
LOCATION:
CATEGORIES:Saison 2025/26
END:VEVENT
BEGIN:VEVENT
DTSTAMP:20260424T134158Z
DTSTART;TZID=Europe/Berlin:20251120T194500
DTEND;TZID=Europe/Berlin:20251120T224500
SUMMARY:Ligue 4 Gr.4 Ph.A Meyrin IV vs Silver Star VIII (24)
UID:41b00d8a-7b49-48ae-8481-304216f9ca86
STATUS:CONFIRMED
LAST-MODIFIED:20251121T102651Z
DESCRIPTION:4ème ligue Hommes Gr.4 Phase A\nBegegnungs-Nr: 24\nHeim: Meyrin IV\nGast: Silver Star VIII\n
LOCATION:
CATEGORIES:Saison 2025/26
END:VEVENT
BEGIN:VEVENT
DTSTAMP:20260424T134158Z
DTSTART;TZID=Europe/Berlin:20251030T194500
DTEND;TZID=Europe/Berlin:20251030T224500
SUMMARY:Ligue 4 Gr.4 Ph.A UGS-Chênois VIII vs Silver Star VIII (16)
UID:e74930cc-1e3d-455a-8721-96634c3e6a3d
STATUS:CONFIRMED
LAST-MODIFIED:20251031T080107Z
DESCRIPTION:4ème ligue Hommes Gr.4 Phase A\nBegegnungs-Nr: 16\nHeim: UGS-Chênois VIII\nGast: Silver Star VIII\n
LOCATION:
CATEGORIES:Saison 2025/26
END:VEVENT
BEGIN:VEVENT
DTSTAMP:20260424T134158Z
DTSTART;TZID=Europe/Berlin:20251016T194500
DTEND;TZID=Europe/Berlin:20251016T224500
SUMMARY:Ligue 4 Gr.4 Ph.A Versoix IV vs Silver Star VIII (14)
UID:e0222102-cba4-45b2-a114-7e5746fd8a9f
STATUS:CONFIRMED
LAST-MODIFIED:20251017T064807Z
DESCRIPTION:4ème ligue Hommes Gr.4 Phase A\nBegegnungs-Nr: 14\nHeim: Versoix IV\nGast: Silver Star VIII\n\nAdresse: Chemin Ami-Argand 40\, 1290 Versoix\n
LOCATION:Chemin Ami-Argand 40\, 1290 Versoix
CATEGORIES:Saison 2025/26
END:VEVENT
BEGIN:VEVENT
DTSTAMP:20260424T134158Z
DTSTART;TZID=Europe/Berlin:20251009T194500
DTEND;TZID=Europe/Berlin:20251009T224500
SUMMARY:Ligue 4 Gr.4 Ph.A Grand-Saconnex III vs Silver Star VIII (11)
UID:fc6616f5-51a8-41a5-bcda-ffa61d820e49
STATUS:CONFIRMED
LAST-MODIFIED:20251010T072157Z
DESCRIPTION:4ème ligue Hommes Gr.4 Phase A\nBegegnungs-Nr: 11\nHeim: Grand-Saconnex III\nGast: Silver Star VIII\n
LOCATION:
CATEGORIES:Saison 2025/26
END:VEVENT
BEGIN:VEVENT
DTSTAMP:20260424T134158Z
DTSTART;TZID=Europe/Berlin:20250915T194500
DTEND;TZID=Europe/Berlin:20250915T224500
SUMMARY:Ligue 4 Gr.4 Ph.A Collex-Bossy vs Silver Star VIII (5)
UID:e2feb381-1251-4a88-b1e8-7ca54a77b3ae
STATUS:CONFIRMED
LAST-MODIFIED:20250916T192503Z
DESCRIPTION:4ème ligue Hommes Gr.4 Phase A\nBegegnungs-Nr: 5\nHeim: Collex-Bossy\nGast: Silver Star VIII\n
LOCATION:
CATEGORIES:Saison 2025/26
END:VEVENT
BEGIN:VEVENT
DTSTAMP:20260424T134158Z
DTSTART;TZID=Europe/Berlin:20260402T194500
DTEND;TZID=Europe/Berlin:20260402T224500
SUMMARY:Ligue 4 Gr.1 Ph.B Onex V vs Silver Star VIII (27)
UID:2088b34c-5828-4b34-b6a6-7e7289abb6b4
STATUS:CONFIRMED
LAST-MODIFIED:20260403T074639Z
DESCRIPTION:4ème ligue Hommes Gr.1 Phase B\nBegegnungs-Nr: 27\nHeim: Onex V\nGast: Silver Star VIII\n
LOCATION:
CATEGORIES:Saison 2025/26
END:VEVENT
BEGIN:VEVENT
DTSTAMP:20260424T134158Z
DTSTART;TZID=Europe/Berlin:20260326T194500
DTEND;TZID=Europe/Berlin:20260326T224500
SUMMARY:Ligue 4 Gr.1 Ph.B Carouge VI vs Silver Star VIII (23)
UID:0e494b21-fe5a-4c07-99de-8af29c719ac3
STATUS:CONFIRMED
LAST-MODIFIED:20260327T091257Z
DESCRIPTION:4ème ligue Hommes Gr.1 Phase B\nBegegnungs-Nr: 23\nHeim: Carouge VI\nGast: Silver Star VIII\n
LOCATION:
CATEGORIES:Saison 2025/26
END:VEVENT
BEGIN:VEVENT
DTSTAMP:20260424T134158Z
DTSTART;TZID=Europe/Berlin:20260312T194500
DTEND;TZID=Europe/Berlin:20260312T224500
SUMMARY:Ligue 4 Gr.1 Ph.B UGS-Chênois X vs Silver Star VIII (17)
UID:2d12d677-1e4b-4704-a525-c88e118e1181
STATUS:CONFIRMED
LAST-MODIFIED:20260313T072754Z
DESCRIPTION:4ème ligue Hommes Gr.1 Phase B\nBegegnungs-Nr: 17\nHeim: UGS-Chênois X\nGast: Silver Star VIII\n
LOCATION:
CATEGORIES:Saison 2025/26
END:VEVENT
BEGIN:VEVENT
DTSTAMP:20260424T134158Z
DTSTART;TZID=Europe/Berlin:20260219T194500
DTEND;TZID=Europe/Berlin:20260219T224500
SUMMARY:Ligue 4 Gr.1 Ph.B Rapid-Genève II vs Silver Star VIII (13)
UID:3edff978-4b53-4929-a746-ed341123bb50
STATUS:CONFIRMED
LAST-MODIFIED:20260220T075643Z
DESCRIPTION:4ème ligue Hommes Gr.1 Phase B\nBegegnungs-Nr: 13\nHeim: Rapid-Genève II\nGast: Silver Star VIII\n
LOCATION:
CATEGORIES:Saison 2025/26
END:VEVENT
BEGIN:VEVENT
DTSTAMP:20260424T134158Z
DTSTART;TZID=Europe/Berlin:20260122T194500
DTEND;TZID=Europe/Berlin:20260122T224500
SUMMARY:Ligue 4 Gr.1 Ph.B Puplinge II vs Silver Star VIII (5)
UID:ccbcd12a-eca6-4260-afe0-f723bb5bc56b
STATUS:CONFIRMED
LAST-MODIFIED:20260123T083136Z
DESCRIPTION:4ème ligue Hommes Gr.1 Phase B\nBegegnungs-Nr: 5\nHeim: Puplinge II\nGast: Silver Star VIII\n\nAdresse: Chemin de la Brenaz\,  15\, 1241 Puplinge\n
LOCATION:Chemin de la Brenaz\,  15\, 1241 Puplinge
CATEGORIES:Saison 2025/26
END:VEVENT
END:VCALENDAR
