BEGIN:VCALENDAR
PRODID:-//nuDatenautomaten//framework iCal4j //DE
VERSION:2.0
CALSCALE:GREGORIAN
BEGIN:VTIMEZONE
TZID:Europe/Berlin
LAST-MODIFIED:20260306T231828Z
TZURL:https://www.tzurl.org/zoneinfo/Europe/Berlin
X-LIC-LOCATION:Europe/Berlin
X-PROLEPTIC-TZNAME:LMT
BEGIN:STANDARD
TZNAME:CET
TZOFFSETFROM:+005328
TZOFFSETTO:+0100
DTSTART:18930401T000000
END:STANDARD
BEGIN:DAYLIGHT
TZNAME:CEST
TZOFFSETFROM:+0100
TZOFFSETTO:+0200
DTSTART:19160430T230000
RDATE:19400401T020000
RDATE:19430329T020000
RDATE:19460414T020000
RDATE:19470406T030000
RDATE:19480418T020000
RDATE:19490410T020000
RDATE:19800406T020000
END:DAYLIGHT
BEGIN:STANDARD
TZNAME:CET
TZOFFSETFROM:+0200
TZOFFSETTO:+0100
DTSTART:19161001T010000
RDATE:19421102T030000
RDATE:19431004T030000
RDATE:19441002T030000
RDATE:19451118T030000
RDATE:19461007T030000
END:STANDARD
BEGIN:DAYLIGHT
TZNAME:CEST
TZOFFSETFROM:+0100
TZOFFSETTO:+0200
DTSTART:19170416T020000
RRULE:FREQ=YEARLY;UNTIL=19180415T010000Z;BYMONTH=4;BYDAY=3MO
END:DAYLIGHT
BEGIN:STANDARD
TZNAME:CET
TZOFFSETFROM:+0200
TZOFFSETTO:+0100
DTSTART:19170917T030000
RRULE:FREQ=YEARLY;UNTIL=19180916T010000Z;BYMONTH=9;BYDAY=3MO
END:STANDARD
BEGIN:DAYLIGHT
TZNAME:CEST
TZOFFSETFROM:+0100
TZOFFSETTO:+0200
DTSTART:19440403T020000
RRULE:FREQ=YEARLY;UNTIL=19450402T010000Z;BYMONTH=4;BYDAY=1MO
END:DAYLIGHT
BEGIN:DAYLIGHT
TZNAME:CEMT
TZOFFSETFROM:+0200
TZOFFSETTO:+0300
DTSTART:19450524T020000
RDATE:19470511T030000
END:DAYLIGHT
BEGIN:DAYLIGHT
TZNAME:CEST
TZOFFSETFROM:+0300
TZOFFSETTO:+0200
DTSTART:19450924T030000
RDATE:19470629T030000
END:DAYLIGHT
BEGIN:STANDARD
TZNAME:CET
TZOFFSETFROM:+0100
TZOFFSETTO:+0100
DTSTART:19460101T000000
RDATE:19800101T000000
END:STANDARD
BEGIN:STANDARD
TZNAME:CET
TZOFFSETFROM:+0200
TZOFFSETTO:+0100
DTSTART:19471005T030000
RRULE:FREQ=YEARLY;UNTIL=19491002T010000Z;BYMONTH=10;BYDAY=1SU
END:STANDARD
BEGIN:STANDARD
TZNAME:CET
TZOFFSETFROM:+0200
TZOFFSETTO:+0100
DTSTART:19800928T030000
RRULE:FREQ=YEARLY;UNTIL=19950924T010000Z;BYMONTH=9;BYDAY=-1SU
END:STANDARD
BEGIN:DAYLIGHT
TZNAME:CEST
TZOFFSETFROM:+0100
TZOFFSETTO:+0200
DTSTART:19810329T020000
RRULE:FREQ=YEARLY;BYMONTH=3;BYDAY=-1SU
END:DAYLIGHT
BEGIN:STANDARD
TZNAME:CET
TZOFFSETFROM:+0200
TZOFFSETTO:+0100
DTSTART:19961027T030000
RRULE:FREQ=YEARLY;BYMONTH=10;BYDAY=-1SU
END:STANDARD
END:VTIMEZONE
BEGIN:VEVENT
DTSTAMP:20260424T135917Z
DTSTART;TZID=Europe/Berlin:20260127T200000
DTEND;TZID=Europe/Berlin:20260127T230000
SUMMARY:O40 2. Liga Gr. 1 St. Gallen vs Winterthur (0)
UID:259ea34c-ec6d-449e-ac1e-de09130353ce
STATUS:CONFIRMED
LAST-MODIFIED:20260130T131952Z
DESCRIPTION:2. Liga O40 Gruppe 1\nBegegnungs-Nr: 0\nHeim: St. Gallen\nGast: Winterthur\n\nAdresse: Zilstrasse 61\, 9016 St.Gallen\n
LOCATION:Zilstrasse 61\, 9016 St.Gallen
CATEGORIES:Saison 2025/26
END:VEVENT
BEGIN:VEVENT
DTSTAMP:20260424T135917Z
DTSTART;TZID=Europe/Berlin:20260227T200000
DTEND;TZID=Europe/Berlin:20260227T230000
SUMMARY:O40 2. Liga Gr. 1 St. Gallen vs Uster (0)
UID:6b6e769c-d601-4771-ac24-267414ddcd95
STATUS:CONFIRMED
LAST-MODIFIED:20260303T133514Z
DESCRIPTION:2. Liga O40 Gruppe 1\nBegegnungs-Nr: 0\nHeim: St. Gallen\nGast: Uster\n\nAdresse: Zilstrasse 61\, 9016 St.Gallen\n
LOCATION:Zilstrasse 61\, 9016 St.Gallen
CATEGORIES:Saison 2025/26
END:VEVENT
BEGIN:VEVENT
DTSTAMP:20260424T135917Z
DTSTART;TZID=Europe/Berlin:20260508T200000
DTEND;TZID=Europe/Berlin:20260508T230000
SUMMARY:O40 2. Liga Gr. 1 St. Gallen vs Embrachertal (0)
UID:96e220d7-0cb2-46e1-b6cf-8f1fa2de02e6
STATUS:CONFIRMED
LAST-MODIFIED:20260325T083106Z
DESCRIPTION:2. Liga O40 Gruppe 1\nBegegnungs-Nr: 0\nHeim: St. Gallen\nGast: Embrachertal\n\nAdresse: Zilstrasse 61\, 9016 St.Gallen\n
LOCATION:Zilstrasse 61\, 9016 St.Gallen
CATEGORIES:Saison 2025/26
END:VEVENT
BEGIN:VEVENT
DTSTAMP:20260424T135917Z
DTSTART;TZID=Europe/Berlin:20260424T200000
DTEND;TZID=Europe/Berlin:20260424T230000
SUMMARY:O40 2. Liga Gr. 1 St. Gallen vs Niederhasli II (0)
UID:4914c89e-60a4-41cf-b992-b0a4725843ae
STATUS:CONFIRMED
DESCRIPTION:2. Liga O40 Gruppe 1\nBegegnungs-Nr: 0\nHeim: St. Gallen\nGast: Niederhasli II\n\nAdresse: Zilstrasse 61\, 9016 St.Gallen\n
LOCATION:Zilstrasse 61\, 9016 St.Gallen
CATEGORIES:Saison 2025/26
END:VEVENT
BEGIN:VEVENT
DTSTAMP:20260424T135917Z
DTSTART;TZID=Europe/Berlin:20250822T200000
DTEND;TZID=Europe/Berlin:20250822T230000
SUMMARY:O40 2. Liga Gr. 1 St. Gallen vs Bülach (0)
UID:8bc3f9b9-38f1-4153-94fa-ee4ccb6c5f7e
STATUS:CONFIRMED
LAST-MODIFIED:20250826T114143Z
DESCRIPTION:2. Liga O40 Gruppe 1\nBegegnungs-Nr: 0\nHeim: St. Gallen\nGast: Bülach\n\nAdresse: Zilstrasse 61\, 9016 St.Gallen\n
LOCATION:Zilstrasse 61\, 9016 St.Gallen
CATEGORIES:Saison 2025/26
END:VEVENT
BEGIN:VEVENT
DTSTAMP:20260424T135917Z
DTSTART;TZID=Europe/Berlin:20251121T200000
DTEND;TZID=Europe/Berlin:20251121T230000
SUMMARY:O40 2. Liga Gr. 1 St. Gallen vs Buchs Zürich (0)
UID:b4b7287e-e427-4874-9125-66b3e9d1223a
STATUS:CONFIRMED
LAST-MODIFIED:20251124T145845Z
DESCRIPTION:2. Liga O40 Gruppe 1\nBegegnungs-Nr: 0\nHeim: St. Gallen\nGast: Buchs Zürich\n\nAdresse: Zilstrasse 61\, 9016 St.Gallen\n
LOCATION:Zilstrasse 61\, 9016 St.Gallen
CATEGORIES:Saison 2025/26
END:VEVENT
BEGIN:VEVENT
DTSTAMP:20260424T135917Z
DTSTART;TZID=Europe/Berlin:20260205T201500
DTEND;TZID=Europe/Berlin:20260205T231500
SUMMARY:O40 2. Liga Gr. 1 Bülach vs St. Gallen (0)
UID:1847424b-81d6-49a8-800b-e5724cf12546
STATUS:CONFIRMED
LAST-MODIFIED:20260206T141734Z
DESCRIPTION:2. Liga O40 Gruppe 1\nBegegnungs-Nr: 0\nHeim: Bülach\nGast: St. Gallen\n\nAdresse: Unterweg 51\, 8180 Bülach\n
LOCATION:Unterweg 51\, 8180 Bülach
CATEGORIES:Saison 2025/26
END:VEVENT
BEGIN:VEVENT
DTSTAMP:20260424T135917Z
DTSTART;TZID=Europe/Berlin:20260320T201500
DTEND;TZID=Europe/Berlin:20260320T231500
SUMMARY:O40 2. Liga Gr. 1 Buchs Zürich vs St. Gallen (0)
UID:97fe66b9-28ed-4206-9222-4f8ecccdb5d0
STATUS:CONFIRMED
LAST-MODIFIED:20260326T155322Z
DESCRIPTION:2. Liga O40 Gruppe 1\nBegegnungs-Nr: 0\nHeim: Buchs Zürich\nGast: St. Gallen\n\nAdresse: Drisglerstrasse 3\, 8107 Buchs ZH\n
LOCATION:Drisglerstrasse 3\, 8107 Buchs ZH
CATEGORIES:Saison 2025/26
END:VEVENT
BEGIN:VEVENT
DTSTAMP:20260424T135917Z
DTSTART;TZID=Europe/Berlin:20250908T201500
DTEND;TZID=Europe/Berlin:20250908T231500
SUMMARY:O40 2. Liga Gr. 1 Uster vs St. Gallen (0)
UID:697435a6-0394-4907-b8f7-c25038e50d27
STATUS:CONFIRMED
LAST-MODIFIED:20250911T100930Z
DESCRIPTION:2. Liga O40 Gruppe 1\nBegegnungs-Nr: 0\nHeim: Uster\nGast: St. Gallen\n\nAdresse: Wilstrasse 30 / Zürcherstrasse\, 8610 Uster\n
LOCATION:Wilstrasse 30 / Zürcherstrasse\, 8610 Uster
CATEGORIES:Saison 2025/26
END:VEVENT
BEGIN:VEVENT
DTSTAMP:20260424T135917Z
DTSTART;TZID=Europe/Berlin:20251002T200000
DTEND;TZID=Europe/Berlin:20251002T230000
SUMMARY:O40 2. Liga Gr. 1 Winterthur vs St. Gallen (0)
UID:91d865d7-2c53-4c10-8bdf-761e974b01f8
STATUS:CONFIRMED
LAST-MODIFIED:20251003T101932Z
DESCRIPTION:2. Liga O40 Gruppe 1\nBegegnungs-Nr: 0\nHeim: Winterthur\nGast: St. Gallen\n\nAdresse: Buchackerstrasse 54\, 8400 Winterthur\n
LOCATION:Buchackerstrasse 54\, 8400 Winterthur
CATEGORIES:Saison 2025/26
END:VEVENT
BEGIN:VEVENT
DTSTAMP:20260424T135917Z
DTSTART;TZID=Europe/Berlin:20251125T200000
DTEND;TZID=Europe/Berlin:20251125T230000
SUMMARY:O40 2. Liga Gr. 1 Embrachertal vs St. Gallen (0)
UID:28b53673-fe6f-4fa5-9b87-27030c83e82f
STATUS:CONFIRMED
LAST-MODIFIED:20251128T134404Z
DESCRIPTION:2. Liga O40 Gruppe 1\nBegegnungs-Nr: 0\nHeim: Embrachertal\nGast: St. Gallen\n\nAdresse: Hintermarchlenstrasse 31 + 33\, 8426 Lufingen\n
LOCATION:Hintermarchlenstrasse 31 + 33\, 8426 Lufingen
CATEGORIES:Saison 2025/26
END:VEVENT
BEGIN:VEVENT
DTSTAMP:20260424T135917Z
DTSTART;TZID=Europe/Berlin:20251215T193000
DTEND;TZID=Europe/Berlin:20251215T223000
SUMMARY:O40 2. Liga Gr. 1 Niederhasli II vs St. Gallen (0)
UID:befea94f-6739-407a-b8a6-94f149facd97
STATUS:CONFIRMED
LAST-MODIFIED:20251216T102630Z
DESCRIPTION:2. Liga O40 Gruppe 1\nBegegnungs-Nr: 0\nHeim: Niederhasli II\nGast: St. Gallen\n\nAdresse: Dorfstrasse 22\, 8155 Niederhasli\n
LOCATION:Dorfstrasse 22\, 8155 Niederhasli
CATEGORIES:Saison 2025/26
END:VEVENT
END:VCALENDAR
