BEGIN:VCALENDAR
PRODID:-//nuDatenautomaten//framework iCal4j //DE
VERSION:2.0
CALSCALE:GREGORIAN
BEGIN:VTIMEZONE
TZID:Europe/Berlin
LAST-MODIFIED:20260306T231828Z
TZURL:https://www.tzurl.org/zoneinfo/Europe/Berlin
X-LIC-LOCATION:Europe/Berlin
X-PROLEPTIC-TZNAME:LMT
BEGIN:STANDARD
TZNAME:CET
TZOFFSETFROM:+005328
TZOFFSETTO:+0100
DTSTART:18930401T000000
END:STANDARD
BEGIN:DAYLIGHT
TZNAME:CEST
TZOFFSETFROM:+0100
TZOFFSETTO:+0200
DTSTART:19160430T230000
RDATE:19400401T020000
RDATE:19430329T020000
RDATE:19460414T020000
RDATE:19470406T030000
RDATE:19480418T020000
RDATE:19490410T020000
RDATE:19800406T020000
END:DAYLIGHT
BEGIN:STANDARD
TZNAME:CET
TZOFFSETFROM:+0200
TZOFFSETTO:+0100
DTSTART:19161001T010000
RDATE:19421102T030000
RDATE:19431004T030000
RDATE:19441002T030000
RDATE:19451118T030000
RDATE:19461007T030000
END:STANDARD
BEGIN:DAYLIGHT
TZNAME:CEST
TZOFFSETFROM:+0100
TZOFFSETTO:+0200
DTSTART:19170416T020000
RRULE:FREQ=YEARLY;UNTIL=19180415T010000Z;BYMONTH=4;BYDAY=3MO
END:DAYLIGHT
BEGIN:STANDARD
TZNAME:CET
TZOFFSETFROM:+0200
TZOFFSETTO:+0100
DTSTART:19170917T030000
RRULE:FREQ=YEARLY;UNTIL=19180916T010000Z;BYMONTH=9;BYDAY=3MO
END:STANDARD
BEGIN:DAYLIGHT
TZNAME:CEST
TZOFFSETFROM:+0100
TZOFFSETTO:+0200
DTSTART:19440403T020000
RRULE:FREQ=YEARLY;UNTIL=19450402T010000Z;BYMONTH=4;BYDAY=1MO
END:DAYLIGHT
BEGIN:DAYLIGHT
TZNAME:CEMT
TZOFFSETFROM:+0200
TZOFFSETTO:+0300
DTSTART:19450524T020000
RDATE:19470511T030000
END:DAYLIGHT
BEGIN:DAYLIGHT
TZNAME:CEST
TZOFFSETFROM:+0300
TZOFFSETTO:+0200
DTSTART:19450924T030000
RDATE:19470629T030000
END:DAYLIGHT
BEGIN:STANDARD
TZNAME:CET
TZOFFSETFROM:+0100
TZOFFSETTO:+0100
DTSTART:19460101T000000
RDATE:19800101T000000
END:STANDARD
BEGIN:STANDARD
TZNAME:CET
TZOFFSETFROM:+0200
TZOFFSETTO:+0100
DTSTART:19471005T030000
RRULE:FREQ=YEARLY;UNTIL=19491002T010000Z;BYMONTH=10;BYDAY=1SU
END:STANDARD
BEGIN:STANDARD
TZNAME:CET
TZOFFSETFROM:+0200
TZOFFSETTO:+0100
DTSTART:19800928T030000
RRULE:FREQ=YEARLY;UNTIL=19950924T010000Z;BYMONTH=9;BYDAY=-1SU
END:STANDARD
BEGIN:DAYLIGHT
TZNAME:CEST
TZOFFSETFROM:+0100
TZOFFSETTO:+0200
DTSTART:19810329T020000
RRULE:FREQ=YEARLY;BYMONTH=3;BYDAY=-1SU
END:DAYLIGHT
BEGIN:STANDARD
TZNAME:CET
TZOFFSETFROM:+0200
TZOFFSETTO:+0100
DTSTART:19961027T030000
RRULE:FREQ=YEARLY;BYMONTH=10;BYDAY=-1SU
END:STANDARD
END:VTIMEZONE
BEGIN:VEVENT
DTSTAMP:20260424T151636Z
DTSTART;TZID=Europe/Berlin:20260116T201500
DTEND;TZID=Europe/Berlin:20260116T231500
SUMMARY:O40 4. Liga Gr. 1 Oberriet vs Imperial Winterthur (0)
UID:c216bd1e-ab68-444b-bd46-989390c1beb3
STATUS:CONFIRMED
LAST-MODIFIED:20260119T091906Z
DESCRIPTION:4. Liga O40 Gruppe 1\nBegegnungs-Nr: 0\nHeim: Oberriet\nGast: Imperial Winterthur\n\nAdresse: Neugutstrasse 2\, 9463 Oberriet SG\n
LOCATION:Neugutstrasse 2\, 9463 Oberriet SG
CATEGORIES:Saison 2025/26
END:VEVENT
BEGIN:VEVENT
DTSTAMP:20260424T151636Z
DTSTART;TZID=Europe/Berlin:20260227T201500
DTEND;TZID=Europe/Berlin:20260227T231500
SUMMARY:O40 4. Liga Gr. 1 Oberriet vs St. Gallen II (0)
UID:8125bdac-ef6a-40c3-9b6d-dd731b8a0ee1
STATUS:CONFIRMED
LAST-MODIFIED:20260303T133613Z
DESCRIPTION:4. Liga O40 Gruppe 1\nBegegnungs-Nr: 0\nHeim: Oberriet\nGast: St. Gallen II\n\nAdresse: Neugutstrasse 2\, 9463 Oberriet SG\n
LOCATION:Neugutstrasse 2\, 9463 Oberriet SG
CATEGORIES:Saison 2025/26
END:VEVENT
BEGIN:VEVENT
DTSTAMP:20260424T151636Z
DTSTART;TZID=Europe/Berlin:20260320T201500
DTEND;TZID=Europe/Berlin:20260320T231500
SUMMARY:O40 4. Liga Gr. 1 Oberriet vs Rorschach (0)
UID:0865145e-7b71-46be-a60b-62db2fa4aecd
STATUS:CONFIRMED
LAST-MODIFIED:20260326T155403Z
DESCRIPTION:4. Liga O40 Gruppe 1\nBegegnungs-Nr: 0\nHeim: Oberriet\nGast: Rorschach\n\nAdresse: Neugutstrasse 2\, 9463 Oberriet SG\n
LOCATION:Neugutstrasse 2\, 9463 Oberriet SG
CATEGORIES:Saison 2025/26
END:VEVENT
BEGIN:VEVENT
DTSTAMP:20260424T151636Z
DTSTART;TZID=Europe/Berlin:20260410T201500
DTEND;TZID=Europe/Berlin:20260410T231500
SUMMARY:O40 4. Liga Gr. 1 Oberriet vs Weinfelden (0)
UID:d928374f-4911-44f7-be6e-5c40b48c1c9d
STATUS:CONFIRMED
LAST-MODIFIED:20260416T104452Z
DESCRIPTION:4. Liga O40 Gruppe 1\nBegegnungs-Nr: 0\nHeim: Oberriet\nGast: Weinfelden\n\nAdresse: Neugutstrasse 2\, 9463 Oberriet SG\n
LOCATION:Neugutstrasse 2\, 9463 Oberriet SG
CATEGORIES:Saison 2025/26
END:VEVENT
BEGIN:VEVENT
DTSTAMP:20260424T151636Z
DTSTART;TZID=Europe/Berlin:20250829T201500
DTEND;TZID=Europe/Berlin:20250829T231500
SUMMARY:O40 4. Liga Gr. 1 Oberriet vs Wolfhalden (0)
UID:f3a79428-d123-4607-9ce8-c316c10ad849
STATUS:CONFIRMED
LAST-MODIFIED:20250902T093450Z
DESCRIPTION:4. Liga O40 Gruppe 1\nBegegnungs-Nr: 0\nHeim: Oberriet\nGast: Wolfhalden\n\nAdresse: Neugutstrasse 2\, 9463 Oberriet SG\n
LOCATION:Neugutstrasse 2\, 9463 Oberriet SG
CATEGORIES:Saison 2025/26
END:VEVENT
BEGIN:VEVENT
DTSTAMP:20260424T151636Z
DTSTART;TZID=Europe/Berlin:20251128T201500
DTEND;TZID=Europe/Berlin:20251128T231500
SUMMARY:O40 4. Liga Gr. 1 Oberriet vs Gossau St.Gallen (0)
UID:c2e6b37a-984c-4dad-a030-7eab2d43acde
STATUS:CONFIRMED
LAST-MODIFIED:20251205T132058Z
DESCRIPTION:4. Liga O40 Gruppe 1\nBegegnungs-Nr: 0\nHeim: Oberriet\nGast: Gossau St.Gallen\n\nAdresse: Neugutstrasse 2\, 9463 Oberriet SG\n
LOCATION:Neugutstrasse 2\, 9463 Oberriet SG
CATEGORIES:Saison 2025/26
END:VEVENT
BEGIN:VEVENT
DTSTAMP:20260424T151636Z
DTSTART;TZID=Europe/Berlin:20260202T200000
DTEND;TZID=Europe/Berlin:20260202T230000
SUMMARY:O40 4. Liga Gr. 1 Wolfhalden vs Oberriet (0)
UID:a3ad0486-261d-4594-8c4f-6672a92bd33f
STATUS:CONFIRMED
LAST-MODIFIED:20260203T194801Z
DESCRIPTION:4. Liga O40 Gruppe 1\nBegegnungs-Nr: 0\nHeim: Wolfhalden\nGast: Oberriet\n\nAdresse: -\, 9427 Wolfhalden\n
LOCATION:-\, 9427 Wolfhalden
CATEGORIES:Saison 2025/26
END:VEVENT
BEGIN:VEVENT
DTSTAMP:20260424T151636Z
DTSTART;TZID=Europe/Berlin:20260210T200000
DTEND;TZID=Europe/Berlin:20260210T230000
SUMMARY:O40 4. Liga Gr. 1 Gossau St.Gallen vs Oberriet (0)
UID:8cb49a11-3a18-41f1-b8b8-146ccf637c30
STATUS:CONFIRMED
LAST-MODIFIED:20260216T103628Z
DESCRIPTION:4. Liga O40 Gruppe 1\nBegegnungs-Nr: 0\nHeim: Gossau St.Gallen\nGast: Oberriet\n\nAdresse: Falkenstrasse 21\, 9200 Gossau\n
LOCATION:Falkenstrasse 21\, 9200 Gossau
CATEGORIES:Saison 2025/26
END:VEVENT
BEGIN:VEVENT
DTSTAMP:20260424T151636Z
DTSTART;TZID=Europe/Berlin:20250811T200000
DTEND;TZID=Europe/Berlin:20250811T230000
SUMMARY:O40 4. Liga Gr. 1 Imperial Winterthur vs Oberriet (0)
UID:6db5640f-2ee9-4f5a-8bef-c23d97b18d10
STATUS:CONFIRMED
LAST-MODIFIED:20250819T130409Z
DESCRIPTION:4. Liga O40 Gruppe 1\nBegegnungs-Nr: 0\nHeim: Imperial Winterthur\nGast: Oberriet\n\nAdresse: Büelhofstrasse 25a\, 8405 Winterthur\n
LOCATION:Büelhofstrasse 25a\, 8405 Winterthur
CATEGORIES:Saison 2025/26
END:VEVENT
BEGIN:VEVENT
DTSTAMP:20260424T151636Z
DTSTART;TZID=Europe/Berlin:20250912T200000
DTEND;TZID=Europe/Berlin:20250912T230000
SUMMARY:O40 4. Liga Gr. 1 St. Gallen II vs Oberriet (0)
UID:f4243864-d8b8-4f1b-88d0-ac26c3b46d02
STATUS:CONFIRMED
LAST-MODIFIED:20250915T084928Z
DESCRIPTION:4. Liga O40 Gruppe 1\nBegegnungs-Nr: 0\nHeim: St. Gallen II\nGast: Oberriet\n\nAdresse: Zilstrasse 61\, 9016 St.Gallen\n
LOCATION:Zilstrasse 61\, 9016 St.Gallen
CATEGORIES:Saison 2025/26
END:VEVENT
BEGIN:VEVENT
DTSTAMP:20260424T151636Z
DTSTART;TZID=Europe/Berlin:20251024T200000
DTEND;TZID=Europe/Berlin:20251024T230000
SUMMARY:O40 4. Liga Gr. 1 Rorschach vs Oberriet (0)
UID:fbb7d93c-ca5d-469b-8a36-d50a1783f585
STATUS:CONFIRMED
LAST-MODIFIED:20251031T144844Z
DESCRIPTION:4. Liga O40 Gruppe 1\nBegegnungs-Nr: 0\nHeim: Rorschach\nGast: Oberriet\n\nAdresse: Mariabergstrasse 33\, 9400 Rorschach\n
LOCATION:Mariabergstrasse 33\, 9400 Rorschach
CATEGORIES:Saison 2025/26
END:VEVENT
BEGIN:VEVENT
DTSTAMP:20260424T151636Z
DTSTART;TZID=Europe/Berlin:20251120T201500
DTEND;TZID=Europe/Berlin:20251120T231500
SUMMARY:O40 4. Liga Gr. 1 Weinfelden vs Oberriet (0)
UID:a6b69b4a-cce6-43b3-bf41-ddab9e31db90
STATUS:CONFIRMED
LAST-MODIFIED:20251121T095200Z
DESCRIPTION:4. Liga O40 Gruppe 1\nBegegnungs-Nr: 0\nHeim: Weinfelden\nGast: Oberriet\n\nAdresse: Bleichestrasse 3 (neben Hallenbad)\, 8570 Weinfelden\n
LOCATION:Bleichestrasse 3 (neben Hallenbad)\, 8570 Weinfelden
CATEGORIES:Saison 2025/26
END:VEVENT
END:VCALENDAR
