BEGIN:VCALENDAR
PRODID:-//nuDatenautomaten//framework iCal4j //DE
VERSION:2.0
CALSCALE:GREGORIAN
BEGIN:VTIMEZONE
TZID:Europe/Berlin
LAST-MODIFIED:20260306T231828Z
TZURL:https://www.tzurl.org/zoneinfo/Europe/Berlin
X-LIC-LOCATION:Europe/Berlin
X-PROLEPTIC-TZNAME:LMT
BEGIN:STANDARD
TZNAME:CET
TZOFFSETFROM:+005328
TZOFFSETTO:+0100
DTSTART:18930401T000000
END:STANDARD
BEGIN:DAYLIGHT
TZNAME:CEST
TZOFFSETFROM:+0100
TZOFFSETTO:+0200
DTSTART:19160430T230000
RDATE:19400401T020000
RDATE:19430329T020000
RDATE:19460414T020000
RDATE:19470406T030000
RDATE:19480418T020000
RDATE:19490410T020000
RDATE:19800406T020000
END:DAYLIGHT
BEGIN:STANDARD
TZNAME:CET
TZOFFSETFROM:+0200
TZOFFSETTO:+0100
DTSTART:19161001T010000
RDATE:19421102T030000
RDATE:19431004T030000
RDATE:19441002T030000
RDATE:19451118T030000
RDATE:19461007T030000
END:STANDARD
BEGIN:DAYLIGHT
TZNAME:CEST
TZOFFSETFROM:+0100
TZOFFSETTO:+0200
DTSTART:19170416T020000
RRULE:FREQ=YEARLY;UNTIL=19180415T010000Z;BYMONTH=4;BYDAY=3MO
END:DAYLIGHT
BEGIN:STANDARD
TZNAME:CET
TZOFFSETFROM:+0200
TZOFFSETTO:+0100
DTSTART:19170917T030000
RRULE:FREQ=YEARLY;UNTIL=19180916T010000Z;BYMONTH=9;BYDAY=3MO
END:STANDARD
BEGIN:DAYLIGHT
TZNAME:CEST
TZOFFSETFROM:+0100
TZOFFSETTO:+0200
DTSTART:19440403T020000
RRULE:FREQ=YEARLY;UNTIL=19450402T010000Z;BYMONTH=4;BYDAY=1MO
END:DAYLIGHT
BEGIN:DAYLIGHT
TZNAME:CEMT
TZOFFSETFROM:+0200
TZOFFSETTO:+0300
DTSTART:19450524T020000
RDATE:19470511T030000
END:DAYLIGHT
BEGIN:DAYLIGHT
TZNAME:CEST
TZOFFSETFROM:+0300
TZOFFSETTO:+0200
DTSTART:19450924T030000
RDATE:19470629T030000
END:DAYLIGHT
BEGIN:STANDARD
TZNAME:CET
TZOFFSETFROM:+0100
TZOFFSETTO:+0100
DTSTART:19460101T000000
RDATE:19800101T000000
END:STANDARD
BEGIN:STANDARD
TZNAME:CET
TZOFFSETFROM:+0200
TZOFFSETTO:+0100
DTSTART:19471005T030000
RRULE:FREQ=YEARLY;UNTIL=19491002T010000Z;BYMONTH=10;BYDAY=1SU
END:STANDARD
BEGIN:STANDARD
TZNAME:CET
TZOFFSETFROM:+0200
TZOFFSETTO:+0100
DTSTART:19800928T030000
RRULE:FREQ=YEARLY;UNTIL=19950924T010000Z;BYMONTH=9;BYDAY=-1SU
END:STANDARD
BEGIN:DAYLIGHT
TZNAME:CEST
TZOFFSETFROM:+0100
TZOFFSETTO:+0200
DTSTART:19810329T020000
RRULE:FREQ=YEARLY;BYMONTH=3;BYDAY=-1SU
END:DAYLIGHT
BEGIN:STANDARD
TZNAME:CET
TZOFFSETFROM:+0200
TZOFFSETTO:+0100
DTSTART:19961027T030000
RRULE:FREQ=YEARLY;BYMONTH=10;BYDAY=-1SU
END:STANDARD
END:VTIMEZONE
BEGIN:VEVENT
DTSTAMP:20260424T044426Z
DTSTART;TZID=Europe/Berlin:20250830T160000
DTEND;TZID=Europe/Berlin:20250830T190000
SUMMARY:JUG\, 2.Li\, Gr.5\, VR Dübendorf-Volketswil vs Kloten II (5)
UID:de7888b2-7ab5-4d0c-80df-800084e95133
STATUS:CONFIRMED
LAST-MODIFIED:20250902T100244Z
DESCRIPTION:Jugend\, 2. Liga\, Gruppe 5\, Vorrunde\nBegegnungs-Nr: 5\nHeim: Dübendorf-Volketswil\nGast: Kloten II\n\nAdresse: Usterstrasse 35\, 8604 Volketswil\n
LOCATION:Usterstrasse 35\, 8604 Volketswil
CATEGORIES:Saison 2025/26
END:VEVENT
BEGIN:VEVENT
DTSTAMP:20260424T044426Z
DTSTART;TZID=Europe/Berlin:20250830T130000
DTEND;TZID=Europe/Berlin:20250830T160000
SUMMARY:JUG\, 2.Li\, Gr.5\, VR Dübendorf-Volketswil vs Affoltern A/A II (2)
UID:ebe9f9e6-24d5-455d-8875-b40d745e8ef8
STATUS:CONFIRMED
LAST-MODIFIED:20250902T100209Z
DESCRIPTION:Jugend\, 2. Liga\, Gruppe 5\, Vorrunde\nBegegnungs-Nr: 2\nHeim: Dübendorf-Volketswil\nGast: Affoltern A/A II\n\nAdresse: Usterstrasse 35\, 8604 Volketswil\n
LOCATION:Usterstrasse 35\, 8604 Volketswil
CATEGORIES:Saison 2025/26
END:VEVENT
BEGIN:VEVENT
DTSTAMP:20260424T044426Z
DTSTART;TZID=Europe/Berlin:20251115T160000
DTEND;TZID=Europe/Berlin:20251115T190000
SUMMARY:JUG\, 3.Li\, Gr.7\, ZR Dübendorf-Volketswil vs Ettenhausen II (5)
UID:a5dd921e-7a1b-40e5-ae09-e238dec636f1
STATUS:CONFIRMED
LAST-MODIFIED:20251121T101234Z
DESCRIPTION:Jugend\, 3. Liga\, Gruppe 7\, Zwischenrunde\nBegegnungs-Nr: 5\nHeim: Dübendorf-Volketswil\nGast: Ettenhausen II\n\nAdresse: Usterstrasse 35\, 8604 Volketswil\n
LOCATION:Usterstrasse 35\, 8604 Volketswil
CATEGORIES:Saison 2025/26
END:VEVENT
BEGIN:VEVENT
DTSTAMP:20260424T044426Z
DTSTART;TZID=Europe/Berlin:20251115T130000
DTEND;TZID=Europe/Berlin:20251115T160000
SUMMARY:JUG\, 3.Li\, Gr.7\, ZR Dübendorf-Volketswil vs Zürich II (2)
UID:a7586c2d-1b58-4919-9e11-9622e6a23778
STATUS:CONFIRMED
LAST-MODIFIED:20251124T150844Z
DESCRIPTION:Jugend\, 3. Liga\, Gruppe 7\, Zwischenrunde\nBegegnungs-Nr: 2\nHeim: Dübendorf-Volketswil\nGast: Zürich II\n\nAdresse: Usterstrasse 35\, 8604 Volketswil\n
LOCATION:Usterstrasse 35\, 8604 Volketswil
CATEGORIES:Saison 2025/26
END:VEVENT
BEGIN:VEVENT
DTSTAMP:20260424T044426Z
DTSTART;TZID=Europe/Berlin:20260328T130000
DTEND;TZID=Europe/Berlin:20260328T160000
SUMMARY:JUG\, 3.Li\, Gr.6\, Final Dübendorf-Volketswil vs Zürich (2)
UID:3e981fb3-1f4a-4622-82ae-718858b4649d
STATUS:CONFIRMED
LAST-MODIFIED:20260401T140644Z
DESCRIPTION:Jugend\, 3. Liga\, Gruppe 6\, Final\nBegegnungs-Nr: 2\nHeim: Dübendorf-Volketswil\nGast: Zürich\n\nAdresse: Usterstrasse 35\, 8604 Volketswil\n
LOCATION:Usterstrasse 35\, 8604 Volketswil
CATEGORIES:Saison 2025/26
END:VEVENT
BEGIN:VEVENT
DTSTAMP:20260424T044426Z
DTSTART;TZID=Europe/Berlin:20260328T160000
DTEND;TZID=Europe/Berlin:20260328T190000
SUMMARY:JUG\, 3.Li\, Gr.6\, Final Dübendorf-Volketswil vs Rapperswil-Jona II (5)
UID:5b97258a-92da-4e78-8198-2bbbb57f2c92
STATUS:CONFIRMED
LAST-MODIFIED:20260401T140713Z
DESCRIPTION:Jugend\, 3. Liga\, Gruppe 6\, Final\nBegegnungs-Nr: 5\nHeim: Dübendorf-Volketswil\nGast: Rapperswil-Jona II\n\nAdresse: Usterstrasse 35\, 8604 Volketswil\n
LOCATION:Usterstrasse 35\, 8604 Volketswil
CATEGORIES:Saison 2025/26
END:VEVENT
BEGIN:VEVENT
DTSTAMP:20260424T044426Z
DTSTART;TZID=Europe/Berlin:20250830T143000
DTEND;TZID=Europe/Berlin:20250830T173000
SUMMARY:JUG\, 2.Li\, Gr.5\, VR Bülach vs Dübendorf-Volketswil (4)
UID:d8fb6449-ce7a-4e1b-9f81-2289f9218d84
STATUS:CONFIRMED
LAST-MODIFIED:20250902T100235Z
DESCRIPTION:Jugend\, 2. Liga\, Gruppe 5\, Vorrunde\nBegegnungs-Nr: 4\nHeim: Bülach\nGast: Dübendorf-Volketswil\n\nAdresse: Schwerzgruebstrasse 28\, 8180 Bülach\n
LOCATION:Schwerzgruebstrasse 28\, 8180 Bülach
CATEGORIES:Saison 2025/26
END:VEVENT
BEGIN:VEVENT
DTSTAMP:20260424T044426Z
DTSTART;TZID=Europe/Berlin:20251115T143000
DTEND;TZID=Europe/Berlin:20251115T173000
SUMMARY:JUG\, 3.Li\, Gr.7\, ZR Wädenswil III vs Dübendorf-Volketswil (4)
UID:f6650a33-d9dd-455b-be0b-ba465b9dab9a
STATUS:CONFIRMED
LAST-MODIFIED:20251121T100431Z
DESCRIPTION:Jugend\, 3. Liga\, Gruppe 7\, Zwischenrunde\nBegegnungs-Nr: 4\nHeim: Wädenswil III\nGast: Dübendorf-Volketswil\n\nAdresse: Fuhrstrasse 16b\, 8820 Wädenswil\n
LOCATION:Fuhrstrasse 16b\, 8820 Wädenswil
CATEGORIES:Saison 2025/26
END:VEVENT
BEGIN:VEVENT
DTSTAMP:20260424T044426Z
DTSTART;TZID=Europe/Berlin:20260328T143000
DTEND;TZID=Europe/Berlin:20260328T173000
SUMMARY:JUG\, 3.Li\, Gr.6\, Final Herisau vs Dübendorf-Volketswil (4)
UID:c7941138-2a15-4364-b0d0-949963e8ed07
STATUS:CONFIRMED
LAST-MODIFIED:20260401T140704Z
DESCRIPTION:Jugend\, 3. Liga\, Gruppe 6\, Final\nBegegnungs-Nr: 4\nHeim: Herisau\nGast: Dübendorf-Volketswil\n\nAdresse: Schwellbrunnerstrasse 29\, 9100 Herisau\n
LOCATION:Schwellbrunnerstrasse 29\, 9100 Herisau
CATEGORIES:Saison 2025/26
END:VEVENT
END:VCALENDAR
