BEGIN:VCALENDAR
PRODID:-//nuDatenautomaten//framework iCal4j //DE
VERSION:2.0
CALSCALE:GREGORIAN
BEGIN:VTIMEZONE
TZID:Europe/Berlin
LAST-MODIFIED:20260306T231828Z
TZURL:https://www.tzurl.org/zoneinfo/Europe/Berlin
X-LIC-LOCATION:Europe/Berlin
X-PROLEPTIC-TZNAME:LMT
BEGIN:STANDARD
TZNAME:CET
TZOFFSETFROM:+005328
TZOFFSETTO:+0100
DTSTART:18930401T000000
END:STANDARD
BEGIN:DAYLIGHT
TZNAME:CEST
TZOFFSETFROM:+0100
TZOFFSETTO:+0200
DTSTART:19160430T230000
RDATE:19400401T020000
RDATE:19430329T020000
RDATE:19460414T020000
RDATE:19470406T030000
RDATE:19480418T020000
RDATE:19490410T020000
RDATE:19800406T020000
END:DAYLIGHT
BEGIN:STANDARD
TZNAME:CET
TZOFFSETFROM:+0200
TZOFFSETTO:+0100
DTSTART:19161001T010000
RDATE:19421102T030000
RDATE:19431004T030000
RDATE:19441002T030000
RDATE:19451118T030000
RDATE:19461007T030000
END:STANDARD
BEGIN:DAYLIGHT
TZNAME:CEST
TZOFFSETFROM:+0100
TZOFFSETTO:+0200
DTSTART:19170416T020000
RRULE:FREQ=YEARLY;UNTIL=19180415T010000Z;BYMONTH=4;BYDAY=3MO
END:DAYLIGHT
BEGIN:STANDARD
TZNAME:CET
TZOFFSETFROM:+0200
TZOFFSETTO:+0100
DTSTART:19170917T030000
RRULE:FREQ=YEARLY;UNTIL=19180916T010000Z;BYMONTH=9;BYDAY=3MO
END:STANDARD
BEGIN:DAYLIGHT
TZNAME:CEST
TZOFFSETFROM:+0100
TZOFFSETTO:+0200
DTSTART:19440403T020000
RRULE:FREQ=YEARLY;UNTIL=19450402T010000Z;BYMONTH=4;BYDAY=1MO
END:DAYLIGHT
BEGIN:DAYLIGHT
TZNAME:CEMT
TZOFFSETFROM:+0200
TZOFFSETTO:+0300
DTSTART:19450524T020000
RDATE:19470511T030000
END:DAYLIGHT
BEGIN:DAYLIGHT
TZNAME:CEST
TZOFFSETFROM:+0300
TZOFFSETTO:+0200
DTSTART:19450924T030000
RDATE:19470629T030000
END:DAYLIGHT
BEGIN:STANDARD
TZNAME:CET
TZOFFSETFROM:+0100
TZOFFSETTO:+0100
DTSTART:19460101T000000
RDATE:19800101T000000
END:STANDARD
BEGIN:STANDARD
TZNAME:CET
TZOFFSETFROM:+0200
TZOFFSETTO:+0100
DTSTART:19471005T030000
RRULE:FREQ=YEARLY;UNTIL=19491002T010000Z;BYMONTH=10;BYDAY=1SU
END:STANDARD
BEGIN:STANDARD
TZNAME:CET
TZOFFSETFROM:+0200
TZOFFSETTO:+0100
DTSTART:19800928T030000
RRULE:FREQ=YEARLY;UNTIL=19950924T010000Z;BYMONTH=9;BYDAY=-1SU
END:STANDARD
BEGIN:DAYLIGHT
TZNAME:CEST
TZOFFSETFROM:+0100
TZOFFSETTO:+0200
DTSTART:19810329T020000
RRULE:FREQ=YEARLY;BYMONTH=3;BYDAY=-1SU
END:DAYLIGHT
BEGIN:STANDARD
TZNAME:CET
TZOFFSETFROM:+0200
TZOFFSETTO:+0100
DTSTART:19961027T030000
RRULE:FREQ=YEARLY;BYMONTH=10;BYDAY=-1SU
END:STANDARD
END:VTIMEZONE
BEGIN:VEVENT
DTSTAMP:20260424T115053Z
DTSTART;TZID=Europe/Berlin:20251120T193000
DTEND;TZID=Europe/Berlin:20251120T223000
SUMMARY:ME L5 Gr 3\, Tours 1&2 Crissier VI vs Trams-Renens III (0)
UID:9a57df8b-7a76-48ab-abfd-d1a7237da943
STATUS:CONFIRMED
LAST-MODIFIED:20251121T100626Z
DESCRIPTION:5ème ligue Hommes Groupe 3\, Tours 1&2\nBegegnungs-Nr: 0\nHeim: Crissier VI\nGast: Trams-Renens III\n\nAdresse: ch. des Oches du Mur\, 1023 Crissier\n
LOCATION:ch. des Oches du Mur\, 1023 Crissier
CATEGORIES:Saison 2025/26
END:VEVENT
BEGIN:VEVENT
DTSTAMP:20260424T115053Z
DTSTART;TZID=Europe/Berlin:20250925T193000
DTEND;TZID=Europe/Berlin:20250925T223000
SUMMARY:ME L5 Gr 3\, Tours 1&2 Crissier VI vs Yverdon IV (0)
UID:7ebfce4a-ce44-4311-95be-92444f8cd5f0
STATUS:CONFIRMED
LAST-MODIFIED:20250925T232452Z
DESCRIPTION:5ème ligue Hommes Groupe 3\, Tours 1&2\nBegegnungs-Nr: 0\nHeim: Crissier VI\nGast: Yverdon IV\n\nAdresse: ch. des Oches du Mur\, 1023 Crissier\n
LOCATION:ch. des Oches du Mur\, 1023 Crissier
CATEGORIES:Saison 2025/26
END:VEVENT
BEGIN:VEVENT
DTSTAMP:20260424T115053Z
DTSTART;TZID=Europe/Berlin:20251002T193000
DTEND;TZID=Europe/Berlin:20251002T223000
SUMMARY:ME L5 Gr 3\, Tours 1&2 Crissier VI vs Lausanne IX (0)
UID:6e5fe190-e3eb-45c0-8d88-f33139464ef5
STATUS:CONFIRMED
LAST-MODIFIED:20251003T163418Z
DESCRIPTION:5ème ligue Hommes Groupe 3\, Tours 1&2\nBegegnungs-Nr: 0\nHeim: Crissier VI\nGast: Lausanne IX\n\nAdresse: ch. des Oches du Mur\, 1023 Crissier\n
LOCATION:ch. des Oches du Mur\, 1023 Crissier
CATEGORIES:Saison 2025/26
END:VEVENT
BEGIN:VEVENT
DTSTAMP:20260424T115053Z
DTSTART;TZID=Europe/Berlin:20251021T193000
DTEND;TZID=Europe/Berlin:20251021T223000
SUMMARY:ME L5 Gr 3\, Tours 1&2 Crissier VI vs Romanel V (0)
UID:4994a07b-4318-4ab2-8eb3-86bf468ff417
STATUS:CONFIRMED
LAST-MODIFIED:20251024T105311Z
DESCRIPTION:5ème ligue Hommes Groupe 3\, Tours 1&2\nBegegnungs-Nr: 0\nHeim: Crissier VI\nGast: Romanel V\n\nAdresse: ch. des Oches du Mur\, 1023 Crissier\n
LOCATION:ch. des Oches du Mur\, 1023 Crissier
CATEGORIES:Saison 2025/26
END:VEVENT
BEGIN:VEVENT
DTSTAMP:20260424T115053Z
DTSTART;TZID=Europe/Berlin:20251030T193000
DTEND;TZID=Europe/Berlin:20251030T223000
SUMMARY:ME L5 Gr 3\, Tours 1&2 Crissier VI vs Montriond-Ouchy  III (0)
UID:8f463932-e76d-41f1-9d21-a14e1f3710d4
STATUS:CONFIRMED
LAST-MODIFIED:20251101T154059Z
DESCRIPTION:5ème ligue Hommes Groupe 3\, Tours 1&2\nBegegnungs-Nr: 0\nHeim: Crissier VI\nGast: Montriond-Ouchy  III\n\nAdresse: ch. des Oches du Mur\, 1023 Crissier\n
LOCATION:ch. des Oches du Mur\, 1023 Crissier
CATEGORIES:Saison 2025/26
END:VEVENT
BEGIN:VEVENT
DTSTAMP:20260424T115053Z
DTSTART;TZID=Europe/Berlin:20260107T193000
DTEND;TZID=Europe/Berlin:20260107T223000
SUMMARY:ME L5 Gr 5\, Tours 3&4 Crissier VI vs Crissier V (0)
UID:a380a8df-e8d9-4b09-a839-9fef78a36480
STATUS:CONFIRMED
LAST-MODIFIED:20260112T073718Z
DESCRIPTION:5ème ligue Hommes Groupe 5\, Tours 3&4\nBegegnungs-Nr: 0\nHeim: Crissier VI\nGast: Crissier V\n\nAdresse: ch. des Oches du Mur\, 1023 Crissier\n
LOCATION:ch. des Oches du Mur\, 1023 Crissier
CATEGORIES:Saison 2025/26
END:VEVENT
BEGIN:VEVENT
DTSTAMP:20260424T115053Z
DTSTART;TZID=Europe/Berlin:20260205T193000
DTEND;TZID=Europe/Berlin:20260205T223000
SUMMARY:ME L5 Gr 5\, Tours 3&4 Crissier VI vs Orbe (0)
UID:ca532216-1583-48c8-8617-71a86c756032
STATUS:CONFIRMED
LAST-MODIFIED:20260206T183930Z
DESCRIPTION:5ème ligue Hommes Groupe 5\, Tours 3&4\nBegegnungs-Nr: 0\nHeim: Crissier VI\nGast: Orbe\n\nAdresse: ch. des Oches du Mur\, 1023 Crissier\n
LOCATION:ch. des Oches du Mur\, 1023 Crissier
CATEGORIES:Saison 2025/26
END:VEVENT
BEGIN:VEVENT
DTSTAMP:20260424T115053Z
DTSTART;TZID=Europe/Berlin:20260319T193000
DTEND;TZID=Europe/Berlin:20260319T223000
SUMMARY:ME L5 Gr 5\, Tours 3&4 Crissier VI vs Lausanne XIV (0)
UID:31d0f1b9-9999-4bb5-9c04-19f53d8ce9bb
STATUS:CONFIRMED
LAST-MODIFIED:20260321T102019Z
DESCRIPTION:5ème ligue Hommes Groupe 5\, Tours 3&4\nBegegnungs-Nr: 0\nHeim: Crissier VI\nGast: Lausanne XIV\n\nAdresse: ch. des Oches du Mur\, 1023 Crissier\n
LOCATION:ch. des Oches du Mur\, 1023 Crissier
CATEGORIES:Saison 2025/26
END:VEVENT
BEGIN:VEVENT
DTSTAMP:20260424T115053Z
DTSTART;TZID=Europe/Berlin:20260423T193000
DTEND;TZID=Europe/Berlin:20260423T223000
SUMMARY:ME L5 Gr 5\, Tours 3&4 Crissier VI vs Chexbres III (0)
UID:6c5118fc-8fd5-4e54-88a7-9f5ce0b14996
STATUS:CONFIRMED
DESCRIPTION:5ème ligue Hommes Groupe 5\, Tours 3&4\nBegegnungs-Nr: 0\nHeim: Crissier VI\nGast: Chexbres III\n\nAdresse: ch. des Oches du Mur\, 1023 Crissier\n
LOCATION:ch. des Oches du Mur\, 1023 Crissier
CATEGORIES:Saison 2025/26
END:VEVENT
BEGIN:VEVENT
DTSTAMP:20260424T115053Z
DTSTART;TZID=Europe/Berlin:20260430T193000
DTEND;TZID=Europe/Berlin:20260430T223000
SUMMARY:ME L5 Gr 5\, Tours 3&4 Crissier VI vs Lausanne IX (0)
UID:6b10d397-7460-4f84-bb21-8fd8405788bd
STATUS:CONFIRMED
DESCRIPTION:5ème ligue Hommes Groupe 5\, Tours 3&4\nBegegnungs-Nr: 0\nHeim: Crissier VI\nGast: Lausanne IX\n\nAdresse: ch. des Oches du Mur\, 1023 Crissier\n
LOCATION:ch. des Oches du Mur\, 1023 Crissier
CATEGORIES:Saison 2025/26
END:VEVENT
BEGIN:VEVENT
DTSTAMP:20260424T115053Z
DTSTART;TZID=Europe/Berlin:20251127T200000
DTEND;TZID=Europe/Berlin:20251127T230000
SUMMARY:ME L5 Gr 3\, Tours 1&2 Lausanne IX vs Crissier VI (0)
UID:5aced916-2194-4df4-8857-4d9da35b17f8
STATUS:CONFIRMED
LAST-MODIFIED:20251128T203957Z
DESCRIPTION:5ème ligue Hommes Groupe 3\, Tours 1&2\nBegegnungs-Nr: 0\nHeim: Lausanne IX\nGast: Crissier VI\n\nAdresse: Vaudoise Aréna\, Ch. du Viaduc 14\, 1008 Prilly\n
LOCATION:Vaudoise Aréna\, Ch. du Viaduc 14\, 1008 Prilly
CATEGORIES:Saison 2025/26
END:VEVENT
BEGIN:VEVENT
DTSTAMP:20260424T115053Z
DTSTART;TZID=Europe/Berlin:20251209T193000
DTEND;TZID=Europe/Berlin:20251209T223000
SUMMARY:ME L5 Gr 3\, Tours 1&2 Romanel V vs Crissier VI (0)
UID:df5d3f95-c80b-4908-93e3-1529843172d8
STATUS:CONFIRMED
LAST-MODIFIED:20251211T055805Z
DESCRIPTION:5ème ligue Hommes Groupe 3\, Tours 1&2\nBegegnungs-Nr: 0\nHeim: Romanel V\nGast: Crissier VI\n\nAdresse: Ch des Epinettes 1\, 1032 Romanel-sur-Lausanne\n
LOCATION:Ch des Epinettes 1\, 1032 Romanel-sur-Lausanne
CATEGORIES:Saison 2025/26
END:VEVENT
BEGIN:VEVENT
DTSTAMP:20260424T115053Z
DTSTART;TZID=Europe/Berlin:20250903T193000
DTEND;TZID=Europe/Berlin:20250903T223000
SUMMARY:ME L5 Gr 3\, Tours 1&2 Montriond-Ouchy  III vs Crissier VI (0)
UID:d17a1c17-471c-44aa-80a1-07236f995830
STATUS:CONFIRMED
LAST-MODIFIED:20250905T182822Z
DESCRIPTION:5ème ligue Hommes Groupe 3\, Tours 1&2\nBegegnungs-Nr: 0\nHeim: Montriond-Ouchy  III\nGast: Crissier VI\n\nAdresse: Avenue d'Ouchy 45\, 1006 Lausanne\n
LOCATION:Avenue d'Ouchy 45\, 1006 Lausanne
CATEGORIES:Saison 2025/26
END:VEVENT
BEGIN:VEVENT
DTSTAMP:20260424T115053Z
DTSTART;TZID=Europe/Berlin:20250919T193000
DTEND;TZID=Europe/Berlin:20250919T223000
SUMMARY:ME L5 Gr 3\, Tours 1&2 Trams-Renens III vs Crissier VI (0)
UID:6d35d18e-b68a-4e08-9163-5ae5225efcd2
STATUS:CONFIRMED
LAST-MODIFIED:20250919T205202Z
DESCRIPTION:5ème ligue Hommes Groupe 3\, Tours 1&2\nBegegnungs-Nr: 0\nHeim: Trams-Renens III\nGast: Crissier VI\n\nAdresse: Av Saugiaz\, 1020 Renens\n
LOCATION:Av Saugiaz\, 1020 Renens
CATEGORIES:Saison 2025/26
END:VEVENT
BEGIN:VEVENT
DTSTAMP:20260424T115053Z
DTSTART;TZID=Europe/Berlin:20251105T201500
DTEND;TZID=Europe/Berlin:20251105T231500
SUMMARY:ME L5 Gr 3\, Tours 1&2 Yverdon IV vs Crissier VI (0)
UID:e2174020-521a-421f-8c7a-71f92ef07848
STATUS:CONFIRMED
LAST-MODIFIED:20251106T100506Z
DESCRIPTION:5ème ligue Hommes Groupe 3\, Tours 1&2\nBegegnungs-Nr: 0\nHeim: Yverdon IV\nGast: Crissier VI\n\nAdresse: Avenue des Quatre Marroniers 1\, 1400 Yverdon-les-Bains\n
LOCATION:Avenue des Quatre Marroniers 1\, 1400 Yverdon-les-Bains
CATEGORIES:Saison 2025/26
END:VEVENT
BEGIN:VEVENT
DTSTAMP:20260424T115053Z
DTSTART;TZID=Europe/Berlin:20260131T110000
DTEND;TZID=Europe/Berlin:20260131T140000
SUMMARY:ME L5 Gr 5\, Tours 3&4 Lausanne XIV vs Crissier VI (0)
UID:f733dae5-97c4-40ab-8f25-15872cff273e
STATUS:CONFIRMED
LAST-MODIFIED:20260201T145643Z
DESCRIPTION:5ème ligue Hommes Groupe 5\, Tours 3&4\nBegegnungs-Nr: 0\nHeim: Lausanne XIV\nGast: Crissier VI\n\nAdresse: Vaudoise Aréna\, Ch. du Viaduc 14\, 1008 Prilly\n
LOCATION:Vaudoise Aréna\, Ch. du Viaduc 14\, 1008 Prilly
CATEGORIES:Saison 2025/26
END:VEVENT
BEGIN:VEVENT
DTSTAMP:20260424T115053Z
DTSTART;TZID=Europe/Berlin:20260212T194500
DTEND;TZID=Europe/Berlin:20260212T224500
SUMMARY:ME L5 Gr 5\, Tours 3&4 Chexbres III vs Crissier VI (0)
UID:73ce1fdf-6a9b-4e43-a14b-556994ed521b
STATUS:CONFIRMED
LAST-MODIFIED:20260215T200329Z
DESCRIPTION:5ème ligue Hommes Groupe 5\, Tours 3&4\nBegegnungs-Nr: 0\nHeim: Chexbres III\nGast: Crissier VI\n\nAdresse: Collège de Praz Routoz\, 1071 Chexbres\n
LOCATION:Collège de Praz Routoz\, 1071 Chexbres
CATEGORIES:Saison 2025/26
END:VEVENT
BEGIN:VEVENT
DTSTAMP:20260424T115053Z
DTSTART;TZID=Europe/Berlin:20260305T200000
DTEND;TZID=Europe/Berlin:20260305T230000
SUMMARY:ME L5 Gr 5\, Tours 3&4 Lausanne IX vs Crissier VI (0)
UID:900c722a-c17b-46b5-ba27-ba3857dc10b6
STATUS:CONFIRMED
LAST-MODIFIED:20260307T193342Z
DESCRIPTION:5ème ligue Hommes Groupe 5\, Tours 3&4\nBegegnungs-Nr: 0\nHeim: Lausanne IX\nGast: Crissier VI\n\nAdresse: Vaudoise Aréna\, Ch. du Viaduc 14\, 1008 Prilly\n
LOCATION:Vaudoise Aréna\, Ch. du Viaduc 14\, 1008 Prilly
CATEGORIES:Saison 2025/26
END:VEVENT
BEGIN:VEVENT
DTSTAMP:20260424T115053Z
DTSTART;TZID=Europe/Berlin:20260312T193000
DTEND;TZID=Europe/Berlin:20260312T223000
SUMMARY:ME L5 Gr 5\, Tours 3&4 Crissier V vs Crissier VI (0)
UID:30049bd3-6476-4564-8b36-83c444fafbcc
STATUS:CONFIRMED
LAST-MODIFIED:20260313T231841Z
DESCRIPTION:5ème ligue Hommes Groupe 5\, Tours 3&4\nBegegnungs-Nr: 0\nHeim: Crissier V\nGast: Crissier VI\n\nAdresse: ch. des Oches du Mur\, 1023 Crissier\n
LOCATION:ch. des Oches du Mur\, 1023 Crissier
CATEGORIES:Saison 2025/26
END:VEVENT
BEGIN:VEVENT
DTSTAMP:20260424T115053Z
DTSTART;TZID=Europe/Berlin:20260331T201500
DTEND;TZID=Europe/Berlin:20260331T231500
SUMMARY:ME L5 Gr 5\, Tours 3&4 Orbe vs Crissier VI (0)
UID:084783e7-08ab-4883-92bb-952abb84fb65
STATUS:CONFIRMED
LAST-MODIFIED:20260401T092453Z
DESCRIPTION:5ème ligue Hommes Groupe 5\, Tours 3&4\nBegegnungs-Nr: 0\nHeim: Orbe\nGast: Crissier VI\n\nAdresse: Rue du Suchet\, 1350 Orbe\n
LOCATION:Rue du Suchet\, 1350 Orbe
CATEGORIES:Saison 2025/26
END:VEVENT
END:VCALENDAR
