BEGIN:VCALENDAR
PRODID:-//nuDatenautomaten//framework iCal4j //DE
VERSION:2.0
CALSCALE:GREGORIAN
BEGIN:VTIMEZONE
TZID:Europe/Berlin
LAST-MODIFIED:20260306T231828Z
TZURL:https://www.tzurl.org/zoneinfo/Europe/Berlin
X-LIC-LOCATION:Europe/Berlin
X-PROLEPTIC-TZNAME:LMT
BEGIN:STANDARD
TZNAME:CET
TZOFFSETFROM:+005328
TZOFFSETTO:+0100
DTSTART:18930401T000000
END:STANDARD
BEGIN:DAYLIGHT
TZNAME:CEST
TZOFFSETFROM:+0100
TZOFFSETTO:+0200
DTSTART:19160430T230000
RDATE:19400401T020000
RDATE:19430329T020000
RDATE:19460414T020000
RDATE:19470406T030000
RDATE:19480418T020000
RDATE:19490410T020000
RDATE:19800406T020000
END:DAYLIGHT
BEGIN:STANDARD
TZNAME:CET
TZOFFSETFROM:+0200
TZOFFSETTO:+0100
DTSTART:19161001T010000
RDATE:19421102T030000
RDATE:19431004T030000
RDATE:19441002T030000
RDATE:19451118T030000
RDATE:19461007T030000
END:STANDARD
BEGIN:DAYLIGHT
TZNAME:CEST
TZOFFSETFROM:+0100
TZOFFSETTO:+0200
DTSTART:19170416T020000
RRULE:FREQ=YEARLY;UNTIL=19180415T010000Z;BYMONTH=4;BYDAY=3MO
END:DAYLIGHT
BEGIN:STANDARD
TZNAME:CET
TZOFFSETFROM:+0200
TZOFFSETTO:+0100
DTSTART:19170917T030000
RRULE:FREQ=YEARLY;UNTIL=19180916T010000Z;BYMONTH=9;BYDAY=3MO
END:STANDARD
BEGIN:DAYLIGHT
TZNAME:CEST
TZOFFSETFROM:+0100
TZOFFSETTO:+0200
DTSTART:19440403T020000
RRULE:FREQ=YEARLY;UNTIL=19450402T010000Z;BYMONTH=4;BYDAY=1MO
END:DAYLIGHT
BEGIN:DAYLIGHT
TZNAME:CEMT
TZOFFSETFROM:+0200
TZOFFSETTO:+0300
DTSTART:19450524T020000
RDATE:19470511T030000
END:DAYLIGHT
BEGIN:DAYLIGHT
TZNAME:CEST
TZOFFSETFROM:+0300
TZOFFSETTO:+0200
DTSTART:19450924T030000
RDATE:19470629T030000
END:DAYLIGHT
BEGIN:STANDARD
TZNAME:CET
TZOFFSETFROM:+0100
TZOFFSETTO:+0100
DTSTART:19460101T000000
RDATE:19800101T000000
END:STANDARD
BEGIN:STANDARD
TZNAME:CET
TZOFFSETFROM:+0200
TZOFFSETTO:+0100
DTSTART:19471005T030000
RRULE:FREQ=YEARLY;UNTIL=19491002T010000Z;BYMONTH=10;BYDAY=1SU
END:STANDARD
BEGIN:STANDARD
TZNAME:CET
TZOFFSETFROM:+0200
TZOFFSETTO:+0100
DTSTART:19800928T030000
RRULE:FREQ=YEARLY;UNTIL=19950924T010000Z;BYMONTH=9;BYDAY=-1SU
END:STANDARD
BEGIN:DAYLIGHT
TZNAME:CEST
TZOFFSETFROM:+0100
TZOFFSETTO:+0200
DTSTART:19810329T020000
RRULE:FREQ=YEARLY;BYMONTH=3;BYDAY=-1SU
END:DAYLIGHT
BEGIN:STANDARD
TZNAME:CET
TZOFFSETFROM:+0200
TZOFFSETTO:+0100
DTSTART:19961027T030000
RRULE:FREQ=YEARLY;BYMONTH=10;BYDAY=-1SU
END:STANDARD
END:VTIMEZONE
BEGIN:VEVENT
DTSTAMP:20260424T135212Z
DTSTART;TZID=Europe/Berlin:20250828T193000
DTEND;TZID=Europe/Berlin:20250828T223000
SUMMARY:HE 2. Liga Gr. 2 Affoltern A/A III vs Young Stars ZH IV (0)
UID:6c632d73-a107-4a2e-a126-652e3bc4971a
STATUS:CONFIRMED
LAST-MODIFIED:20250829T142817Z
DESCRIPTION:2. Liga Herren Gruppe 2\nBegegnungs-Nr: 0\nHeim: Affoltern A/A III\nGast: Young Stars ZH IV\n\nAdresse: Butzenstrasse 8\, 8910 Affoltern am Albis\n
LOCATION:Butzenstrasse 8\, 8910 Affoltern am Albis
CATEGORIES:Saison 2025/26
END:VEVENT
BEGIN:VEVENT
DTSTAMP:20260424T135212Z
DTSTART;TZID=Europe/Berlin:20251002T193000
DTEND;TZID=Europe/Berlin:20251002T223000
SUMMARY:HE 2. Liga Gr. 2 Affoltern A/A III vs Bronschhofen II (0)
UID:85c17391-09e8-4009-b6d9-787d482cc165
STATUS:CONFIRMED
LAST-MODIFIED:20251003T064428Z
DESCRIPTION:2. Liga Herren Gruppe 2\nBegegnungs-Nr: 0\nHeim: Affoltern A/A III\nGast: Bronschhofen II\n\nAdresse: Butzenstrasse 8\, 8910 Affoltern am Albis\n
LOCATION:Butzenstrasse 8\, 8910 Affoltern am Albis
CATEGORIES:Saison 2025/26
END:VEVENT
BEGIN:VEVENT
DTSTAMP:20260424T135212Z
DTSTART;TZID=Europe/Berlin:20251030T193000
DTEND;TZID=Europe/Berlin:20251030T223000
SUMMARY:HE 2. Liga Gr. 2 Affoltern A/A III vs Wädenswil III (0)
UID:fc472247-ffdb-44ba-a1c8-1213038799bf
STATUS:CONFIRMED
LAST-MODIFIED:20251031T142851Z
DESCRIPTION:2. Liga Herren Gruppe 2\nBegegnungs-Nr: 0\nHeim: Affoltern A/A III\nGast: Wädenswil III\n\nAdresse: Butzenstrasse 8\, 8910 Affoltern am Albis\n
LOCATION:Butzenstrasse 8\, 8910 Affoltern am Albis
CATEGORIES:Saison 2025/26
END:VEVENT
BEGIN:VEVENT
DTSTAMP:20260424T135212Z
DTSTART;TZID=Europe/Berlin:20260122T193000
DTEND;TZID=Europe/Berlin:20260122T223000
SUMMARY:HE 2. Liga Gr. 2 Affoltern A/A III vs Zürich-Affoltern III (0)
UID:086e1966-82f0-43f5-93f1-7ffc1cf007a2
STATUS:CONFIRMED
LAST-MODIFIED:20260123T082239Z
DESCRIPTION:2. Liga Herren Gruppe 2\nBegegnungs-Nr: 0\nHeim: Affoltern A/A III\nGast: Zürich-Affoltern III\n\nAdresse: Butzenstrasse 8\, 8910 Affoltern am Albis\n
LOCATION:Butzenstrasse 8\, 8910 Affoltern am Albis
CATEGORIES:Saison 2025/26
END:VEVENT
BEGIN:VEVENT
DTSTAMP:20260424T135212Z
DTSTART;TZID=Europe/Berlin:20260305T193000
DTEND;TZID=Europe/Berlin:20260305T223000
SUMMARY:HE 2. Liga Gr. 2 Affoltern A/A III vs Pinguin Zürich (0)
UID:a0867286-8914-4ed3-adf4-a5a04924dd7e
STATUS:CONFIRMED
LAST-MODIFIED:20260310T153906Z
DESCRIPTION:2. Liga Herren Gruppe 2\nBegegnungs-Nr: 0\nHeim: Affoltern A/A III\nGast: Pinguin Zürich\n\nAdresse: Butzenstrasse 8\, 8910 Affoltern am Albis\n
LOCATION:Butzenstrasse 8\, 8910 Affoltern am Albis
CATEGORIES:Saison 2025/26
END:VEVENT
BEGIN:VEVENT
DTSTAMP:20260424T135212Z
DTSTART;TZID=Europe/Berlin:20260326T193000
DTEND;TZID=Europe/Berlin:20260326T223000
SUMMARY:HE 2. Liga Gr. 2 Affoltern A/A III vs Niederhasli (0)
UID:521a3e2b-9a59-401a-86f4-b228cc19e1c6
STATUS:CONFIRMED
LAST-MODIFIED:20260401T121013Z
DESCRIPTION:2. Liga Herren Gruppe 2\nBegegnungs-Nr: 0\nHeim: Affoltern A/A III\nGast: Niederhasli\n\nAdresse: Butzenstrasse 8\, 8910 Affoltern am Albis\n
LOCATION:Butzenstrasse 8\, 8910 Affoltern am Albis
CATEGORIES:Saison 2025/26
END:VEVENT
BEGIN:VEVENT
DTSTAMP:20260424T135212Z
DTSTART;TZID=Europe/Berlin:20260416T193000
DTEND;TZID=Europe/Berlin:20260416T223000
SUMMARY:HE 2. Liga Gr. 2 Affoltern A/A III vs Rapperswil-Jona IV (0)
UID:2858d78e-49d3-412b-a06b-10f71a6c1a7e
STATUS:CONFIRMED
LAST-MODIFIED:20260420T115258Z
DESCRIPTION:2. Liga Herren Gruppe 2\nBegegnungs-Nr: 0\nHeim: Affoltern A/A III\nGast: Rapperswil-Jona IV\n\nAdresse: Butzenstrasse 8\, 8910 Affoltern am Albis\n
LOCATION:Butzenstrasse 8\, 8910 Affoltern am Albis
CATEGORIES:Saison 2025/26
END:VEVENT
BEGIN:VEVENT
DTSTAMP:20260424T135212Z
DTSTART;TZID=Europe/Berlin:20250827T201500
DTEND;TZID=Europe/Berlin:20250827T231500
SUMMARY:HE 2. Liga Gr. 2 Zürich-Affoltern III vs Affoltern A/A III (0)
UID:d4336b9a-434a-4162-9ab1-5a05e59e16aa
STATUS:CONFIRMED
LAST-MODIFIED:20250829T142807Z
DESCRIPTION:2. Liga Herren Gruppe 2\nBegegnungs-Nr: 0\nHeim: Zürich-Affoltern III\nGast: Affoltern A/A III\n\nAdresse: Rümlangstr. 89\, 8052 Zürich\n
LOCATION:Rümlangstr. 89\, 8052 Zürich
CATEGORIES:Saison 2025/26
END:VEVENT
BEGIN:VEVENT
DTSTAMP:20260424T135212Z
DTSTART;TZID=Europe/Berlin:20250912T193000
DTEND;TZID=Europe/Berlin:20250912T223000
SUMMARY:HE 2. Liga Gr. 2 Pinguin Zürich vs Affoltern A/A III (0)
UID:59a2ecdd-783f-4218-87e9-98088a052fec
STATUS:CONFIRMED
LAST-MODIFIED:20250915T082912Z
DESCRIPTION:2. Liga Herren Gruppe 2\nBegegnungs-Nr: 0\nHeim: Pinguin Zürich\nGast: Affoltern A/A III\n\nAdresse: Basteiplatz\, 8001 Zürich\n
LOCATION:Basteiplatz\, 8001 Zürich
CATEGORIES:Saison 2025/26
END:VEVENT
BEGIN:VEVENT
DTSTAMP:20260424T135212Z
DTSTART;TZID=Europe/Berlin:20251104T193000
DTEND;TZID=Europe/Berlin:20251104T223000
SUMMARY:HE 2. Liga Gr. 2 Niederhasli vs Affoltern A/A III (0)
UID:4d67026c-7ca0-44b5-bcdf-d4ae22540407
STATUS:CONFIRMED
LAST-MODIFIED:20251107T144241Z
DESCRIPTION:2. Liga Herren Gruppe 2\nBegegnungs-Nr: 0\nHeim: Niederhasli\nGast: Affoltern A/A III\n\nAdresse: Dorfstrasse 22\, 8155 Niederhasli\n
LOCATION:Dorfstrasse 22\, 8155 Niederhasli
CATEGORIES:Saison 2025/26
END:VEVENT
BEGIN:VEVENT
DTSTAMP:20260424T135212Z
DTSTART;TZID=Europe/Berlin:20251213T130000
DTEND;TZID=Europe/Berlin:20251213T160000
SUMMARY:HE 2. Liga Gr. 2 Rapperswil-Jona IV vs Affoltern A/A III (0)
UID:9a9545cf-5e2e-48ef-a68a-d3e75f1a48ae
STATUS:CONFIRMED
LAST-MODIFIED:20251215T132928Z
DESCRIPTION:2. Liga Herren Gruppe 2\nBegegnungs-Nr: 0\nHeim: Rapperswil-Jona IV\nGast: Affoltern A/A III\n\nAdresse: Kreuzstrasse 43\, 8640 Rapperswil\n
LOCATION:Kreuzstrasse 43\, 8640 Rapperswil
CATEGORIES:Saison 2025/26
END:VEVENT
BEGIN:VEVENT
DTSTAMP:20260424T135212Z
DTSTART;TZID=Europe/Berlin:20260107T201500
DTEND;TZID=Europe/Berlin:20260107T231500
SUMMARY:HE 2. Liga Gr. 2 Young Stars ZH IV vs Affoltern A/A III (0)
UID:3fd878c5-7086-4f4f-86d1-afa5793ca98d
STATUS:CONFIRMED
LAST-MODIFIED:20260109T074714Z
DESCRIPTION:2. Liga Herren Gruppe 2\nBegegnungs-Nr: 0\nHeim: Young Stars ZH IV\nGast: Affoltern A/A III\n\nAdresse: Seefeldstrasse 93\, 8008 Zürich\n
LOCATION:Seefeldstrasse 93\, 8008 Zürich
CATEGORIES:Saison 2025/26
END:VEVENT
BEGIN:VEVENT
DTSTAMP:20260424T135212Z
DTSTART;TZID=Europe/Berlin:20260128T200000
DTEND;TZID=Europe/Berlin:20260128T230000
SUMMARY:HE 2. Liga Gr. 2 Bronschhofen II vs Affoltern A/A III (0)
UID:b9cc94cd-4933-4978-bb26-be94353e7138
STATUS:CONFIRMED
LAST-MODIFIED:20260129T094043Z
DESCRIPTION:2. Liga Herren Gruppe 2\nBegegnungs-Nr: 0\nHeim: Bronschhofen II\nGast: Affoltern A/A III\n\nAdresse: Industriestrasse 4\, 9552 Bronschhofen\n
LOCATION:Industriestrasse 4\, 9552 Bronschhofen
CATEGORIES:Saison 2025/26
END:VEVENT
BEGIN:VEVENT
DTSTAMP:20260424T135212Z
DTSTART;TZID=Europe/Berlin:20260312T201500
DTEND;TZID=Europe/Berlin:20260312T231500
SUMMARY:HE 2. Liga Gr. 2 Wädenswil III vs Affoltern A/A III (0)
UID:962b8c77-1cfb-412d-b221-d50105bf8da6
STATUS:CONFIRMED
LAST-MODIFIED:20260313T130426Z
DESCRIPTION:2. Liga Herren Gruppe 2\nBegegnungs-Nr: 0\nHeim: Wädenswil III\nGast: Affoltern A/A III\n\nAdresse: Speerstrasse 95\, 8820 Wädenswil\n
LOCATION:Speerstrasse 95\, 8820 Wädenswil
CATEGORIES:Saison 2025/26
END:VEVENT
END:VCALENDAR
