BEGIN:VCALENDAR
PRODID:-//nuDatenautomaten//framework iCal4j //DE
VERSION:2.0
CALSCALE:GREGORIAN
BEGIN:VTIMEZONE
TZID:Europe/Berlin
LAST-MODIFIED:20260306T231828Z
TZURL:https://www.tzurl.org/zoneinfo/Europe/Berlin
X-LIC-LOCATION:Europe/Berlin
X-PROLEPTIC-TZNAME:LMT
BEGIN:STANDARD
TZNAME:CET
TZOFFSETFROM:+005328
TZOFFSETTO:+0100
DTSTART:18930401T000000
END:STANDARD
BEGIN:DAYLIGHT
TZNAME:CEST
TZOFFSETFROM:+0100
TZOFFSETTO:+0200
DTSTART:19160430T230000
RDATE:19400401T020000
RDATE:19430329T020000
RDATE:19460414T020000
RDATE:19470406T030000
RDATE:19480418T020000
RDATE:19490410T020000
RDATE:19800406T020000
END:DAYLIGHT
BEGIN:STANDARD
TZNAME:CET
TZOFFSETFROM:+0200
TZOFFSETTO:+0100
DTSTART:19161001T010000
RDATE:19421102T030000
RDATE:19431004T030000
RDATE:19441002T030000
RDATE:19451118T030000
RDATE:19461007T030000
END:STANDARD
BEGIN:DAYLIGHT
TZNAME:CEST
TZOFFSETFROM:+0100
TZOFFSETTO:+0200
DTSTART:19170416T020000
RRULE:FREQ=YEARLY;UNTIL=19180415T010000Z;BYMONTH=4;BYDAY=3MO
END:DAYLIGHT
BEGIN:STANDARD
TZNAME:CET
TZOFFSETFROM:+0200
TZOFFSETTO:+0100
DTSTART:19170917T030000
RRULE:FREQ=YEARLY;UNTIL=19180916T010000Z;BYMONTH=9;BYDAY=3MO
END:STANDARD
BEGIN:DAYLIGHT
TZNAME:CEST
TZOFFSETFROM:+0100
TZOFFSETTO:+0200
DTSTART:19440403T020000
RRULE:FREQ=YEARLY;UNTIL=19450402T010000Z;BYMONTH=4;BYDAY=1MO
END:DAYLIGHT
BEGIN:DAYLIGHT
TZNAME:CEMT
TZOFFSETFROM:+0200
TZOFFSETTO:+0300
DTSTART:19450524T020000
RDATE:19470511T030000
END:DAYLIGHT
BEGIN:DAYLIGHT
TZNAME:CEST
TZOFFSETFROM:+0300
TZOFFSETTO:+0200
DTSTART:19450924T030000
RDATE:19470629T030000
END:DAYLIGHT
BEGIN:STANDARD
TZNAME:CET
TZOFFSETFROM:+0100
TZOFFSETTO:+0100
DTSTART:19460101T000000
RDATE:19800101T000000
END:STANDARD
BEGIN:STANDARD
TZNAME:CET
TZOFFSETFROM:+0200
TZOFFSETTO:+0100
DTSTART:19471005T030000
RRULE:FREQ=YEARLY;UNTIL=19491002T010000Z;BYMONTH=10;BYDAY=1SU
END:STANDARD
BEGIN:STANDARD
TZNAME:CET
TZOFFSETFROM:+0200
TZOFFSETTO:+0100
DTSTART:19800928T030000
RRULE:FREQ=YEARLY;UNTIL=19950924T010000Z;BYMONTH=9;BYDAY=-1SU
END:STANDARD
BEGIN:DAYLIGHT
TZNAME:CEST
TZOFFSETFROM:+0100
TZOFFSETTO:+0200
DTSTART:19810329T020000
RRULE:FREQ=YEARLY;BYMONTH=3;BYDAY=-1SU
END:DAYLIGHT
BEGIN:STANDARD
TZNAME:CET
TZOFFSETFROM:+0200
TZOFFSETTO:+0100
DTSTART:19961027T030000
RRULE:FREQ=YEARLY;BYMONTH=10;BYDAY=-1SU
END:STANDARD
END:VTIMEZONE
BEGIN:VEVENT
DTSTAMP:20260424T135908Z
DTSTART;TZID=Europe/Berlin:20250830T130000
DTEND;TZID=Europe/Berlin:20250830T160000
SUMMARY:JUG\, 2.Li\, Gr.1\, VR Weinfelden vs Steckborn-Homburg (1)
UID:2fefeaa3-2c1a-43ab-96b4-ab8564ba5c77
STATUS:CONFIRMED
LAST-MODIFIED:20250825T122045Z
DESCRIPTION:Jugend\, 2. Liga\, Gruppe 1\, Vorrunde\nBegegnungs-Nr: 1\nHeim: Weinfelden\nGast: Steckborn-Homburg\nHalle: Poule in Weinfelden\, Berufsbildungszentrum\nAdresse: Bleichestrasse 3 (neben Hallenbad)\, 8570 Weinfelden\n
LOCATION:Poule in Weinfelden\, Berufsbildungszentrum Bleichestrasse 3 (neben Hallenbad)\, 8570 Weinfelden
CATEGORIES:Saison 2025/26
END:VEVENT
BEGIN:VEVENT
DTSTAMP:20260424T135908Z
DTSTART;TZID=Europe/Berlin:20250830T143000
DTEND;TZID=Europe/Berlin:20250830T173000
SUMMARY:JUG\, 2.Li\, Gr.1\, VR Weinfelden vs Ettenhausen (4)
UID:0de0e9f1-ca85-48a2-900f-d90c85eec621
STATUS:CONFIRMED
LAST-MODIFIED:20250912T092620Z
DESCRIPTION:Jugend\, 2. Liga\, Gruppe 1\, Vorrunde\nBegegnungs-Nr: 4\nHeim: Weinfelden\nGast: Ettenhausen\n\nAdresse: Bleichestrasse 3 (neben Hallenbad)\, 8570 Weinfelden\n
LOCATION:Bleichestrasse 3 (neben Hallenbad)\, 8570 Weinfelden
CATEGORIES:Saison 2025/26
END:VEVENT
BEGIN:VEVENT
DTSTAMP:20260424T135908Z
DTSTART;TZID=Europe/Berlin:20251115T143000
DTEND;TZID=Europe/Berlin:20251115T173000
SUMMARY:JUG\, 2.Li\, Gr.3\, ZR Weinfelden vs Chur (4)
UID:45d4bcf0-9b77-4cde-8c87-a057f4ccdea6
STATUS:CONFIRMED
LAST-MODIFIED:20251121T095618Z
DESCRIPTION:Jugend\, 2. Liga\, Gruppe 3\, Zwischenrunde\nBegegnungs-Nr: 4\nHeim: Weinfelden\nGast: Chur\n\nAdresse: Bleichestrasse 3 (neben Hallenbad)\, 8570 Weinfelden\n
LOCATION:Bleichestrasse 3 (neben Hallenbad)\, 8570 Weinfelden
CATEGORIES:Saison 2025/26
END:VEVENT
BEGIN:VEVENT
DTSTAMP:20260424T135908Z
DTSTART;TZID=Europe/Berlin:20251115T130000
DTEND;TZID=Europe/Berlin:20251115T160000
SUMMARY:JUG\, 2.Li\, Gr.3\, ZR Weinfelden vs Neuhausen II (1)
UID:45ced640-96fc-4901-9994-1d26ffe2f772
STATUS:CONFIRMED
LAST-MODIFIED:20251121T095553Z
DESCRIPTION:Jugend\, 2. Liga\, Gruppe 3\, Zwischenrunde\nBegegnungs-Nr: 1\nHeim: Weinfelden\nGast: Neuhausen II\nHalle: Poule in Weinfelden\, Berufsbildungszentrum\nAdresse: Bleichestrasse 3 (neben Hallenbad)\, 8570 Weinfelden\n
LOCATION:Poule in Weinfelden\, Berufsbildungszentrum Bleichestrasse 3 (neben Hallenbad)\, 8570 Weinfelden
CATEGORIES:Saison 2025/26
END:VEVENT
BEGIN:VEVENT
DTSTAMP:20260424T135908Z
DTSTART;TZID=Europe/Berlin:20260328T143000
DTEND;TZID=Europe/Berlin:20260328T173000
SUMMARY:JUG\, 2.Li\, Gr.2\, Final Weinfelden vs Neuhausen II (3)
UID:a366c6b9-ca90-4cf5-8a35-16b3f71837ae
STATUS:CONFIRMED
LAST-MODIFIED:20260401T133845Z
DESCRIPTION:Jugend\, 2. Liga\, Gruppe 2\, Final\nBegegnungs-Nr: 3\nHeim: Weinfelden\nGast: Neuhausen II\n\nAdresse: Bleichestrasse 3 (neben Hallenbad)\, 8570 Weinfelden\n
LOCATION:Bleichestrasse 3 (neben Hallenbad)\, 8570 Weinfelden
CATEGORIES:Saison 2025/26
END:VEVENT
BEGIN:VEVENT
DTSTAMP:20260424T135908Z
DTSTART;TZID=Europe/Berlin:20250830T160000
DTEND;TZID=Europe/Berlin:20250830T190000
SUMMARY:JUG\, 2.Li\, Gr.1\, VR Wil SG vs Weinfelden (6)
UID:ad9b0ec8-3fad-46c3-b562-a6dd6e760e59
STATUS:CONFIRMED
LAST-MODIFIED:20250902T094454Z
DESCRIPTION:Jugend\, 2. Liga\, Gruppe 1\, Vorrunde\nBegegnungs-Nr: 6\nHeim: Wil SG\nGast: Weinfelden\n\nAdresse: Lindenhofstr. 23\, 9500 Wil\n
LOCATION:Lindenhofstr. 23\, 9500 Wil
CATEGORIES:Saison 2025/26
END:VEVENT
BEGIN:VEVENT
DTSTAMP:20260424T135908Z
DTSTART;TZID=Europe/Berlin:20251115T160000
DTEND;TZID=Europe/Berlin:20251115T190000
SUMMARY:JUG\, 2.Li\, Gr.3\, ZR Urdorf vs Weinfelden (6)
UID:dde43caf-ce79-4489-9049-5b486cf5a53c
STATUS:CONFIRMED
LAST-MODIFIED:20251121T095637Z
DESCRIPTION:Jugend\, 2. Liga\, Gruppe 3\, Zwischenrunde\nBegegnungs-Nr: 6\nHeim: Urdorf\nGast: Weinfelden\n\nAdresse: Weihermattstrasse 50\, 8902 Urdorf\n
LOCATION:Weihermattstrasse 50\, 8902 Urdorf
CATEGORIES:Saison 2025/26
END:VEVENT
BEGIN:VEVENT
DTSTAMP:20260424T135908Z
DTSTART;TZID=Europe/Berlin:20260328T160000
DTEND;TZID=Europe/Berlin:20260328T190000
SUMMARY:JUG\, 2.Li\, Gr.2\, Final Wil SG vs Weinfelden (5)
UID:16e4c01d-8b0d-4cde-a75a-0f7eca9a5c73
STATUS:CONFIRMED
LAST-MODIFIED:20260401T133908Z
DESCRIPTION:Jugend\, 2. Liga\, Gruppe 2\, Final\nBegegnungs-Nr: 5\nHeim: Wil SG\nGast: Weinfelden\n\nAdresse: Lindenhofstr. 23\, 9500 Wil\n
LOCATION:Lindenhofstr. 23\, 9500 Wil
CATEGORIES:Saison 2025/26
END:VEVENT
BEGIN:VEVENT
DTSTAMP:20260424T135908Z
DTSTART;TZID=Europe/Berlin:20260328T130000
DTEND;TZID=Europe/Berlin:20260328T160000
SUMMARY:JUG\, 2.Li\, Gr.2\, Final Young Stars ZH II vs Weinfelden (1)
UID:de2b2c45-da66-42ef-894f-51a16b30f1c2
STATUS:CONFIRMED
LAST-MODIFIED:20260401T133724Z
DESCRIPTION:Jugend\, 2. Liga\, Gruppe 2\, Final\nBegegnungs-Nr: 1\nHeim: Young Stars ZH II\nGast: Weinfelden\nHalle: Poule in Zürich\, TH Balgrist\nAdresse: Balgriststrasse 55\, 8008 Zürich\n
LOCATION:Poule in Zürich\, TH Balgrist Balgriststrasse 55\, 8008 Zürich
CATEGORIES:Saison 2025/26
END:VEVENT
END:VCALENDAR
