BEGIN:VCALENDAR
PRODID:-//nuDatenautomaten//framework iCal4j //DE
VERSION:2.0
CALSCALE:GREGORIAN
BEGIN:VTIMEZONE
TZID:Europe/Berlin
LAST-MODIFIED:20260306T231828Z
TZURL:https://www.tzurl.org/zoneinfo/Europe/Berlin
X-LIC-LOCATION:Europe/Berlin
X-PROLEPTIC-TZNAME:LMT
BEGIN:STANDARD
TZNAME:CET
TZOFFSETFROM:+005328
TZOFFSETTO:+0100
DTSTART:18930401T000000
END:STANDARD
BEGIN:DAYLIGHT
TZNAME:CEST
TZOFFSETFROM:+0100
TZOFFSETTO:+0200
DTSTART:19160430T230000
RDATE:19400401T020000
RDATE:19430329T020000
RDATE:19460414T020000
RDATE:19470406T030000
RDATE:19480418T020000
RDATE:19490410T020000
RDATE:19800406T020000
END:DAYLIGHT
BEGIN:STANDARD
TZNAME:CET
TZOFFSETFROM:+0200
TZOFFSETTO:+0100
DTSTART:19161001T010000
RDATE:19421102T030000
RDATE:19431004T030000
RDATE:19441002T030000
RDATE:19451118T030000
RDATE:19461007T030000
END:STANDARD
BEGIN:DAYLIGHT
TZNAME:CEST
TZOFFSETFROM:+0100
TZOFFSETTO:+0200
DTSTART:19170416T020000
RRULE:FREQ=YEARLY;UNTIL=19180415T010000Z;BYMONTH=4;BYDAY=3MO
END:DAYLIGHT
BEGIN:STANDARD
TZNAME:CET
TZOFFSETFROM:+0200
TZOFFSETTO:+0100
DTSTART:19170917T030000
RRULE:FREQ=YEARLY;UNTIL=19180916T010000Z;BYMONTH=9;BYDAY=3MO
END:STANDARD
BEGIN:DAYLIGHT
TZNAME:CEST
TZOFFSETFROM:+0100
TZOFFSETTO:+0200
DTSTART:19440403T020000
RRULE:FREQ=YEARLY;UNTIL=19450402T010000Z;BYMONTH=4;BYDAY=1MO
END:DAYLIGHT
BEGIN:DAYLIGHT
TZNAME:CEMT
TZOFFSETFROM:+0200
TZOFFSETTO:+0300
DTSTART:19450524T020000
RDATE:19470511T030000
END:DAYLIGHT
BEGIN:DAYLIGHT
TZNAME:CEST
TZOFFSETFROM:+0300
TZOFFSETTO:+0200
DTSTART:19450924T030000
RDATE:19470629T030000
END:DAYLIGHT
BEGIN:STANDARD
TZNAME:CET
TZOFFSETFROM:+0100
TZOFFSETTO:+0100
DTSTART:19460101T000000
RDATE:19800101T000000
END:STANDARD
BEGIN:STANDARD
TZNAME:CET
TZOFFSETFROM:+0200
TZOFFSETTO:+0100
DTSTART:19471005T030000
RRULE:FREQ=YEARLY;UNTIL=19491002T010000Z;BYMONTH=10;BYDAY=1SU
END:STANDARD
BEGIN:STANDARD
TZNAME:CET
TZOFFSETFROM:+0200
TZOFFSETTO:+0100
DTSTART:19800928T030000
RRULE:FREQ=YEARLY;UNTIL=19950924T010000Z;BYMONTH=9;BYDAY=-1SU
END:STANDARD
BEGIN:DAYLIGHT
TZNAME:CEST
TZOFFSETFROM:+0100
TZOFFSETTO:+0200
DTSTART:19810329T020000
RRULE:FREQ=YEARLY;BYMONTH=3;BYDAY=-1SU
END:DAYLIGHT
BEGIN:STANDARD
TZNAME:CET
TZOFFSETFROM:+0200
TZOFFSETTO:+0100
DTSTART:19961027T030000
RRULE:FREQ=YEARLY;BYMONTH=10;BYDAY=-1SU
END:STANDARD
END:VTIMEZONE
BEGIN:VEVENT
DTSTAMP:20260424T045345Z
DTSTART;TZID=Europe/Berlin:20251210T200000
DTEND;TZID=Europe/Berlin:20251210T230000
SUMMARY:HE 5. Liga Gr. 3 Olten VI vs Frick V (0)
UID:bba0730e-487b-43a3-ac71-5015f3f6ec4f
STATUS:CONFIRMED
LAST-MODIFIED:20251211T112135Z
DESCRIPTION:5. Liga Herren Gruppe 3\nBegegnungs-Nr: 0\nHeim: Olten VI\nGast: Frick V\n\nAdresse: Stockackerstrasse 17\, 5013 Niedergösgen\n
LOCATION:Stockackerstrasse 17\, 5013 Niedergösgen
CATEGORIES:Saison 2025/26
END:VEVENT
BEGIN:VEVENT
DTSTAMP:20260424T045345Z
DTSTART;TZID=Europe/Berlin:20260112T194500
DTEND;TZID=Europe/Berlin:20260112T224500
SUMMARY:HE 5. Liga Gr. 3 Olten VI vs BW Rupperswil III (0)
UID:f84e3c02-0552-48ff-a0d0-9b5459159fbb
STATUS:CONFIRMED
LAST-MODIFIED:20260115T094933Z
DESCRIPTION:5. Liga Herren Gruppe 3\nBegegnungs-Nr: 0\nHeim: Olten VI\nGast: BW Rupperswil III\n\nAdresse: Lostorferstrasse 16\, 4652 Winznau\n
LOCATION:Lostorferstrasse 16\, 4652 Winznau
CATEGORIES:Saison 2025/26
END:VEVENT
BEGIN:VEVENT
DTSTAMP:20260424T045345Z
DTSTART;TZID=Europe/Berlin:20260216T194500
DTEND;TZID=Europe/Berlin:20260216T224500
SUMMARY:HE 5. Liga Gr. 3 Olten VI vs Zofingen IV (0)
UID:08fdfb21-4c8e-4242-93aa-e31c83951f3d
STATUS:CONFIRMED
LAST-MODIFIED:20260218T071706Z
DESCRIPTION:5. Liga Herren Gruppe 3\nBegegnungs-Nr: 0\nHeim: Olten VI\nGast: Zofingen IV\n\nAdresse: Lostorferstrasse 16\, 4652 Winznau\n
LOCATION:Lostorferstrasse 16\, 4652 Winznau
CATEGORIES:Saison 2025/26
END:VEVENT
BEGIN:VEVENT
DTSTAMP:20260424T045345Z
DTSTART;TZID=Europe/Berlin:20260223T194500
DTEND;TZID=Europe/Berlin:20260223T224500
SUMMARY:HE 5. Liga Gr. 3 Olten VI vs Aarau IV (0)
UID:b20af78c-7eb8-4cae-9ea1-e7e2f9020be6
STATUS:CONFIRMED
LAST-MODIFIED:20260224T074558Z
DESCRIPTION:5. Liga Herren Gruppe 3\nBegegnungs-Nr: 0\nHeim: Olten VI\nGast: Aarau IV\n\nAdresse: Lostorferstrasse 16\, 4652 Winznau\n
LOCATION:Lostorferstrasse 16\, 4652 Winznau
CATEGORIES:Saison 2025/26
END:VEVENT
BEGIN:VEVENT
DTSTAMP:20260424T045345Z
DTSTART;TZID=Europe/Berlin:20260323T194500
DTEND;TZID=Europe/Berlin:20260323T224500
SUMMARY:HE 5. Liga Gr. 3 Olten VI vs Döttingen V (0)
UID:751a5470-9282-47a2-9992-c1579e3eba9e
STATUS:CONFIRMED
LAST-MODIFIED:20260416T094129Z
DESCRIPTION:5. Liga Herren Gruppe 3\nBegegnungs-Nr: 0\nHeim: Olten VI\nGast: Döttingen V\n\nAdresse: Lostorferstrasse 16\, 4652 Winznau\n
LOCATION:Lostorferstrasse 16\, 4652 Winznau
CATEGORIES:Saison 2025/26
END:VEVENT
BEGIN:VEVENT
DTSTAMP:20260424T045345Z
DTSTART;TZID=Europe/Berlin:20250915T194500
DTEND;TZID=Europe/Berlin:20250915T224500
SUMMARY:HE 5. Liga Gr. 3 Olten VI vs Birrfeld II (0)
UID:6c0754a9-809d-4393-a5f7-af424827adc7
STATUS:CONFIRMED
LAST-MODIFIED:20250918T095402Z
DESCRIPTION:5. Liga Herren Gruppe 3\nBegegnungs-Nr: 0\nHeim: Olten VI\nGast: Birrfeld II\n\nAdresse: Lostorferstrasse 16\, 4652 Winznau\n
LOCATION:Lostorferstrasse 16\, 4652 Winznau
CATEGORIES:Saison 2025/26
END:VEVENT
BEGIN:VEVENT
DTSTAMP:20260424T045345Z
DTSTART;TZID=Europe/Berlin:20251117T194500
DTEND;TZID=Europe/Berlin:20251117T224500
SUMMARY:HE 5. Liga Gr. 3 Olten VI vs Lenzburg III (0)
UID:308edc29-cf51-4c8f-9be0-5b48ce722667
STATUS:CONFIRMED
LAST-MODIFIED:20251120T083622Z
DESCRIPTION:5. Liga Herren Gruppe 3\nBegegnungs-Nr: 0\nHeim: Olten VI\nGast: Lenzburg III\n\nAdresse: Lostorferstrasse 16\, 4652 Winznau\n
LOCATION:Lostorferstrasse 16\, 4652 Winznau
CATEGORIES:Saison 2025/26
END:VEVENT
BEGIN:VEVENT
DTSTAMP:20260424T045345Z
DTSTART;TZID=Europe/Berlin:20260121T194500
DTEND;TZID=Europe/Berlin:20260121T224500
SUMMARY:HE 5. Liga Gr. 3 Birrfeld II vs Olten VI (0)
UID:38177692-409b-4efd-8a47-6de3b065125a
STATUS:CONFIRMED
LAST-MODIFIED:20260123T081854Z
DESCRIPTION:5. Liga Herren Gruppe 3\nBegegnungs-Nr: 0\nHeim: Birrfeld II\nGast: Olten VI\n\nAdresse: Zentralstrasse 30\, 5242 Birr\n
LOCATION:Zentralstrasse 30\, 5242 Birr
CATEGORIES:Saison 2025/26
END:VEVENT
BEGIN:VEVENT
DTSTAMP:20260424T045345Z
DTSTART;TZID=Europe/Berlin:20260313T201500
DTEND;TZID=Europe/Berlin:20260313T231500
SUMMARY:HE 5. Liga Gr. 3 Lenzburg III vs Olten VI (0)
UID:a7d50c85-e799-42cb-8a11-39dcd0ba1334
STATUS:CONFIRMED
LAST-MODIFIED:20260318T110232Z
DESCRIPTION:5. Liga Herren Gruppe 3\nBegegnungs-Nr: 0\nHeim: Lenzburg III\nGast: Olten VI\n\nAdresse: Turnerweg\, 5600 Lenzburg\n
LOCATION:Turnerweg\, 5600 Lenzburg
CATEGORIES:Saison 2025/26
END:VEVENT
BEGIN:VEVENT
DTSTAMP:20260424T045345Z
DTSTART;TZID=Europe/Berlin:20250825T200000
DTEND;TZID=Europe/Berlin:20250825T230000
SUMMARY:HE 5. Liga Gr. 3 Frick V vs Olten VI (0)
UID:bd0e3125-eabb-45bc-a90f-a8e34e52c076
STATUS:CONFIRMED
LAST-MODIFIED:20250905T121629Z
DESCRIPTION:5. Liga Herren Gruppe 3\nBegegnungs-Nr: 0\nHeim: Frick V\nGast: Olten VI\n\nAdresse: Schulstrasse 51\, 5070 Frick\n
LOCATION:Schulstrasse 51\, 5070 Frick
CATEGORIES:Saison 2025/26
END:VEVENT
BEGIN:VEVENT
DTSTAMP:20260424T045345Z
DTSTART;TZID=Europe/Berlin:20250924T200000
DTEND;TZID=Europe/Berlin:20250924T230000
SUMMARY:HE 5. Liga Gr. 3 BW Rupperswil III vs Olten VI (0)
UID:b38a7d8c-0d08-4ed9-a7a9-474751298458
STATUS:CONFIRMED
LAST-MODIFIED:20250926T123759Z
DESCRIPTION:5. Liga Herren Gruppe 3\nBegegnungs-Nr: 0\nHeim: BW Rupperswil III\nGast: Olten VI\n\nAdresse: -\, 5102 Rupperswil\n
LOCATION:-\, 5102 Rupperswil
CATEGORIES:Saison 2025/26
END:VEVENT
BEGIN:VEVENT
DTSTAMP:20260424T045345Z
DTSTART;TZID=Europe/Berlin:20251015T194500
DTEND;TZID=Europe/Berlin:20251015T224500
SUMMARY:HE 5. Liga Gr. 3 Zofingen IV vs Olten VI (0)
UID:25022f5e-7c85-4241-b85f-b6405121a897
STATUS:CONFIRMED
LAST-MODIFIED:20251016T145927Z
DESCRIPTION:5. Liga Herren Gruppe 3\nBegegnungs-Nr: 0\nHeim: Zofingen IV\nGast: Olten VI\n\nAdresse: Kreuzplatz\, 4802 Strengelbach\n
LOCATION:Kreuzplatz\, 4802 Strengelbach
CATEGORIES:Saison 2025/26
END:VEVENT
BEGIN:VEVENT
DTSTAMP:20260424T045345Z
DTSTART;TZID=Europe/Berlin:20251029T194500
DTEND;TZID=Europe/Berlin:20251029T224500
SUMMARY:HE 5. Liga Gr. 3 Aarau IV vs Olten VI (0)
UID:ede6c378-5467-4aac-9504-7e8dc9416a66
STATUS:CONFIRMED
LAST-MODIFIED:20251119T123057Z
DESCRIPTION:5. Liga Herren Gruppe 3\nBegegnungs-Nr: 0\nHeim: Aarau IV\nGast: Olten VI\n\nAdresse: Weltistrasse 20\, 5000 Aarau\n
LOCATION:Weltistrasse 20\, 5000 Aarau
CATEGORIES:Saison 2025/26
END:VEVENT
BEGIN:VEVENT
DTSTAMP:20260424T045345Z
DTSTART;TZID=Europe/Berlin:20251209T201500
DTEND;TZID=Europe/Berlin:20251209T231500
SUMMARY:HE 5. Liga Gr. 3 Döttingen V vs Olten VI (0)
UID:29ef4089-988a-43e8-9d2a-66799f9f3370
STATUS:CONFIRMED
LAST-MODIFIED:20251211T112115Z
DESCRIPTION:5. Liga Herren Gruppe 3\nBegegnungs-Nr: 0\nHeim: Döttingen V\nGast: Olten VI\n\nAdresse: Im Bogen\, Chilbert 25\, 5312 Döttingen\n
LOCATION:Im Bogen\, Chilbert 25\, 5312 Döttingen
CATEGORIES:Saison 2025/26
END:VEVENT
END:VCALENDAR
