BEGIN:VCALENDAR
PRODID:-//nuDatenautomaten//framework iCal4j //DE
VERSION:2.0
CALSCALE:GREGORIAN
BEGIN:VTIMEZONE
TZID:Europe/Berlin
LAST-MODIFIED:20260306T231828Z
TZURL:https://www.tzurl.org/zoneinfo/Europe/Berlin
X-LIC-LOCATION:Europe/Berlin
X-PROLEPTIC-TZNAME:LMT
BEGIN:STANDARD
TZNAME:CET
TZOFFSETFROM:+005328
TZOFFSETTO:+0100
DTSTART:18930401T000000
END:STANDARD
BEGIN:DAYLIGHT
TZNAME:CEST
TZOFFSETFROM:+0100
TZOFFSETTO:+0200
DTSTART:19160430T230000
RDATE:19400401T020000
RDATE:19430329T020000
RDATE:19460414T020000
RDATE:19470406T030000
RDATE:19480418T020000
RDATE:19490410T020000
RDATE:19800406T020000
END:DAYLIGHT
BEGIN:STANDARD
TZNAME:CET
TZOFFSETFROM:+0200
TZOFFSETTO:+0100
DTSTART:19161001T010000
RDATE:19421102T030000
RDATE:19431004T030000
RDATE:19441002T030000
RDATE:19451118T030000
RDATE:19461007T030000
END:STANDARD
BEGIN:DAYLIGHT
TZNAME:CEST
TZOFFSETFROM:+0100
TZOFFSETTO:+0200
DTSTART:19170416T020000
RRULE:FREQ=YEARLY;UNTIL=19180415T010000Z;BYMONTH=4;BYDAY=3MO
END:DAYLIGHT
BEGIN:STANDARD
TZNAME:CET
TZOFFSETFROM:+0200
TZOFFSETTO:+0100
DTSTART:19170917T030000
RRULE:FREQ=YEARLY;UNTIL=19180916T010000Z;BYMONTH=9;BYDAY=3MO
END:STANDARD
BEGIN:DAYLIGHT
TZNAME:CEST
TZOFFSETFROM:+0100
TZOFFSETTO:+0200
DTSTART:19440403T020000
RRULE:FREQ=YEARLY;UNTIL=19450402T010000Z;BYMONTH=4;BYDAY=1MO
END:DAYLIGHT
BEGIN:DAYLIGHT
TZNAME:CEMT
TZOFFSETFROM:+0200
TZOFFSETTO:+0300
DTSTART:19450524T020000
RDATE:19470511T030000
END:DAYLIGHT
BEGIN:DAYLIGHT
TZNAME:CEST
TZOFFSETFROM:+0300
TZOFFSETTO:+0200
DTSTART:19450924T030000
RDATE:19470629T030000
END:DAYLIGHT
BEGIN:STANDARD
TZNAME:CET
TZOFFSETFROM:+0100
TZOFFSETTO:+0100
DTSTART:19460101T000000
RDATE:19800101T000000
END:STANDARD
BEGIN:STANDARD
TZNAME:CET
TZOFFSETFROM:+0200
TZOFFSETTO:+0100
DTSTART:19471005T030000
RRULE:FREQ=YEARLY;UNTIL=19491002T010000Z;BYMONTH=10;BYDAY=1SU
END:STANDARD
BEGIN:STANDARD
TZNAME:CET
TZOFFSETFROM:+0200
TZOFFSETTO:+0100
DTSTART:19800928T030000
RRULE:FREQ=YEARLY;UNTIL=19950924T010000Z;BYMONTH=9;BYDAY=-1SU
END:STANDARD
BEGIN:DAYLIGHT
TZNAME:CEST
TZOFFSETFROM:+0100
TZOFFSETTO:+0200
DTSTART:19810329T020000
RRULE:FREQ=YEARLY;BYMONTH=3;BYDAY=-1SU
END:DAYLIGHT
BEGIN:STANDARD
TZNAME:CET
TZOFFSETFROM:+0200
TZOFFSETTO:+0100
DTSTART:19961027T030000
RRULE:FREQ=YEARLY;BYMONTH=10;BYDAY=-1SU
END:STANDARD
END:VTIMEZONE
BEGIN:VEVENT
DTSTAMP:20260424T114929Z
DTSTART;TZID=Europe/Berlin:20251110T200000
DTEND;TZID=Europe/Berlin:20251110T230000
SUMMARY:Ligue 1 Ph.A Châtelaine II vs ZZ-Lancy IV (34)
UID:805dd7bb-09eb-4924-bfd9-e17bfe3c5627
STATUS:CONFIRMED
LAST-MODIFIED:20251111T214237Z
DESCRIPTION:1ère ligue Homme Gr. unique Phase A\nBegegnungs-Nr: 34\nHeim: Châtelaine II\nGast: ZZ-Lancy IV\n
LOCATION:
CATEGORIES:Saison 2025/26
END:VEVENT
BEGIN:VEVENT
DTSTAMP:20260424T114929Z
DTSTART;TZID=Europe/Berlin:20251027T200000
DTEND;TZID=Europe/Berlin:20251027T230000
SUMMARY:Ligue 1 Ph.A Châtelaine II vs Mandement III (30)
UID:22f30909-3704-420f-9671-bb468a465c11
STATUS:CONFIRMED
LAST-MODIFIED:20251028T092927Z
DESCRIPTION:1ère ligue Homme Gr. unique Phase A\nBegegnungs-Nr: 30\nHeim: Châtelaine II\nGast: Mandement III\n\nAdresse: Avenue de Pailly 15\, 1219 Châtelaine\n
LOCATION:Avenue de Pailly 15\, 1219 Châtelaine
CATEGORIES:Saison 2025/26
END:VEVENT
BEGIN:VEVENT
DTSTAMP:20260424T114929Z
DTSTART;TZID=Europe/Berlin:20251006T200000
DTEND;TZID=Europe/Berlin:20251006T230000
SUMMARY:Ligue 1 Ph.A Châtelaine II vs Versoix II (16)
UID:12599107-9937-4f86-b164-1429e24718f1
STATUS:CONFIRMED
LAST-MODIFIED:20251007T160127Z
DESCRIPTION:1ère ligue Homme Gr. unique Phase A\nBegegnungs-Nr: 16\nHeim: Châtelaine II\nGast: Versoix II\n
LOCATION:
CATEGORIES:Saison 2025/26
END:VEVENT
BEGIN:VEVENT
DTSTAMP:20260424T114929Z
DTSTART;TZID=Europe/Berlin:20250915T200000
DTEND;TZID=Europe/Berlin:20250915T230000
SUMMARY:Ligue 1 Ph.A Châtelaine II vs ZZ-Lancy III (9)
UID:ba897c3f-d146-4c13-b9bd-71bdd88eeabc
STATUS:CONFIRMED
LAST-MODIFIED:20250917T155149Z
DESCRIPTION:1ère ligue Homme Gr. unique Phase A\nBegegnungs-Nr: 9\nHeim: Châtelaine II\nGast: ZZ-Lancy III\n
LOCATION:
CATEGORIES:Saison 2025/26
END:VEVENT
BEGIN:VEVENT
DTSTAMP:20260424T114929Z
DTSTART;TZID=Europe/Berlin:20260331T200000
DTEND;TZID=Europe/Berlin:20260331T230000
SUMMARY:Ligue 2 Gr.1\, Ph.B Châtelaine II vs Silver Star III (25)
UID:6ea6d3b5-8982-4c2c-8f67-3cc42c12a14a
STATUS:CONFIRMED
LAST-MODIFIED:20260401T065345Z
DESCRIPTION:2ème ligue Homme Gr.1 Phase B\nBegegnungs-Nr: 25\nHeim: Châtelaine II\nGast: Silver Star III\n
LOCATION:
CATEGORIES:Saison 2025/26
END:VEVENT
BEGIN:VEVENT
DTSTAMP:20260424T114929Z
DTSTART;TZID=Europe/Berlin:20260317T200000
DTEND;TZID=Europe/Berlin:20260317T230000
SUMMARY:Ligue 2 Gr.1\, Ph.B Châtelaine II vs UGS-Chênois VI (21)
UID:6a5841fb-3f33-40c0-b7b5-18e1045d2f6a
STATUS:CONFIRMED
LAST-MODIFIED:20260318T133233Z
DESCRIPTION:2ème ligue Homme Gr.1 Phase B\nBegegnungs-Nr: 21\nHeim: Châtelaine II\nGast: UGS-Chênois VI\n
LOCATION:
CATEGORIES:Saison 2025/26
END:VEVENT
BEGIN:VEVENT
DTSTAMP:20260424T114929Z
DTSTART;TZID=Europe/Berlin:20260217T200000
DTEND;TZID=Europe/Berlin:20260217T230000
SUMMARY:Ligue 2 Gr.1\, Ph.B Châtelaine II vs Onex (13)
UID:6be3820f-f6ad-4b7a-b84b-52da85f9641d
STATUS:CONFIRMED
LAST-MODIFIED:20260218T134131Z
DESCRIPTION:2ème ligue Homme Gr.1 Phase B\nBegegnungs-Nr: 13\nHeim: Châtelaine II\nGast: Onex\n
LOCATION:
CATEGORIES:Saison 2025/26
END:VEVENT
BEGIN:VEVENT
DTSTAMP:20260424T114929Z
DTSTART;TZID=Europe/Berlin:20260113T200000
DTEND;TZID=Europe/Berlin:20260113T230000
SUMMARY:Ligue 2 Gr.1\, Ph.B Châtelaine II vs ZZ-Lancy V (1)
UID:6c999dea-233b-4fba-b7c0-aefc5fe287fa
STATUS:CONFIRMED
LAST-MODIFIED:20260114T151712Z
DESCRIPTION:2ème ligue Homme Gr.1 Phase B\nBegegnungs-Nr: 1\nHeim: Châtelaine II\nGast: ZZ-Lancy V\n
LOCATION:
CATEGORIES:Saison 2025/26
END:VEVENT
BEGIN:VEVENT
DTSTAMP:20260424T114929Z
DTSTART;TZID=Europe/Berlin:20260127T200000
DTEND;TZID=Europe/Berlin:20260127T230000
SUMMARY:Ligue 2 Gr.1\, Ph.B Châtelaine II vs Mandement V (7)
UID:73032af8-0fdd-4e14-8b24-f76dad0b4943
STATUS:CONFIRMED
LAST-MODIFIED:20260128T132944Z
DESCRIPTION:2ème ligue Homme Gr.1 Phase B\nBegegnungs-Nr: 7\nHeim: Châtelaine II\nGast: Mandement V\n
LOCATION:
CATEGORIES:Saison 2025/26
END:VEVENT
BEGIN:VEVENT
DTSTAMP:20260424T114929Z
DTSTART;TZID=Europe/Berlin:20251013T200000
DTEND;TZID=Europe/Berlin:20251013T230000
SUMMARY:Ligue 1 Ph.A Carouge III vs Châtelaine II (22)
UID:6698ec33-70d8-4671-a4bb-7ecbdf59ec34
STATUS:CONFIRMED
LAST-MODIFIED:20251014T080452Z
DESCRIPTION:1ère ligue Homme Gr. unique Phase A\nBegegnungs-Nr: 22\nHeim: Carouge III\nGast: Châtelaine II\n
LOCATION:
CATEGORIES:Saison 2025/26
END:VEVENT
BEGIN:VEVENT
DTSTAMP:20260424T114929Z
DTSTART;TZID=Europe/Berlin:20250922T194500
DTEND;TZID=Europe/Berlin:20250922T224500
SUMMARY:Ligue 1 Ph.A Mandement II vs Châtelaine II (15)
UID:c1d65f0c-c740-470c-b972-da8375189600
STATUS:CONFIRMED
LAST-MODIFIED:20250923T071209Z
DESCRIPTION:1ère ligue Homme Gr. unique Phase A\nBegegnungs-Nr: 15\nHeim: Mandement II\nGast: Châtelaine II\n
LOCATION:
CATEGORIES:Saison 2025/26
END:VEVENT
BEGIN:VEVENT
DTSTAMP:20260424T114929Z
DTSTART;TZID=Europe/Berlin:20251117T194500
DTEND;TZID=Europe/Berlin:20251117T224500
SUMMARY:Ligue 1 Ph.A Silver Star II vs Châtelaine II (40)
UID:bff39216-5cee-422f-9456-b32345fe136c
STATUS:CONFIRMED
LAST-MODIFIED:20251118T080722Z
DESCRIPTION:1ère ligue Homme Gr. unique Phase A\nBegegnungs-Nr: 40\nHeim: Silver Star II\nGast: Châtelaine II\n
LOCATION:
CATEGORIES:Saison 2025/26
END:VEVENT
BEGIN:VEVENT
DTSTAMP:20260424T114929Z
DTSTART;TZID=Europe/Berlin:20250901T200000
DTEND;TZID=Europe/Berlin:20250901T230000
SUMMARY:Ligue 1 Ph.A Châtelaine vs Châtelaine II (3)
UID:e5435cce-d949-442a-b55b-37c9954923fb
STATUS:CONFIRMED
LAST-MODIFIED:20251007T154228Z
DESCRIPTION:1ère ligue Homme Gr. unique Phase A\nBegegnungs-Nr: 3\nHeim: Châtelaine\nGast: Châtelaine II\n
LOCATION:
CATEGORIES:Saison 2025/26
END:VEVENT
BEGIN:VEVENT
DTSTAMP:20260424T114929Z
DTSTART;TZID=Europe/Berlin:20251124T194500
DTEND;TZID=Europe/Berlin:20251124T224500
SUMMARY:Ligue 1 Ph.A UGS-Chênois IV vs Châtelaine II (43)
UID:c4cf3e68-c533-40ba-a339-8c266ed49f91
STATUS:CONFIRMED
LAST-MODIFIED:20251125T202435Z
DESCRIPTION:1ère ligue Homme Gr. unique Phase A\nBegegnungs-Nr: 43\nHeim: UGS-Chênois IV\nGast: Châtelaine II\n
LOCATION:
CATEGORIES:Saison 2025/26
END:VEVENT
BEGIN:VEVENT
DTSTAMP:20260424T114929Z
DTSTART;TZID=Europe/Berlin:20260428T200000
DTEND;TZID=Europe/Berlin:20260428T230000
SUMMARY:Ligue 2 Gr.1\, Ph.B Onex vs Châtelaine II (28)
UID:995776d6-abaa-4d25-8af4-064d53841610
STATUS:CONFIRMED
DESCRIPTION:2ème ligue Homme Gr.1 Phase B\nBegegnungs-Nr: 28\nHeim: Onex\nGast: Châtelaine II\n
LOCATION:
CATEGORIES:Saison 2025/26
END:VEVENT
BEGIN:VEVENT
DTSTAMP:20260424T114929Z
DTSTART;TZID=Europe/Berlin:20260324T194500
DTEND;TZID=Europe/Berlin:20260324T224500
SUMMARY:Ligue 2 Gr.1\, Ph.B Mandement V vs Châtelaine II (22)
UID:580593f1-c74a-4f2b-8e3b-090e3c5f5a12
STATUS:CONFIRMED
LAST-MODIFIED:20260325T074313Z
DESCRIPTION:2ème ligue Homme Gr.1 Phase B\nBegegnungs-Nr: 22\nHeim: Mandement V\nGast: Châtelaine II\n
LOCATION:
CATEGORIES:Saison 2025/26
END:VEVENT
BEGIN:VEVENT
DTSTAMP:20260424T114929Z
DTSTART;TZID=Europe/Berlin:20260310T200000
DTEND;TZID=Europe/Berlin:20260310T230000
SUMMARY:Ligue 2 Gr.1\, Ph.B ZZ-Lancy V vs Châtelaine II (16)
UID:50b819ab-5751-4a54-b295-8247e3be8326
STATUS:CONFIRMED
LAST-MODIFIED:20260310T221814Z
DESCRIPTION:2ème ligue Homme Gr.1 Phase B\nBegegnungs-Nr: 16\nHeim: ZZ-Lancy V\nGast: Châtelaine II\n
LOCATION:
CATEGORIES:Saison 2025/26
END:VEVENT
BEGIN:VEVENT
DTSTAMP:20260424T114929Z
DTSTART;TZID=Europe/Berlin:20260210T194500
DTEND;TZID=Europe/Berlin:20260210T224500
SUMMARY:Ligue 2 Gr.1\, Ph.B Silver Star III vs Châtelaine II (10)
UID:c18856a0-26cf-4119-9d42-3a4264c4c5b5
STATUS:CONFIRMED
LAST-MODIFIED:20260211T141335Z
DESCRIPTION:2ème ligue Homme Gr.1 Phase B\nBegegnungs-Nr: 10\nHeim: Silver Star III\nGast: Châtelaine II\n
LOCATION:
CATEGORIES:Saison 2025/26
END:VEVENT
BEGIN:VEVENT
DTSTAMP:20260424T114929Z
DTSTART;TZID=Europe/Berlin:20260120T200000
DTEND;TZID=Europe/Berlin:20260120T230000
SUMMARY:Ligue 2 Gr.1\, Ph.B UGS-Chênois VI vs Châtelaine II (6)
UID:0c93210c-6542-4013-8cae-bf16ff6502ca
STATUS:CONFIRMED
LAST-MODIFIED:20260121T162336Z
DESCRIPTION:2ème ligue Homme Gr.1 Phase B\nBegegnungs-Nr: 6\nHeim: UGS-Chênois VI\nGast: Châtelaine II\n
LOCATION:
CATEGORIES:Saison 2025/26
END:VEVENT
END:VCALENDAR
