BEGIN:VCALENDAR
PRODID:-//nuDatenautomaten//framework iCal4j //DE
VERSION:2.0
CALSCALE:GREGORIAN
BEGIN:VTIMEZONE
TZID:Europe/Berlin
LAST-MODIFIED:20260306T231828Z
TZURL:https://www.tzurl.org/zoneinfo/Europe/Berlin
X-LIC-LOCATION:Europe/Berlin
X-PROLEPTIC-TZNAME:LMT
BEGIN:STANDARD
TZNAME:CET
TZOFFSETFROM:+005328
TZOFFSETTO:+0100
DTSTART:18930401T000000
END:STANDARD
BEGIN:DAYLIGHT
TZNAME:CEST
TZOFFSETFROM:+0100
TZOFFSETTO:+0200
DTSTART:19160430T230000
RDATE:19400401T020000
RDATE:19430329T020000
RDATE:19460414T020000
RDATE:19470406T030000
RDATE:19480418T020000
RDATE:19490410T020000
RDATE:19800406T020000
END:DAYLIGHT
BEGIN:STANDARD
TZNAME:CET
TZOFFSETFROM:+0200
TZOFFSETTO:+0100
DTSTART:19161001T010000
RDATE:19421102T030000
RDATE:19431004T030000
RDATE:19441002T030000
RDATE:19451118T030000
RDATE:19461007T030000
END:STANDARD
BEGIN:DAYLIGHT
TZNAME:CEST
TZOFFSETFROM:+0100
TZOFFSETTO:+0200
DTSTART:19170416T020000
RRULE:FREQ=YEARLY;UNTIL=19180415T010000Z;BYMONTH=4;BYDAY=3MO
END:DAYLIGHT
BEGIN:STANDARD
TZNAME:CET
TZOFFSETFROM:+0200
TZOFFSETTO:+0100
DTSTART:19170917T030000
RRULE:FREQ=YEARLY;UNTIL=19180916T010000Z;BYMONTH=9;BYDAY=3MO
END:STANDARD
BEGIN:DAYLIGHT
TZNAME:CEST
TZOFFSETFROM:+0100
TZOFFSETTO:+0200
DTSTART:19440403T020000
RRULE:FREQ=YEARLY;UNTIL=19450402T010000Z;BYMONTH=4;BYDAY=1MO
END:DAYLIGHT
BEGIN:DAYLIGHT
TZNAME:CEMT
TZOFFSETFROM:+0200
TZOFFSETTO:+0300
DTSTART:19450524T020000
RDATE:19470511T030000
END:DAYLIGHT
BEGIN:DAYLIGHT
TZNAME:CEST
TZOFFSETFROM:+0300
TZOFFSETTO:+0200
DTSTART:19450924T030000
RDATE:19470629T030000
END:DAYLIGHT
BEGIN:STANDARD
TZNAME:CET
TZOFFSETFROM:+0100
TZOFFSETTO:+0100
DTSTART:19460101T000000
RDATE:19800101T000000
END:STANDARD
BEGIN:STANDARD
TZNAME:CET
TZOFFSETFROM:+0200
TZOFFSETTO:+0100
DTSTART:19471005T030000
RRULE:FREQ=YEARLY;UNTIL=19491002T010000Z;BYMONTH=10;BYDAY=1SU
END:STANDARD
BEGIN:STANDARD
TZNAME:CET
TZOFFSETFROM:+0200
TZOFFSETTO:+0100
DTSTART:19800928T030000
RRULE:FREQ=YEARLY;UNTIL=19950924T010000Z;BYMONTH=9;BYDAY=-1SU
END:STANDARD
BEGIN:DAYLIGHT
TZNAME:CEST
TZOFFSETFROM:+0100
TZOFFSETTO:+0200
DTSTART:19810329T020000
RRULE:FREQ=YEARLY;BYMONTH=3;BYDAY=-1SU
END:DAYLIGHT
BEGIN:STANDARD
TZNAME:CET
TZOFFSETFROM:+0200
TZOFFSETTO:+0100
DTSTART:19961027T030000
RRULE:FREQ=YEARLY;BYMONTH=10;BYDAY=-1SU
END:STANDARD
END:VTIMEZONE
BEGIN:VEVENT
DTSTAMP:20260424T135740Z
DTSTART;TZID=Europe/Berlin:20260108T194500
DTEND;TZID=Europe/Berlin:20260108T224500
SUMMARY:HE 4. Liga Gr. 5 Dübendorf-Volketswil III vs Thalwil III (0)
UID:147347db-a298-4c13-bd36-eb7fe7835cf2
STATUS:CONFIRMED
LAST-MODIFIED:20260109T075211Z
DESCRIPTION:4. Liga Herren Gruppe 5\nBegegnungs-Nr: 0\nHeim: Dübendorf-Volketswil III\nGast: Thalwil III\n\nAdresse: Wasserfurrenstrasse 7\, 8600 Dübendorf\n
LOCATION:Wasserfurrenstrasse 7\, 8600 Dübendorf
CATEGORIES:Saison 2025/26
END:VEVENT
BEGIN:VEVENT
DTSTAMP:20260424T135740Z
DTSTART;TZID=Europe/Berlin:20260129T194500
DTEND;TZID=Europe/Berlin:20260129T224500
SUMMARY:HE 4. Liga Gr. 5 Dübendorf-Volketswil III vs Höngg II (0)
UID:6f98504d-5134-4cda-a7db-d4b96b8d0dd8
STATUS:CONFIRMED
LAST-MODIFIED:20260130T082102Z
DESCRIPTION:4. Liga Herren Gruppe 5\nBegegnungs-Nr: 0\nHeim: Dübendorf-Volketswil III\nGast: Höngg II\n\nAdresse: Wasserfurrenstrasse 7\, 8600 Dübendorf\n
LOCATION:Wasserfurrenstrasse 7\, 8600 Dübendorf
CATEGORIES:Saison 2025/26
END:VEVENT
BEGIN:VEVENT
DTSTAMP:20260424T135740Z
DTSTART;TZID=Europe/Berlin:20260312T194500
DTEND;TZID=Europe/Berlin:20260312T224500
SUMMARY:HE 4. Liga Gr. 5 Dübendorf-Volketswil III vs Young Stars ZH VII (0)
UID:d9f760f0-3933-4b39-bc90-76c14ceb8415
STATUS:CONFIRMED
LAST-MODIFIED:20260313T131003Z
DESCRIPTION:4. Liga Herren Gruppe 5\nBegegnungs-Nr: 0\nHeim: Dübendorf-Volketswil III\nGast: Young Stars ZH VII\n\nAdresse: Wasserfurrenstrasse 7\, 8600 Dübendorf\n
LOCATION:Wasserfurrenstrasse 7\, 8600 Dübendorf
CATEGORIES:Saison 2025/26
END:VEVENT
BEGIN:VEVENT
DTSTAMP:20260424T135740Z
DTSTART;TZID=Europe/Berlin:20250904T194500
DTEND;TZID=Europe/Berlin:20250904T224500
SUMMARY:HE 4. Liga Gr. 5 Dübendorf-Volketswil III vs BW-Wollishofen III (0)
UID:19d3f0ff-db73-46f3-a743-fbd5ea74e6b8
STATUS:CONFIRMED
LAST-MODIFIED:20250905T124112Z
DESCRIPTION:4. Liga Herren Gruppe 5\nBegegnungs-Nr: 0\nHeim: Dübendorf-Volketswil III\nGast: BW-Wollishofen III\n\nAdresse: Wasserfurrenstrasse 7\, 8600 Dübendorf\n
LOCATION:Wasserfurrenstrasse 7\, 8600 Dübendorf
CATEGORIES:Saison 2025/26
END:VEVENT
BEGIN:VEVENT
DTSTAMP:20260424T135740Z
DTSTART;TZID=Europe/Berlin:20250925T194500
DTEND;TZID=Europe/Berlin:20250925T224500
SUMMARY:HE 4. Liga Gr. 5 Dübendorf-Volketswil III vs Pinguin Zürich III (0)
UID:c5cd3a3d-84b1-4c42-a891-b9109e07ae94
STATUS:CONFIRMED
LAST-MODIFIED:20250926T131556Z
DESCRIPTION:4. Liga Herren Gruppe 5\nBegegnungs-Nr: 0\nHeim: Dübendorf-Volketswil III\nGast: Pinguin Zürich III\n\nAdresse: Wasserfurrenstrasse 7\, 8600 Dübendorf\n
LOCATION:Wasserfurrenstrasse 7\, 8600 Dübendorf
CATEGORIES:Saison 2025/26
END:VEVENT
BEGIN:VEVENT
DTSTAMP:20260424T135740Z
DTSTART;TZID=Europe/Berlin:20251106T194500
DTEND;TZID=Europe/Berlin:20251106T224500
SUMMARY:HE 4. Liga Gr. 5 Dübendorf-Volketswil III vs Zürich-Affoltern VII (0)
UID:30c73106-23f8-4e1d-b0ae-5b3d7e547da2
STATUS:CONFIRMED
LAST-MODIFIED:20251107T144905Z
DESCRIPTION:4. Liga Herren Gruppe 5\nBegegnungs-Nr: 0\nHeim: Dübendorf-Volketswil III\nGast: Zürich-Affoltern VII\n\nAdresse: Wasserfurrenstrasse 7\, 8600 Dübendorf\n
LOCATION:Wasserfurrenstrasse 7\, 8600 Dübendorf
CATEGORIES:Saison 2025/26
END:VEVENT
BEGIN:VEVENT
DTSTAMP:20260424T135740Z
DTSTART;TZID=Europe/Berlin:20251204T194500
DTEND;TZID=Europe/Berlin:20251204T224500
SUMMARY:HE 4. Liga Gr. 5 Dübendorf-Volketswil III vs Meilen-Männedorf II (0)
UID:88912293-96b8-4762-90d3-c181c6a86191
STATUS:CONFIRMED
LAST-MODIFIED:20251205T130502Z
DESCRIPTION:4. Liga Herren Gruppe 5\nBegegnungs-Nr: 0\nHeim: Dübendorf-Volketswil III\nGast: Meilen-Männedorf II\n\nAdresse: Wasserfurrenstrasse 7\, 8600 Dübendorf\n
LOCATION:Wasserfurrenstrasse 7\, 8600 Dübendorf
CATEGORIES:Saison 2025/26
END:VEVENT
BEGIN:VEVENT
DTSTAMP:20260424T135740Z
DTSTART;TZID=Europe/Berlin:20260121T200000
DTEND;TZID=Europe/Berlin:20260121T230000
SUMMARY:HE 4. Liga Gr. 5 BW-Wollishofen III vs Dübendorf-Volketswil III (0)
UID:d6a8ae3d-5e1f-49ee-9e49-cd730fb1a6e8
STATUS:CONFIRMED
LAST-MODIFIED:20260123T082513Z
DESCRIPTION:4. Liga Herren Gruppe 5\nBegegnungs-Nr: 0\nHeim: BW-Wollishofen III\nGast: Dübendorf-Volketswil III\n\nAdresse: Kilchbergstr. 28\, 8038 Zürich\n
LOCATION:Kilchbergstr. 28\, 8038 Zürich
CATEGORIES:Saison 2025/26
END:VEVENT
BEGIN:VEVENT
DTSTAMP:20260424T135740Z
DTSTART;TZID=Europe/Berlin:20260305T200000
DTEND;TZID=Europe/Berlin:20260305T230000
SUMMARY:HE 4. Liga Gr. 5 Pinguin Zürich III vs Dübendorf-Volketswil III (0)
UID:819697a7-b708-4a02-9e80-4337dc9cbb98
STATUS:CONFIRMED
LAST-MODIFIED:20260317T134809Z
DESCRIPTION:4. Liga Herren Gruppe 5\nBegegnungs-Nr: 0\nHeim: Pinguin Zürich III\nGast: Dübendorf-Volketswil III\n\nAdresse: Grindelstrasse 20\, 8303 Bassersdorf\n
LOCATION:Grindelstrasse 20\, 8303 Bassersdorf
CATEGORIES:Saison 2025/26
END:VEVENT
BEGIN:VEVENT
DTSTAMP:20260424T135740Z
DTSTART;TZID=Europe/Berlin:20260325T194500
DTEND;TZID=Europe/Berlin:20260325T224500
SUMMARY:HE 4. Liga Gr. 5 Zürich-Affoltern VII vs Dübendorf-Volketswil III (0)
UID:593499d6-82ec-452f-8acf-0024e801950f
STATUS:CONFIRMED
LAST-MODIFIED:20260326T152314Z
DESCRIPTION:4. Liga Herren Gruppe 5\nBegegnungs-Nr: 0\nHeim: Zürich-Affoltern VII\nGast: Dübendorf-Volketswil III\n\nAdresse: Fronwaldstr.115\, 8046 Zürich\n
LOCATION:Fronwaldstr.115\, 8046 Zürich
CATEGORIES:Saison 2025/26
END:VEVENT
BEGIN:VEVENT
DTSTAMP:20260424T135740Z
DTSTART;TZID=Europe/Berlin:20260416T194500
DTEND;TZID=Europe/Berlin:20260416T224500
SUMMARY:HE 4. Liga Gr. 5 Meilen-Männedorf II vs Dübendorf-Volketswil III (0)
UID:f45cadae-adf1-428d-b4c2-47c832b7e9de
STATUS:CONFIRMED
LAST-MODIFIED:20260420T123000Z
DESCRIPTION:4. Liga Herren Gruppe 5\nBegegnungs-Nr: 0\nHeim: Meilen-Männedorf II\nGast: Dübendorf-Volketswil III\n\nAdresse: Schulhausstr. 27\, 8706 Meilen\n
LOCATION:Schulhausstr. 27\, 8706 Meilen
CATEGORIES:Saison 2025/26
END:VEVENT
BEGIN:VEVENT
DTSTAMP:20260424T135740Z
DTSTART;TZID=Europe/Berlin:20250828T194500
DTEND;TZID=Europe/Berlin:20250828T224500
SUMMARY:HE 4. Liga Gr. 5 Thalwil III vs Dübendorf-Volketswil III (0)
UID:467401f2-9bdd-4826-a88f-717932caa3a9
STATUS:CONFIRMED
LAST-MODIFIED:20250829T143526Z
DESCRIPTION:4. Liga Herren Gruppe 5\nBegegnungs-Nr: 0\nHeim: Thalwil III\nGast: Dübendorf-Volketswil III\n\nAdresse: Langweg 2\, 8942 Oberrieden\n
LOCATION:Langweg 2\, 8942 Oberrieden
CATEGORIES:Saison 2025/26
END:VEVENT
BEGIN:VEVENT
DTSTAMP:20260424T135740Z
DTSTART;TZID=Europe/Berlin:20250919T200000
DTEND;TZID=Europe/Berlin:20250919T230000
SUMMARY:HE 4. Liga Gr. 5 Höngg II vs Dübendorf-Volketswil III (0)
UID:b707f8d3-3521-4ad2-9bc4-0fd809ad1d95
STATUS:CONFIRMED
LAST-MODIFIED:20250926T131341Z
DESCRIPTION:4. Liga Herren Gruppe 5\nBegegnungs-Nr: 0\nHeim: Höngg II\nGast: Dübendorf-Volketswil III\n\nAdresse: Bläsistrasse 2\, 8049 Zürich\n
LOCATION:Bläsistrasse 2\, 8049 Zürich
CATEGORIES:Saison 2025/26
END:VEVENT
BEGIN:VEVENT
DTSTAMP:20260424T135740Z
DTSTART;TZID=Europe/Berlin:20251031T200000
DTEND;TZID=Europe/Berlin:20251031T230000
SUMMARY:HE 4. Liga Gr. 5 Young Stars ZH VII vs Dübendorf-Volketswil III (0)
UID:8bbf8a5d-b355-4374-a270-ede5fb3489ca
STATUS:CONFIRMED
LAST-MODIFIED:20251107T144856Z
DESCRIPTION:4. Liga Herren Gruppe 5\nBegegnungs-Nr: 0\nHeim: Young Stars ZH VII\nGast: Dübendorf-Volketswil III\n\nAdresse: Balgriststrasse 55\, 8008 Zürich\n
LOCATION:Balgriststrasse 55\, 8008 Zürich
CATEGORIES:Saison 2025/26
END:VEVENT
END:VCALENDAR
