BEGIN:VCALENDAR
PRODID:-//nuDatenautomaten//framework iCal4j //DE
VERSION:2.0
CALSCALE:GREGORIAN
BEGIN:VTIMEZONE
TZID:Europe/Berlin
LAST-MODIFIED:20260306T231828Z
TZURL:https://www.tzurl.org/zoneinfo/Europe/Berlin
X-LIC-LOCATION:Europe/Berlin
X-PROLEPTIC-TZNAME:LMT
BEGIN:STANDARD
TZNAME:CET
TZOFFSETFROM:+005328
TZOFFSETTO:+0100
DTSTART:18930401T000000
END:STANDARD
BEGIN:DAYLIGHT
TZNAME:CEST
TZOFFSETFROM:+0100
TZOFFSETTO:+0200
DTSTART:19160430T230000
RDATE:19400401T020000
RDATE:19430329T020000
RDATE:19460414T020000
RDATE:19470406T030000
RDATE:19480418T020000
RDATE:19490410T020000
RDATE:19800406T020000
END:DAYLIGHT
BEGIN:STANDARD
TZNAME:CET
TZOFFSETFROM:+0200
TZOFFSETTO:+0100
DTSTART:19161001T010000
RDATE:19421102T030000
RDATE:19431004T030000
RDATE:19441002T030000
RDATE:19451118T030000
RDATE:19461007T030000
END:STANDARD
BEGIN:DAYLIGHT
TZNAME:CEST
TZOFFSETFROM:+0100
TZOFFSETTO:+0200
DTSTART:19170416T020000
RRULE:FREQ=YEARLY;UNTIL=19180415T010000Z;BYMONTH=4;BYDAY=3MO
END:DAYLIGHT
BEGIN:STANDARD
TZNAME:CET
TZOFFSETFROM:+0200
TZOFFSETTO:+0100
DTSTART:19170917T030000
RRULE:FREQ=YEARLY;UNTIL=19180916T010000Z;BYMONTH=9;BYDAY=3MO
END:STANDARD
BEGIN:DAYLIGHT
TZNAME:CEST
TZOFFSETFROM:+0100
TZOFFSETTO:+0200
DTSTART:19440403T020000
RRULE:FREQ=YEARLY;UNTIL=19450402T010000Z;BYMONTH=4;BYDAY=1MO
END:DAYLIGHT
BEGIN:DAYLIGHT
TZNAME:CEMT
TZOFFSETFROM:+0200
TZOFFSETTO:+0300
DTSTART:19450524T020000
RDATE:19470511T030000
END:DAYLIGHT
BEGIN:DAYLIGHT
TZNAME:CEST
TZOFFSETFROM:+0300
TZOFFSETTO:+0200
DTSTART:19450924T030000
RDATE:19470629T030000
END:DAYLIGHT
BEGIN:STANDARD
TZNAME:CET
TZOFFSETFROM:+0100
TZOFFSETTO:+0100
DTSTART:19460101T000000
RDATE:19800101T000000
END:STANDARD
BEGIN:STANDARD
TZNAME:CET
TZOFFSETFROM:+0200
TZOFFSETTO:+0100
DTSTART:19471005T030000
RRULE:FREQ=YEARLY;UNTIL=19491002T010000Z;BYMONTH=10;BYDAY=1SU
END:STANDARD
BEGIN:STANDARD
TZNAME:CET
TZOFFSETFROM:+0200
TZOFFSETTO:+0100
DTSTART:19800928T030000
RRULE:FREQ=YEARLY;UNTIL=19950924T010000Z;BYMONTH=9;BYDAY=-1SU
END:STANDARD
BEGIN:DAYLIGHT
TZNAME:CEST
TZOFFSETFROM:+0100
TZOFFSETTO:+0200
DTSTART:19810329T020000
RRULE:FREQ=YEARLY;BYMONTH=3;BYDAY=-1SU
END:DAYLIGHT
BEGIN:STANDARD
TZNAME:CET
TZOFFSETFROM:+0200
TZOFFSETTO:+0100
DTSTART:19961027T030000
RRULE:FREQ=YEARLY;BYMONTH=10;BYDAY=-1SU
END:STANDARD
END:VTIMEZONE
BEGIN:VEVENT
DTSTAMP:20260424T140433Z
DTSTART;TZID=Europe/Berlin:20251103T200000
DTEND;TZID=Europe/Berlin:20251103T230000
SUMMARY:HE 4. Liga Gr. 5 Langenthal II vs Grossaffoltern II (20)
UID:92d3ee12-f720-4dd4-9dec-c65ab34b6625
STATUS:CONFIRMED
LAST-MODIFIED:20251122T091104Z
DESCRIPTION:4. Liga Herren Gruppe 5\nBegegnungs-Nr: 20\nHeim: Langenthal II\nGast: Grossaffoltern II\n\nAdresse: Weststrasse 29\, 4900 Langenthal\n
LOCATION:Weststrasse 29\, 4900 Langenthal
CATEGORIES:Saison 2025/26
END:VEVENT
BEGIN:VEVENT
DTSTAMP:20260424T140433Z
DTSTART;TZID=Europe/Berlin:20251124T200000
DTEND;TZID=Europe/Berlin:20251124T230000
SUMMARY:HE 4. Liga Gr. 5 Langenthal II vs Burgdorf VIII (16)
UID:0bc792de-3ab9-4b7b-95ee-4163946225a1
STATUS:CONFIRMED
LAST-MODIFIED:20251207T173245Z
DESCRIPTION:4. Liga Herren Gruppe 5\nBegegnungs-Nr: 16\nHeim: Langenthal II\nGast: Burgdorf VIII\n\nAdresse: Weststrasse 29\, 4900 Langenthal\n
LOCATION:Weststrasse 29\, 4900 Langenthal
CATEGORIES:Saison 2025/26
END:VEVENT
BEGIN:VEVENT
DTSTAMP:20260424T140433Z
DTSTART;TZID=Europe/Berlin:20250901T200000
DTEND;TZID=Europe/Berlin:20250901T230000
SUMMARY:HE 4. Liga Gr. 5 Langenthal II vs Bern VIII (2)
UID:e50ffff5-1edf-426a-b4b2-7eb60fb73518
STATUS:CONFIRMED
LAST-MODIFIED:20250907T195639Z
DESCRIPTION:4. Liga Herren Gruppe 5\nBegegnungs-Nr: 2\nHeim: Langenthal II\nGast: Bern VIII\n\nAdresse: Weststrasse 29\, 4900 Langenthal\n
LOCATION:Weststrasse 29\, 4900 Langenthal
CATEGORIES:Saison 2025/26
END:VEVENT
BEGIN:VEVENT
DTSTAMP:20260424T140433Z
DTSTART;TZID=Europe/Berlin:20251020T200000
DTEND;TZID=Europe/Berlin:20251020T230000
SUMMARY:HE 4. Liga Gr. 5 Langenthal II vs Kirchberg II (9)
UID:747c1254-2485-417d-94e4-08a78bedcdd3
STATUS:CONFIRMED
LAST-MODIFIED:20251029T221117Z
DESCRIPTION:4. Liga Herren Gruppe 5\nBegegnungs-Nr: 9\nHeim: Langenthal II\nGast: Kirchberg II\n\nAdresse: Weststrasse 29\, 4900 Langenthal\n
LOCATION:Weststrasse 29\, 4900 Langenthal
CATEGORIES:Saison 2025/26
END:VEVENT
BEGIN:VEVENT
DTSTAMP:20260424T140433Z
DTSTART;TZID=Europe/Berlin:20260302T200000
DTEND;TZID=Europe/Berlin:20260302T230000
SUMMARY:HE 4. Liga Gr. 5 Langenthal II vs Lyss IV (14)
UID:fccebfd8-f53c-4d96-9300-81be412b6777
STATUS:CONFIRMED
LAST-MODIFIED:20260308T174027Z
DESCRIPTION:4. Liga Herren Gruppe 5\nBegegnungs-Nr: 14\nHeim: Langenthal II\nGast: Lyss IV\n\nAdresse: Weststrasse 29\, 4900 Langenthal\n
LOCATION:Weststrasse 29\, 4900 Langenthal
CATEGORIES:Saison 2025/26
END:VEVENT
BEGIN:VEVENT
DTSTAMP:20260424T140433Z
DTSTART;TZID=Europe/Berlin:20260216T200000
DTEND;TZID=Europe/Berlin:20260216T230000
SUMMARY:HE 4. Liga Gr. 5 Langenthal II vs Wynigen II (11)
UID:293cc17f-bb77-419a-92d4-aa8501df56fc
STATUS:CONFIRMED
LAST-MODIFIED:20260217T213819Z
DESCRIPTION:4. Liga Herren Gruppe 5\nBegegnungs-Nr: 11\nHeim: Langenthal II\nGast: Wynigen II\n\nAdresse: Weststrasse 29\, 4900 Langenthal\n
LOCATION:Weststrasse 29\, 4900 Langenthal
CATEGORIES:Saison 2025/26
END:VEVENT
BEGIN:VEVENT
DTSTAMP:20260424T140433Z
DTSTART;TZID=Europe/Berlin:20251121T200000
DTEND;TZID=Europe/Berlin:20251121T230000
SUMMARY:HE 4. Liga Gr. 5 Lyss IV vs Langenthal II (14)
UID:d86629f6-149d-4a55-8516-76ff7e0b6090
STATUS:CONFIRMED
LAST-MODIFIED:20251122T091131Z
DESCRIPTION:4. Liga Herren Gruppe 5\nBegegnungs-Nr: 14\nHeim: Lyss IV\nGast: Langenthal II\n\nAdresse: Stegmattweg 15-17\, 3250 Lyss\n
LOCATION:Stegmattweg 15-17\, 3250 Lyss
CATEGORIES:Saison 2025/26
END:VEVENT
BEGIN:VEVENT
DTSTAMP:20260424T140433Z
DTSTART;TZID=Europe/Berlin:20251030T200000
DTEND;TZID=Europe/Berlin:20251030T230000
SUMMARY:HE 4. Liga Gr. 5 Wynigen II vs Langenthal II (11)
UID:0d59acc5-c166-401a-849d-a047f25ead52
STATUS:CONFIRMED
LAST-MODIFIED:20251111T072845Z
DESCRIPTION:4. Liga Herren Gruppe 5\nBegegnungs-Nr: 11\nHeim: Wynigen II\nGast: Langenthal II\n\nAdresse: -\, 3472 Wynigen\n
LOCATION:-\, 3472 Wynigen
CATEGORIES:Saison 2025/26
END:VEVENT
BEGIN:VEVENT
DTSTAMP:20260424T140433Z
DTSTART;TZID=Europe/Berlin:20260330T200000
DTEND;TZID=Europe/Berlin:20260330T230000
SUMMARY:HE 4. Liga Gr. 5 Grossaffoltern II vs Langenthal II (20)
UID:56a185e3-86d4-46f3-b4e1-fd3cdce4cc67
STATUS:CONFIRMED
LAST-MODIFIED:20260409T122513Z
DESCRIPTION:4. Liga Herren Gruppe 5\nBegegnungs-Nr: 20\nHeim: Grossaffoltern II\nGast: Langenthal II\n\nAdresse: Schulhausstrasse 5 \, 3257 Grossaffoltern\n
LOCATION:Schulhausstrasse 5 \, 3257 Grossaffoltern
CATEGORIES:Saison 2025/26
END:VEVENT
BEGIN:VEVENT
DTSTAMP:20260424T140433Z
DTSTART;TZID=Europe/Berlin:20260314T140000
DTEND;TZID=Europe/Berlin:20260314T170000
SUMMARY:HE 4. Liga Gr. 5 Burgdorf VIII vs Langenthal II (16)
UID:7d0d0d16-4b99-4ec1-b57c-46960ef4b3ef
STATUS:CONFIRMED
LAST-MODIFIED:20260327T143708Z
DESCRIPTION:4. Liga Herren Gruppe 5\nBegegnungs-Nr: 16\nHeim: Burgdorf VIII\nGast: Langenthal II\n\nAdresse: Pestalozzistrasse 69\, 3400 Burgdorf\n
LOCATION:Pestalozzistrasse 69\, 3400 Burgdorf
CATEGORIES:Saison 2025/26
END:VEVENT
BEGIN:VEVENT
DTSTAMP:20260424T140433Z
DTSTART;TZID=Europe/Berlin:20260220T194500
DTEND;TZID=Europe/Berlin:20260220T224500
SUMMARY:HE 4. Liga Gr. 5 Kirchberg II vs Langenthal II (9)
UID:a7ae94a1-41f8-486b-9eea-7d70659fc3a1
STATUS:CONFIRMED
LAST-MODIFIED:20260224T074912Z
DESCRIPTION:4. Liga Herren Gruppe 5\nBegegnungs-Nr: 9\nHeim: Kirchberg II\nGast: Langenthal II\n\nAdresse: Reinhardweg\, 3422 Kirchberg\n
LOCATION:Reinhardweg\, 3422 Kirchberg
CATEGORIES:Saison 2025/26
END:VEVENT
BEGIN:VEVENT
DTSTAMP:20260424T140433Z
DTSTART;TZID=Europe/Berlin:20260112T193000
DTEND;TZID=Europe/Berlin:20260112T223000
SUMMARY:HE 4. Liga Gr. 5 Bern VIII vs Langenthal II (2)
UID:2cb2f9e0-9cbc-465c-b0fa-92b823b77ca6
STATUS:CONFIRMED
LAST-MODIFIED:20260125T001959Z
DESCRIPTION:4. Liga Herren Gruppe 5\nBegegnungs-Nr: 2\nHeim: Bern VIII\nGast: Langenthal II\n\nAdresse: Mädergutstrasse 58\, 3018 Bern\n
LOCATION:Mädergutstrasse 58\, 3018 Bern
CATEGORIES:Saison 2025/26
END:VEVENT
END:VCALENDAR
