BEGIN:VCALENDAR
PRODID:-//nuDatenautomaten//framework iCal4j //DE
VERSION:2.0
CALSCALE:GREGORIAN
BEGIN:VTIMEZONE
TZID:Europe/Berlin
LAST-MODIFIED:20260306T231828Z
TZURL:https://www.tzurl.org/zoneinfo/Europe/Berlin
X-LIC-LOCATION:Europe/Berlin
X-PROLEPTIC-TZNAME:LMT
BEGIN:STANDARD
TZNAME:CET
TZOFFSETFROM:+005328
TZOFFSETTO:+0100
DTSTART:18930401T000000
END:STANDARD
BEGIN:DAYLIGHT
TZNAME:CEST
TZOFFSETFROM:+0100
TZOFFSETTO:+0200
DTSTART:19160430T230000
RDATE:19400401T020000
RDATE:19430329T020000
RDATE:19460414T020000
RDATE:19470406T030000
RDATE:19480418T020000
RDATE:19490410T020000
RDATE:19800406T020000
END:DAYLIGHT
BEGIN:STANDARD
TZNAME:CET
TZOFFSETFROM:+0200
TZOFFSETTO:+0100
DTSTART:19161001T010000
RDATE:19421102T030000
RDATE:19431004T030000
RDATE:19441002T030000
RDATE:19451118T030000
RDATE:19461007T030000
END:STANDARD
BEGIN:DAYLIGHT
TZNAME:CEST
TZOFFSETFROM:+0100
TZOFFSETTO:+0200
DTSTART:19170416T020000
RRULE:FREQ=YEARLY;UNTIL=19180415T010000Z;BYMONTH=4;BYDAY=3MO
END:DAYLIGHT
BEGIN:STANDARD
TZNAME:CET
TZOFFSETFROM:+0200
TZOFFSETTO:+0100
DTSTART:19170917T030000
RRULE:FREQ=YEARLY;UNTIL=19180916T010000Z;BYMONTH=9;BYDAY=3MO
END:STANDARD
BEGIN:DAYLIGHT
TZNAME:CEST
TZOFFSETFROM:+0100
TZOFFSETTO:+0200
DTSTART:19440403T020000
RRULE:FREQ=YEARLY;UNTIL=19450402T010000Z;BYMONTH=4;BYDAY=1MO
END:DAYLIGHT
BEGIN:DAYLIGHT
TZNAME:CEMT
TZOFFSETFROM:+0200
TZOFFSETTO:+0300
DTSTART:19450524T020000
RDATE:19470511T030000
END:DAYLIGHT
BEGIN:DAYLIGHT
TZNAME:CEST
TZOFFSETFROM:+0300
TZOFFSETTO:+0200
DTSTART:19450924T030000
RDATE:19470629T030000
END:DAYLIGHT
BEGIN:STANDARD
TZNAME:CET
TZOFFSETFROM:+0100
TZOFFSETTO:+0100
DTSTART:19460101T000000
RDATE:19800101T000000
END:STANDARD
BEGIN:STANDARD
TZNAME:CET
TZOFFSETFROM:+0200
TZOFFSETTO:+0100
DTSTART:19471005T030000
RRULE:FREQ=YEARLY;UNTIL=19491002T010000Z;BYMONTH=10;BYDAY=1SU
END:STANDARD
BEGIN:STANDARD
TZNAME:CET
TZOFFSETFROM:+0200
TZOFFSETTO:+0100
DTSTART:19800928T030000
RRULE:FREQ=YEARLY;UNTIL=19950924T010000Z;BYMONTH=9;BYDAY=-1SU
END:STANDARD
BEGIN:DAYLIGHT
TZNAME:CEST
TZOFFSETFROM:+0100
TZOFFSETTO:+0200
DTSTART:19810329T020000
RRULE:FREQ=YEARLY;BYMONTH=3;BYDAY=-1SU
END:DAYLIGHT
BEGIN:STANDARD
TZNAME:CET
TZOFFSETFROM:+0200
TZOFFSETTO:+0100
DTSTART:19961027T030000
RRULE:FREQ=YEARLY;BYMONTH=10;BYDAY=-1SU
END:STANDARD
END:VTIMEZONE
BEGIN:VEVENT
DTSTAMP:20260424T135220Z
DTSTART;TZID=Europe/Berlin:20260330T200000
DTEND;TZID=Europe/Berlin:20260330T230000
SUMMARY:HE 6. Liga Gr. 2 Frick VI vs Döttingen VI (0)
UID:f5f7f358-020a-456d-8bcc-0c7258a8f643
STATUS:CONFIRMED
LAST-MODIFIED:20260416T094352Z
DESCRIPTION:6. Liga Herren Gruppe 2\nBegegnungs-Nr: 0\nHeim: Frick VI\nGast: Döttingen VI\n\nAdresse: Schulstrasse 51\, 5070 Frick\n
LOCATION:Schulstrasse 51\, 5070 Frick
CATEGORIES:Saison 2025/26
END:VEVENT
BEGIN:VEVENT
DTSTAMP:20260424T135220Z
DTSTART;TZID=Europe/Berlin:20260309T200000
DTEND;TZID=Europe/Berlin:20260309T230000
SUMMARY:HE 6. Liga Gr. 2 Frick VI vs Waldenburg II (0)
UID:901745c2-a1ea-4601-a5ef-ecdbe8d0602b
STATUS:CONFIRMED
LAST-MODIFIED:20260313T130907Z
DESCRIPTION:6. Liga Herren Gruppe 2\nBegegnungs-Nr: 0\nHeim: Frick VI\nGast: Waldenburg II\n\nAdresse: Schulstrasse 51\, 5070 Frick\n
LOCATION:Schulstrasse 51\, 5070 Frick
CATEGORIES:Saison 2025/26
END:VEVENT
BEGIN:VEVENT
DTSTAMP:20260424T135220Z
DTSTART;TZID=Europe/Berlin:20251215T200000
DTEND;TZID=Europe/Berlin:20251215T230000
SUMMARY:HE 6. Liga Gr. 2 Frick VI vs Olten VII (0)
UID:8b87fbfc-a5e9-4f5d-a809-d648c2dad1a5
STATUS:CONFIRMED
LAST-MODIFIED:20251216T122325Z
DESCRIPTION:6. Liga Herren Gruppe 2\nBegegnungs-Nr: 0\nHeim: Frick VI\nGast: Olten VII\n\nAdresse: Schulstrasse 51\, 5070 Frick\n
LOCATION:Schulstrasse 51\, 5070 Frick
CATEGORIES:Saison 2025/26
END:VEVENT
BEGIN:VEVENT
DTSTAMP:20260424T135220Z
DTSTART;TZID=Europe/Berlin:20260126T200000
DTEND;TZID=Europe/Berlin:20260126T230000
SUMMARY:HE 6. Liga Gr. 2 Frick VI vs Oberwil VIII (0)
UID:63a9bdc6-ce75-45bf-9f41-c700507f2a9c
STATUS:CONFIRMED
LAST-MODIFIED:20260130T133538Z
DESCRIPTION:6. Liga Herren Gruppe 2\nBegegnungs-Nr: 0\nHeim: Frick VI\nGast: Oberwil VIII\n\nAdresse: Schulstrasse 51\, 5070 Frick\n
LOCATION:Schulstrasse 51\, 5070 Frick
CATEGORIES:Saison 2025/26
END:VEVENT
BEGIN:VEVENT
DTSTAMP:20260424T135220Z
DTSTART;TZID=Europe/Berlin:20250908T200000
DTEND;TZID=Europe/Berlin:20250908T230000
SUMMARY:HE 6. Liga Gr. 2 Frick VI vs Möhlin III (0)
UID:1f44d698-cf1e-4c12-99d9-198fc59d9f26
STATUS:CONFIRMED
LAST-MODIFIED:20250911T112413Z
DESCRIPTION:6. Liga Herren Gruppe 2\nBegegnungs-Nr: 0\nHeim: Frick VI\nGast: Möhlin III\n\nAdresse: Schulstrasse 51\, 5070 Frick\n
LOCATION:Schulstrasse 51\, 5070 Frick
CATEGORIES:Saison 2025/26
END:VEVENT
BEGIN:VEVENT
DTSTAMP:20260424T135220Z
DTSTART;TZID=Europe/Berlin:20251013T200000
DTEND;TZID=Europe/Berlin:20251013T230000
SUMMARY:HE 6. Liga Gr. 2 Frick VI vs Gelterkinden V (0)
UID:737618e7-1c45-4b2d-8441-898f6fa09815
STATUS:CONFIRMED
LAST-MODIFIED:20251016T145832Z
DESCRIPTION:6. Liga Herren Gruppe 2\nBegegnungs-Nr: 0\nHeim: Frick VI\nGast: Gelterkinden V\n\nAdresse: Schulstrasse 51\, 5070 Frick\n
LOCATION:Schulstrasse 51\, 5070 Frick
CATEGORIES:Saison 2025/26
END:VEVENT
BEGIN:VEVENT
DTSTAMP:20260424T135220Z
DTSTART;TZID=Europe/Berlin:20260209T201500
DTEND;TZID=Europe/Berlin:20260209T231500
SUMMARY:HE 6. Liga Gr. 2 Gelterkinden V vs Frick VI (0)
UID:57498709-1de9-4729-bcd4-1594d918bfce
STATUS:CONFIRMED
LAST-MODIFIED:20260211T100551Z
DESCRIPTION:6. Liga Herren Gruppe 2\nBegegnungs-Nr: 0\nHeim: Gelterkinden V\nGast: Frick VI\n\nAdresse: Turnhallenstrasse 18\, 4460 Gelterkinden\n
LOCATION:Turnhallenstrasse 18\, 4460 Gelterkinden
CATEGORIES:Saison 2025/26
END:VEVENT
BEGIN:VEVENT
DTSTAMP:20260424T135220Z
DTSTART;TZID=Europe/Berlin:20250822T194500
DTEND;TZID=Europe/Berlin:20250822T224500
SUMMARY:HE 6. Liga Gr. 2 Olten VII vs Frick VI (0)
UID:03529889-dc05-4732-a2e1-b47b9dbeb99a
STATUS:CONFIRMED
LAST-MODIFIED:20250825T070411Z
DESCRIPTION:6. Liga Herren Gruppe 2\nBegegnungs-Nr: 0\nHeim: Olten VII\nGast: Frick VI\n\nAdresse: Engelbergstrasse 60\, 4600 Olten\n
LOCATION:Engelbergstrasse 60\, 4600 Olten
CATEGORIES:Saison 2025/26
END:VEVENT
BEGIN:VEVENT
DTSTAMP:20260424T135220Z
DTSTART;TZID=Europe/Berlin:20250922T194500
DTEND;TZID=Europe/Berlin:20250922T224500
SUMMARY:HE 6. Liga Gr. 2 Oberwil VIII vs Frick VI (0)
UID:a88a37fd-ea3b-4ca7-9b63-c11d4e932c43
STATUS:CONFIRMED
LAST-MODIFIED:20250926T124050Z
DESCRIPTION:6. Liga Herren Gruppe 2\nBegegnungs-Nr: 0\nHeim: Oberwil VIII\nGast: Frick VI\n\nAdresse: Schulstrasse\, 4104 Oberwil\n
LOCATION:Schulstrasse\, 4104 Oberwil
CATEGORIES:Saison 2025/26
END:VEVENT
BEGIN:VEVENT
DTSTAMP:20260424T135220Z
DTSTART;TZID=Europe/Berlin:20251120T200000
DTEND;TZID=Europe/Berlin:20251120T230000
SUMMARY:HE 6. Liga Gr. 2 Waldenburg II vs Frick VI (0)
UID:4c453592-906f-420c-a13c-365c7258b955
STATUS:CONFIRMED
LAST-MODIFIED:20251124T082437Z
DESCRIPTION:6. Liga Herren Gruppe 2\nBegegnungs-Nr: 0\nHeim: Waldenburg II\nGast: Frick VI\n\nAdresse: Hauptstrasse 30\, 4437 Waldenburg\n
LOCATION:Hauptstrasse 30\, 4437 Waldenburg
CATEGORIES:Saison 2025/26
END:VEVENT
BEGIN:VEVENT
DTSTAMP:20260424T135220Z
DTSTART;TZID=Europe/Berlin:20251211T201500
DTEND;TZID=Europe/Berlin:20251211T231500
SUMMARY:HE 6. Liga Gr. 2 Döttingen VI vs Frick VI (0)
UID:247b679e-77fe-4257-881c-767f4cbb23c2
STATUS:CONFIRMED
LAST-MODIFIED:20251216T122117Z
DESCRIPTION:6. Liga Herren Gruppe 2\nBegegnungs-Nr: 0\nHeim: Döttingen VI\nGast: Frick VI\n\nAdresse: Im Bogen\, Chilbert 25\, 5312 Döttingen\n
LOCATION:Im Bogen\, Chilbert 25\, 5312 Döttingen
CATEGORIES:Saison 2025/26
END:VEVENT
BEGIN:VEVENT
DTSTAMP:20260424T135220Z
DTSTART;TZID=Europe/Berlin:20260116T200000
DTEND;TZID=Europe/Berlin:20260116T230000
SUMMARY:HE 6. Liga Gr. 2 Möhlin III vs Frick VI (0)
UID:2f129816-8784-4962-af71-277390192d19
STATUS:CONFIRMED
LAST-MODIFIED:20260123T082009Z
DESCRIPTION:6. Liga Herren Gruppe 2\nBegegnungs-Nr: 0\nHeim: Möhlin III\nGast: Frick VI\n\nAdresse: Schulhausweg\, 4313 Möhlin\n
LOCATION:Schulhausweg\, 4313 Möhlin
CATEGORIES:Saison 2025/26
END:VEVENT
END:VCALENDAR
