BEGIN:VCALENDAR
PRODID:-//nuDatenautomaten//framework iCal4j //DE
VERSION:2.0
CALSCALE:GREGORIAN
BEGIN:VTIMEZONE
TZID:Europe/Berlin
LAST-MODIFIED:20260306T231828Z
TZURL:https://www.tzurl.org/zoneinfo/Europe/Berlin
X-LIC-LOCATION:Europe/Berlin
X-PROLEPTIC-TZNAME:LMT
BEGIN:STANDARD
TZNAME:CET
TZOFFSETFROM:+005328
TZOFFSETTO:+0100
DTSTART:18930401T000000
END:STANDARD
BEGIN:DAYLIGHT
TZNAME:CEST
TZOFFSETFROM:+0100
TZOFFSETTO:+0200
DTSTART:19160430T230000
RDATE:19400401T020000
RDATE:19430329T020000
RDATE:19460414T020000
RDATE:19470406T030000
RDATE:19480418T020000
RDATE:19490410T020000
RDATE:19800406T020000
END:DAYLIGHT
BEGIN:STANDARD
TZNAME:CET
TZOFFSETFROM:+0200
TZOFFSETTO:+0100
DTSTART:19161001T010000
RDATE:19421102T030000
RDATE:19431004T030000
RDATE:19441002T030000
RDATE:19451118T030000
RDATE:19461007T030000
END:STANDARD
BEGIN:DAYLIGHT
TZNAME:CEST
TZOFFSETFROM:+0100
TZOFFSETTO:+0200
DTSTART:19170416T020000
RRULE:FREQ=YEARLY;UNTIL=19180415T010000Z;BYMONTH=4;BYDAY=3MO
END:DAYLIGHT
BEGIN:STANDARD
TZNAME:CET
TZOFFSETFROM:+0200
TZOFFSETTO:+0100
DTSTART:19170917T030000
RRULE:FREQ=YEARLY;UNTIL=19180916T010000Z;BYMONTH=9;BYDAY=3MO
END:STANDARD
BEGIN:DAYLIGHT
TZNAME:CEST
TZOFFSETFROM:+0100
TZOFFSETTO:+0200
DTSTART:19440403T020000
RRULE:FREQ=YEARLY;UNTIL=19450402T010000Z;BYMONTH=4;BYDAY=1MO
END:DAYLIGHT
BEGIN:DAYLIGHT
TZNAME:CEMT
TZOFFSETFROM:+0200
TZOFFSETTO:+0300
DTSTART:19450524T020000
RDATE:19470511T030000
END:DAYLIGHT
BEGIN:DAYLIGHT
TZNAME:CEST
TZOFFSETFROM:+0300
TZOFFSETTO:+0200
DTSTART:19450924T030000
RDATE:19470629T030000
END:DAYLIGHT
BEGIN:STANDARD
TZNAME:CET
TZOFFSETFROM:+0100
TZOFFSETTO:+0100
DTSTART:19460101T000000
RDATE:19800101T000000
END:STANDARD
BEGIN:STANDARD
TZNAME:CET
TZOFFSETFROM:+0200
TZOFFSETTO:+0100
DTSTART:19471005T030000
RRULE:FREQ=YEARLY;UNTIL=19491002T010000Z;BYMONTH=10;BYDAY=1SU
END:STANDARD
BEGIN:STANDARD
TZNAME:CET
TZOFFSETFROM:+0200
TZOFFSETTO:+0100
DTSTART:19800928T030000
RRULE:FREQ=YEARLY;UNTIL=19950924T010000Z;BYMONTH=9;BYDAY=-1SU
END:STANDARD
BEGIN:DAYLIGHT
TZNAME:CEST
TZOFFSETFROM:+0100
TZOFFSETTO:+0200
DTSTART:19810329T020000
RRULE:FREQ=YEARLY;BYMONTH=3;BYDAY=-1SU
END:DAYLIGHT
BEGIN:STANDARD
TZNAME:CET
TZOFFSETFROM:+0200
TZOFFSETTO:+0100
DTSTART:19961027T030000
RRULE:FREQ=YEARLY;BYMONTH=10;BYDAY=-1SU
END:STANDARD
END:VTIMEZONE
BEGIN:VEVENT
DTSTAMP:20260424T134206Z
DTSTART;TZID=Europe/Berlin:20251104T194500
DTEND;TZID=Europe/Berlin:20251104T224500
SUMMARY:Ligue 2 Gr.1 Carouge vs Silver Star II (7)
UID:b0720d53-d846-47e3-b624-ba23e5f9f314
STATUS:CONFIRMED
LAST-MODIFIED:20251105T231332Z
DESCRIPTION:2ème ligue O40 1er groupe\nBegegnungs-Nr: 7\nHeim: Carouge\nGast: Silver Star II\n
LOCATION:
CATEGORIES:Saison 2025/26
END:VEVENT
BEGIN:VEVENT
DTSTAMP:20260424T134206Z
DTSTART;TZID=Europe/Berlin:20260421T194500
DTEND;TZID=Europe/Berlin:20260421T224500
SUMMARY:Ligue 2 Gr.1 Carouge vs Châtelaine II (25)
UID:b5eab2dd-1714-47ea-9a7f-16d0b239500e
STATUS:CONFIRMED
LAST-MODIFIED:20251210T150659Z
DESCRIPTION:2ème ligue O40 1er groupe\nBegegnungs-Nr: 25\nHeim: Carouge\nGast: Châtelaine II\n
LOCATION:
CATEGORIES:Saison 2025/26
END:VEVENT
BEGIN:VEVENT
DTSTAMP:20260424T134206Z
DTSTART;TZID=Europe/Berlin:20260203T194500
DTEND;TZID=Europe/Berlin:20260203T224500
SUMMARY:Ligue 2 Gr.1 Carouge vs Onex (21)
UID:b006163a-2862-4f72-be21-fc1d546765f8
STATUS:CONFIRMED
LAST-MODIFIED:20251210T150538Z
DESCRIPTION:2ème ligue O40 1er groupe\nBegegnungs-Nr: 21\nHeim: Carouge\nGast: Onex\n
LOCATION:
CATEGORIES:Saison 2025/26
END:VEVENT
BEGIN:VEVENT
DTSTAMP:20260424T134206Z
DTSTART;TZID=Europe/Berlin:20250909T194500
DTEND;TZID=Europe/Berlin:20250909T224500
SUMMARY:Ligue 2 Gr.1 Carouge vs ZZ-Lancy III (1)
UID:19937966-3eac-41ea-a22f-1f9ba70c7f54
STATUS:CONFIRMED
LAST-MODIFIED:20251214T121454Z
DESCRIPTION:2ème ligue O40 1er groupe\nBegegnungs-Nr: 1\nHeim: Carouge\nGast: ZZ-Lancy III\n
LOCATION:
CATEGORIES:Saison 2025/26
END:VEVENT
BEGIN:VEVENT
DTSTAMP:20260424T134206Z
DTSTART;TZID=Europe/Berlin:20251216T194500
DTEND;TZID=Europe/Berlin:20251216T224500
SUMMARY:Ligue 2 Gr.1 Carouge vs UGS-Chênois III (13)
UID:f8a68127-716d-4ea1-81fd-9bc0cf68b023
STATUS:CONFIRMED
LAST-MODIFIED:20251210T150332Z
DESCRIPTION:2ème ligue O40 1er groupe\nBegegnungs-Nr: 13\nHeim: Carouge\nGast: UGS-Chênois III\n
LOCATION:
CATEGORIES:Saison 2025/26
END:VEVENT
BEGIN:VEVENT
DTSTAMP:20260424T134206Z
DTSTART;TZID=Europe/Berlin:20250930T200000
DTEND;TZID=Europe/Berlin:20250930T230000
SUMMARY:Ligue 2 Gr.1 Onex vs Carouge (6)
UID:a406424a-b3ce-4adf-ae90-7f238f167b47
STATUS:CONFIRMED
LAST-MODIFIED:20251214T121558Z
DESCRIPTION:2ème ligue O40 1er groupe\nBegegnungs-Nr: 6\nHeim: Onex\nGast: Carouge\n
LOCATION:
CATEGORIES:Saison 2025/26
END:VEVENT
BEGIN:VEVENT
DTSTAMP:20260424T134206Z
DTSTART;TZID=Europe/Berlin:20260505T194500
DTEND;TZID=Europe/Berlin:20260505T224500
SUMMARY:Ligue 2 Gr.1 UGS-Chênois III vs Carouge (28)
UID:3d66af9e-3de2-4a8c-8d99-f04dce90649d
STATUS:CONFIRMED
LAST-MODIFIED:20251210T150732Z
DESCRIPTION:2ème ligue O40 1er groupe\nBegegnungs-Nr: 28\nHeim: UGS-Chênois III\nGast: Carouge\n
LOCATION:
CATEGORIES:Saison 2025/26
END:VEVENT
BEGIN:VEVENT
DTSTAMP:20260424T134206Z
DTSTART;TZID=Europe/Berlin:20260303T194500
DTEND;TZID=Europe/Berlin:20260303T224500
SUMMARY:Ligue 2 Gr.1 Silver Star II vs Carouge (22)
UID:9b8bf265-1e4a-4c30-94c2-1a8afa84554d
STATUS:CONFIRMED
LAST-MODIFIED:20251210T150619Z
DESCRIPTION:2ème ligue O40 1er groupe\nBegegnungs-Nr: 22\nHeim: Silver Star II\nGast: Carouge\n
LOCATION:
CATEGORIES:Saison 2025/26
END:VEVENT
BEGIN:VEVENT
DTSTAMP:20260424T134206Z
DTSTART;TZID=Europe/Berlin:20260106T200000
DTEND;TZID=Europe/Berlin:20260106T230000
SUMMARY:Ligue 2 Gr.1 ZZ-Lancy III vs Carouge (16)
UID:16532ac9-c09b-4d39-a805-5cbf014d7a9d
STATUS:CONFIRMED
LAST-MODIFIED:20251210T150413Z
DESCRIPTION:2ème ligue O40 1er groupe\nBegegnungs-Nr: 16\nHeim: ZZ-Lancy III\nGast: Carouge\n
LOCATION:
CATEGORIES:Saison 2025/26
END:VEVENT
BEGIN:VEVENT
DTSTAMP:20260424T134206Z
DTSTART;TZID=Europe/Berlin:20251209T200000
DTEND;TZID=Europe/Berlin:20251209T230000
SUMMARY:Ligue 2 Gr.1 Châtelaine II vs Carouge (10)
UID:279ec9eb-dcb4-4f04-8ef3-f62852ac46ca
STATUS:CONFIRMED
LAST-MODIFIED:20251210T150230Z
DESCRIPTION:2ème ligue O40 1er groupe\nBegegnungs-Nr: 10\nHeim: Châtelaine II\nGast: Carouge\n
LOCATION:
CATEGORIES:Saison 2025/26
END:VEVENT
END:VCALENDAR
