BEGIN:VCALENDAR
PRODID:-//nuDatenautomaten//framework iCal4j //DE
VERSION:2.0
CALSCALE:GREGORIAN
BEGIN:VTIMEZONE
TZID:Europe/Berlin
LAST-MODIFIED:20260306T231828Z
TZURL:https://www.tzurl.org/zoneinfo/Europe/Berlin
X-LIC-LOCATION:Europe/Berlin
X-PROLEPTIC-TZNAME:LMT
BEGIN:STANDARD
TZNAME:CET
TZOFFSETFROM:+005328
TZOFFSETTO:+0100
DTSTART:18930401T000000
END:STANDARD
BEGIN:DAYLIGHT
TZNAME:CEST
TZOFFSETFROM:+0100
TZOFFSETTO:+0200
DTSTART:19160430T230000
RDATE:19400401T020000
RDATE:19430329T020000
RDATE:19460414T020000
RDATE:19470406T030000
RDATE:19480418T020000
RDATE:19490410T020000
RDATE:19800406T020000
END:DAYLIGHT
BEGIN:STANDARD
TZNAME:CET
TZOFFSETFROM:+0200
TZOFFSETTO:+0100
DTSTART:19161001T010000
RDATE:19421102T030000
RDATE:19431004T030000
RDATE:19441002T030000
RDATE:19451118T030000
RDATE:19461007T030000
END:STANDARD
BEGIN:DAYLIGHT
TZNAME:CEST
TZOFFSETFROM:+0100
TZOFFSETTO:+0200
DTSTART:19170416T020000
RRULE:FREQ=YEARLY;UNTIL=19180415T010000Z;BYMONTH=4;BYDAY=3MO
END:DAYLIGHT
BEGIN:STANDARD
TZNAME:CET
TZOFFSETFROM:+0200
TZOFFSETTO:+0100
DTSTART:19170917T030000
RRULE:FREQ=YEARLY;UNTIL=19180916T010000Z;BYMONTH=9;BYDAY=3MO
END:STANDARD
BEGIN:DAYLIGHT
TZNAME:CEST
TZOFFSETFROM:+0100
TZOFFSETTO:+0200
DTSTART:19440403T020000
RRULE:FREQ=YEARLY;UNTIL=19450402T010000Z;BYMONTH=4;BYDAY=1MO
END:DAYLIGHT
BEGIN:DAYLIGHT
TZNAME:CEMT
TZOFFSETFROM:+0200
TZOFFSETTO:+0300
DTSTART:19450524T020000
RDATE:19470511T030000
END:DAYLIGHT
BEGIN:DAYLIGHT
TZNAME:CEST
TZOFFSETFROM:+0300
TZOFFSETTO:+0200
DTSTART:19450924T030000
RDATE:19470629T030000
END:DAYLIGHT
BEGIN:STANDARD
TZNAME:CET
TZOFFSETFROM:+0100
TZOFFSETTO:+0100
DTSTART:19460101T000000
RDATE:19800101T000000
END:STANDARD
BEGIN:STANDARD
TZNAME:CET
TZOFFSETFROM:+0200
TZOFFSETTO:+0100
DTSTART:19471005T030000
RRULE:FREQ=YEARLY;UNTIL=19491002T010000Z;BYMONTH=10;BYDAY=1SU
END:STANDARD
BEGIN:STANDARD
TZNAME:CET
TZOFFSETFROM:+0200
TZOFFSETTO:+0100
DTSTART:19800928T030000
RRULE:FREQ=YEARLY;UNTIL=19950924T010000Z;BYMONTH=9;BYDAY=-1SU
END:STANDARD
BEGIN:DAYLIGHT
TZNAME:CEST
TZOFFSETFROM:+0100
TZOFFSETTO:+0200
DTSTART:19810329T020000
RRULE:FREQ=YEARLY;BYMONTH=3;BYDAY=-1SU
END:DAYLIGHT
BEGIN:STANDARD
TZNAME:CET
TZOFFSETFROM:+0200
TZOFFSETTO:+0100
DTSTART:19961027T030000
RRULE:FREQ=YEARLY;BYMONTH=10;BYDAY=-1SU
END:STANDARD
END:VTIMEZONE
BEGIN:VEVENT
DTSTAMP:20260424T151636Z
DTSTART;TZID=Europe/Berlin:20260303T194500
DTEND;TZID=Europe/Berlin:20260303T224500
SUMMARY:Ligue 3 Gr.3 Puplinge II vs Meyrin II (15)
UID:651c94b6-506c-4471-a673-0cdf637ed6c7
STATUS:CONFIRMED
LAST-MODIFIED:20260304T140320Z
DESCRIPTION:3ème ligue O40 3ème Groupe\nBegegnungs-Nr: 15\nHeim: Puplinge II\nGast: Meyrin II\n\nAdresse: Chemin de la Brenaz\,  15\, 1241 Puplinge\n
LOCATION:Chemin de la Brenaz\,  15\, 1241 Puplinge
CATEGORIES:Saison 2025/26
END:VEVENT
BEGIN:VEVENT
DTSTAMP:20260424T151636Z
DTSTART;TZID=Europe/Berlin:20260106T194500
DTEND;TZID=Europe/Berlin:20260106T224500
SUMMARY:Ligue 3 Gr.3 Puplinge II vs ZZ-Lancy IV (11)
UID:46892fcd-2a91-423a-8ae7-fc21081db63b
STATUS:CONFIRMED
LAST-MODIFIED:20260107T131333Z
DESCRIPTION:3ème ligue O40 3ème Groupe\nBegegnungs-Nr: 11\nHeim: Puplinge II\nGast: ZZ-Lancy IV\n\nAdresse: Chemin de la Brenaz\,  15\, 1241 Puplinge\n
LOCATION:Chemin de la Brenaz\,  15\, 1241 Puplinge
CATEGORIES:Saison 2025/26
END:VEVENT
BEGIN:VEVENT
DTSTAMP:20260424T151636Z
DTSTART;TZID=Europe/Berlin:20251216T194500
DTEND;TZID=Europe/Berlin:20251216T224500
SUMMARY:Ligue 3 Gr.3 Puplinge II vs Rapid-Genève (10)
UID:d4084d53-66ef-47b4-b329-569566170753
STATUS:CONFIRMED
LAST-MODIFIED:20251217T074548Z
DESCRIPTION:3ème ligue O40 3ème Groupe\nBegegnungs-Nr: 10\nHeim: Puplinge II\nGast: Rapid-Genève\n\nAdresse: Chemin de la Brenaz\,  15\, 1241 Puplinge\n
LOCATION:Chemin de la Brenaz\,  15\, 1241 Puplinge
CATEGORIES:Saison 2025/26
END:VEVENT
BEGIN:VEVENT
DTSTAMP:20260424T151636Z
DTSTART;TZID=Europe/Berlin:20250930T194500
DTEND;TZID=Europe/Berlin:20250930T224500
SUMMARY:Ligue 3 Gr.3 Puplinge II vs Châtelaine IV (3)
UID:acc8310c-430d-4c74-9f0d-36052ed1d7a6
STATUS:CONFIRMED
LAST-MODIFIED:20251001T065708Z
DESCRIPTION:3ème ligue O40 3ème Groupe\nBegegnungs-Nr: 3\nHeim: Puplinge II\nGast: Châtelaine IV\n\nAdresse: Chemin de la Brenaz\,  15\, 1241 Puplinge\n
LOCATION:Chemin de la Brenaz\,  15\, 1241 Puplinge
CATEGORIES:Saison 2025/26
END:VEVENT
BEGIN:VEVENT
DTSTAMP:20260424T151636Z
DTSTART;TZID=Europe/Berlin:20260204T194500
DTEND;TZID=Europe/Berlin:20260204T224500
SUMMARY:Ligue 3 Gr.3 Châtelaine IV vs Puplinge II (13)
UID:fc3de137-e75e-44fe-8a46-2005d4d25595
STATUS:CONFIRMED
LAST-MODIFIED:20260205T100524Z
DESCRIPTION:3ème ligue O40 3ème Groupe\nBegegnungs-Nr: 13\nHeim: Châtelaine IV\nGast: Puplinge II\n
LOCATION:
CATEGORIES:Saison 2025/26
END:VEVENT
BEGIN:VEVENT
DTSTAMP:20260424T151636Z
DTSTART;TZID=Europe/Berlin:20260506T194500
DTEND;TZID=Europe/Berlin:20260506T224500
SUMMARY:Ligue 3 Gr.3 Rapid-Genève vs Puplinge II (20)
UID:c45b20b4-be7b-4728-8a6e-2f843afad77b
STATUS:CONFIRMED
DESCRIPTION:3ème ligue O40 3ème Groupe\nBegegnungs-Nr: 20\nHeim: Rapid-Genève\nGast: Puplinge II\n
LOCATION:
CATEGORIES:Saison 2025/26
END:VEVENT
BEGIN:VEVENT
DTSTAMP:20260424T151636Z
DTSTART;TZID=Europe/Berlin:20250910T200000
DTEND;TZID=Europe/Berlin:20250910T230000
SUMMARY:Ligue 3 Gr.3 ZZ-Lancy IV vs Puplinge II (1)
UID:fbd92330-d7de-44e8-b74b-5e48a591972b
STATUS:CONFIRMED
LAST-MODIFIED:20250912T174829Z
DESCRIPTION:3ème ligue O40 3ème Groupe\nBegegnungs-Nr: 1\nHeim: ZZ-Lancy IV\nGast: Puplinge II\n
LOCATION:
CATEGORIES:Saison 2025/26
END:VEVENT
BEGIN:VEVENT
DTSTAMP:20260424T151636Z
DTSTART;TZID=Europe/Berlin:20251105T194500
DTEND;TZID=Europe/Berlin:20251105T224500
SUMMARY:Ligue 3 Gr.3 Meyrin II vs Puplinge II (5)
UID:f198eb2f-9803-451d-af06-524f49a20781
STATUS:CONFIRMED
LAST-MODIFIED:20251106T094539Z
DESCRIPTION:3ème ligue O40 3ème Groupe\nBegegnungs-Nr: 5\nHeim: Meyrin II\nGast: Puplinge II\n
LOCATION:
CATEGORIES:Saison 2025/26
END:VEVENT
END:VCALENDAR
