BEGIN:VCALENDAR
PRODID:-//nuDatenautomaten//framework iCal4j //DE
VERSION:2.0
CALSCALE:GREGORIAN
BEGIN:VTIMEZONE
TZID:Europe/Berlin
LAST-MODIFIED:20260306T231828Z
TZURL:https://www.tzurl.org/zoneinfo/Europe/Berlin
X-LIC-LOCATION:Europe/Berlin
X-PROLEPTIC-TZNAME:LMT
BEGIN:STANDARD
TZNAME:CET
TZOFFSETFROM:+005328
TZOFFSETTO:+0100
DTSTART:18930401T000000
END:STANDARD
BEGIN:DAYLIGHT
TZNAME:CEST
TZOFFSETFROM:+0100
TZOFFSETTO:+0200
DTSTART:19160430T230000
RDATE:19400401T020000
RDATE:19430329T020000
RDATE:19460414T020000
RDATE:19470406T030000
RDATE:19480418T020000
RDATE:19490410T020000
RDATE:19800406T020000
END:DAYLIGHT
BEGIN:STANDARD
TZNAME:CET
TZOFFSETFROM:+0200
TZOFFSETTO:+0100
DTSTART:19161001T010000
RDATE:19421102T030000
RDATE:19431004T030000
RDATE:19441002T030000
RDATE:19451118T030000
RDATE:19461007T030000
END:STANDARD
BEGIN:DAYLIGHT
TZNAME:CEST
TZOFFSETFROM:+0100
TZOFFSETTO:+0200
DTSTART:19170416T020000
RRULE:FREQ=YEARLY;UNTIL=19180415T010000Z;BYMONTH=4;BYDAY=3MO
END:DAYLIGHT
BEGIN:STANDARD
TZNAME:CET
TZOFFSETFROM:+0200
TZOFFSETTO:+0100
DTSTART:19170917T030000
RRULE:FREQ=YEARLY;UNTIL=19180916T010000Z;BYMONTH=9;BYDAY=3MO
END:STANDARD
BEGIN:DAYLIGHT
TZNAME:CEST
TZOFFSETFROM:+0100
TZOFFSETTO:+0200
DTSTART:19440403T020000
RRULE:FREQ=YEARLY;UNTIL=19450402T010000Z;BYMONTH=4;BYDAY=1MO
END:DAYLIGHT
BEGIN:DAYLIGHT
TZNAME:CEMT
TZOFFSETFROM:+0200
TZOFFSETTO:+0300
DTSTART:19450524T020000
RDATE:19470511T030000
END:DAYLIGHT
BEGIN:DAYLIGHT
TZNAME:CEST
TZOFFSETFROM:+0300
TZOFFSETTO:+0200
DTSTART:19450924T030000
RDATE:19470629T030000
END:DAYLIGHT
BEGIN:STANDARD
TZNAME:CET
TZOFFSETFROM:+0100
TZOFFSETTO:+0100
DTSTART:19460101T000000
RDATE:19800101T000000
END:STANDARD
BEGIN:STANDARD
TZNAME:CET
TZOFFSETFROM:+0200
TZOFFSETTO:+0100
DTSTART:19471005T030000
RRULE:FREQ=YEARLY;UNTIL=19491002T010000Z;BYMONTH=10;BYDAY=1SU
END:STANDARD
BEGIN:STANDARD
TZNAME:CET
TZOFFSETFROM:+0200
TZOFFSETTO:+0100
DTSTART:19800928T030000
RRULE:FREQ=YEARLY;UNTIL=19950924T010000Z;BYMONTH=9;BYDAY=-1SU
END:STANDARD
BEGIN:DAYLIGHT
TZNAME:CEST
TZOFFSETFROM:+0100
TZOFFSETTO:+0200
DTSTART:19810329T020000
RRULE:FREQ=YEARLY;BYMONTH=3;BYDAY=-1SU
END:DAYLIGHT
BEGIN:STANDARD
TZNAME:CET
TZOFFSETFROM:+0200
TZOFFSETTO:+0100
DTSTART:19961027T030000
RRULE:FREQ=YEARLY;BYMONTH=10;BYDAY=-1SU
END:STANDARD
END:VTIMEZONE
BEGIN:VEVENT
DTSTAMP:20260424T135215Z
DTSTART;TZID=Europe/Berlin:20260108T201500
DTEND;TZID=Europe/Berlin:20260108T231500
SUMMARY:HE 6. Liga Gr. 8 Rüschlikon II vs Rapperswil-Jona VIII (0)
UID:ab35dedc-88e1-47b4-897b-8490b681f6bf
STATUS:CONFIRMED
LAST-MODIFIED:20260109T080530Z
DESCRIPTION:6. Liga Herren Gruppe 8\nBegegnungs-Nr: 0\nHeim: Rüschlikon II\nGast: Rapperswil-Jona VIII\n\nAdresse: Säumerstrasse 24\, 8803 Rüschlikon\n
LOCATION:Säumerstrasse 24\, 8803 Rüschlikon
CATEGORIES:Saison 2025/26
END:VEVENT
BEGIN:VEVENT
DTSTAMP:20260424T135215Z
DTSTART;TZID=Europe/Berlin:20260202T201500
DTEND;TZID=Europe/Berlin:20260202T231500
SUMMARY:HE 6. Liga Gr. 8 Rüschlikon II vs Höngg V (0)
UID:66bf7351-c24e-44e6-9af5-36cc343ea117
STATUS:CONFIRMED
LAST-MODIFIED:20260203T142846Z
DESCRIPTION:6. Liga Herren Gruppe 8\nBegegnungs-Nr: 0\nHeim: Rüschlikon II\nGast: Höngg V\n\nAdresse: Säumerstrasse 24\, 8803 Rüschlikon\n
LOCATION:Säumerstrasse 24\, 8803 Rüschlikon
CATEGORIES:Saison 2025/26
END:VEVENT
BEGIN:VEVENT
DTSTAMP:20260424T135215Z
DTSTART;TZID=Europe/Berlin:20260326T201500
DTEND;TZID=Europe/Berlin:20260326T231500
SUMMARY:HE 6. Liga Gr. 8 Rüschlikon II vs Horgen V (0)
UID:8dee2a52-a248-4c7c-a3df-4ab35c33224a
STATUS:CONFIRMED
LAST-MODIFIED:20260401T132726Z
DESCRIPTION:6. Liga Herren Gruppe 8\nBegegnungs-Nr: 0\nHeim: Rüschlikon II\nGast: Horgen V\n\nAdresse: Säumerstrasse 24\, 8803 Rüschlikon\n
LOCATION:Säumerstrasse 24\, 8803 Rüschlikon
CATEGORIES:Saison 2025/26
END:VEVENT
BEGIN:VEVENT
DTSTAMP:20260424T135215Z
DTSTART;TZID=Europe/Berlin:20250904T201500
DTEND;TZID=Europe/Berlin:20250904T231500
SUMMARY:HE 6. Liga Gr. 8 Rüschlikon II vs Thalwil V (0)
UID:a6188a35-67f1-480a-b815-6a3e917fa778
STATUS:CONFIRMED
LAST-MODIFIED:20250905T124714Z
DESCRIPTION:6. Liga Herren Gruppe 8\nBegegnungs-Nr: 0\nHeim: Rüschlikon II\nGast: Thalwil V\n\nAdresse: Säumerstrasse 24\, 8803 Rüschlikon\n
LOCATION:Säumerstrasse 24\, 8803 Rüschlikon
CATEGORIES:Saison 2025/26
END:VEVENT
BEGIN:VEVENT
DTSTAMP:20260424T135215Z
DTSTART;TZID=Europe/Berlin:20250925T201500
DTEND;TZID=Europe/Berlin:20250925T231500
SUMMARY:HE 6. Liga Gr. 8 Rüschlikon II vs Urdorf IV (0)
UID:a0b95833-fea9-4e3d-8a84-dc0baf8031df
STATUS:CONFIRMED
LAST-MODIFIED:20250926T135449Z
DESCRIPTION:6. Liga Herren Gruppe 8\nBegegnungs-Nr: 0\nHeim: Rüschlikon II\nGast: Urdorf IV\n\nAdresse: Säumerstrasse 24\, 8803 Rüschlikon\n
LOCATION:Säumerstrasse 24\, 8803 Rüschlikon
CATEGORIES:Saison 2025/26
END:VEVENT
BEGIN:VEVENT
DTSTAMP:20260424T135215Z
DTSTART;TZID=Europe/Berlin:20251030T201500
DTEND;TZID=Europe/Berlin:20251030T231500
SUMMARY:HE 6. Liga Gr. 8 Rüschlikon II vs Dietikon-Weiningen III (0)
UID:35481d6e-00a8-48ea-98f0-a93ba6258304
STATUS:CONFIRMED
LAST-MODIFIED:20251031T144622Z
DESCRIPTION:6. Liga Herren Gruppe 8\nBegegnungs-Nr: 0\nHeim: Rüschlikon II\nGast: Dietikon-Weiningen III\n\nAdresse: Säumerstrasse 24\, 8803 Rüschlikon\n
LOCATION:Säumerstrasse 24\, 8803 Rüschlikon
CATEGORIES:Saison 2025/26
END:VEVENT
BEGIN:VEVENT
DTSTAMP:20260424T135215Z
DTSTART;TZID=Europe/Berlin:20251204T201500
DTEND;TZID=Europe/Berlin:20251204T231500
SUMMARY:HE 6. Liga Gr. 8 Rüschlikon II vs Wettswil II (0)
UID:4f7fb46c-0cca-48dd-9490-b5c63add71e3
STATUS:CONFIRMED
LAST-MODIFIED:20251205T131255Z
DESCRIPTION:6. Liga Herren Gruppe 8\nBegegnungs-Nr: 0\nHeim: Rüschlikon II\nGast: Wettswil II\n\nAdresse: Säumerstrasse 24\, 8803 Rüschlikon\n
LOCATION:Säumerstrasse 24\, 8803 Rüschlikon
CATEGORIES:Saison 2025/26
END:VEVENT
BEGIN:VEVENT
DTSTAMP:20260424T135215Z
DTSTART;TZID=Europe/Berlin:20260121T201500
DTEND;TZID=Europe/Berlin:20260121T231500
SUMMARY:HE 6. Liga Gr. 8 Thalwil V vs Rüschlikon II (0)
UID:d42dea22-3272-4981-8eab-dd2d6c040c3e
STATUS:CONFIRMED
LAST-MODIFIED:20260123T082814Z
DESCRIPTION:6. Liga Herren Gruppe 8\nBegegnungs-Nr: 0\nHeim: Thalwil V\nGast: Rüschlikon II\n\nAdresse: Bergstrasse 2\, 8800 Thalwil\n
LOCATION:Bergstrasse 2\, 8800 Thalwil
CATEGORIES:Saison 2025/26
END:VEVENT
BEGIN:VEVENT
DTSTAMP:20260424T135215Z
DTSTART;TZID=Europe/Berlin:20260316T201500
DTEND;TZID=Europe/Berlin:20260316T231500
SUMMARY:HE 6. Liga Gr. 8 Urdorf IV vs Rüschlikon II (0)
UID:cbc64680-0cad-40e3-8c8c-f82254ce7a38
STATUS:CONFIRMED
LAST-MODIFIED:20260326T160100Z
DESCRIPTION:6. Liga Herren Gruppe 8\nBegegnungs-Nr: 0\nHeim: Urdorf IV\nGast: Rüschlikon II\n\nAdresse: Weihermattstrasse 50\, 8902 Urdorf\n
LOCATION:Weihermattstrasse 50\, 8902 Urdorf
CATEGORIES:Saison 2025/26
END:VEVENT
BEGIN:VEVENT
DTSTAMP:20260424T135215Z
DTSTART;TZID=Europe/Berlin:20260310T200000
DTEND;TZID=Europe/Berlin:20260310T230000
SUMMARY:HE 6. Liga Gr. 8 Dietikon-Weiningen III vs Rüschlikon II (0)
UID:182477d7-303a-406b-838c-4d6f75f9d6c6
STATUS:CONFIRMED
LAST-MODIFIED:20260317T152124Z
DESCRIPTION:6. Liga Herren Gruppe 8\nBegegnungs-Nr: 0\nHeim: Dietikon-Weiningen III\nGast: Rüschlikon II\n\nAdresse: Bohnackerstrasse 5\, 8953 Dietikon\n
LOCATION:Bohnackerstrasse 5\, 8953 Dietikon
CATEGORIES:Saison 2025/26
END:VEVENT
BEGIN:VEVENT
DTSTAMP:20260424T135215Z
DTSTART;TZID=Europe/Berlin:20260414T194500
DTEND;TZID=Europe/Berlin:20260414T224500
SUMMARY:HE 6. Liga Gr. 8 Wettswil II vs Rüschlikon II (0)
UID:3d9323c3-5de3-4913-9c94-daaa8c0235fa
STATUS:CONFIRMED
LAST-MODIFIED:20260416T104238Z
DESCRIPTION:6. Liga Herren Gruppe 8\nBegegnungs-Nr: 0\nHeim: Wettswil II\nGast: Rüschlikon II\n\nAdresse: Hirsächersteig\, 8907 Wettswil\n
LOCATION:Hirsächersteig\, 8907 Wettswil
CATEGORIES:Saison 2025/26
END:VEVENT
BEGIN:VEVENT
DTSTAMP:20260424T135215Z
DTSTART;TZID=Europe/Berlin:20250828T200000
DTEND;TZID=Europe/Berlin:20250828T230000
SUMMARY:HE 6. Liga Gr. 8 Rapperswil-Jona VIII vs Rüschlikon II (0)
UID:a1b23a18-425f-4d9d-b220-3fad4b77c088
STATUS:CONFIRMED
LAST-MODIFIED:20250829T144501Z
DESCRIPTION:6. Liga Herren Gruppe 8\nBegegnungs-Nr: 0\nHeim: Rapperswil-Jona VIII\nGast: Rüschlikon II\n\nAdresse: Holzwiesstrasse 39\, 8645 Jona\n
LOCATION:Holzwiesstrasse 39\, 8645 Jona
CATEGORIES:Saison 2025/26
END:VEVENT
BEGIN:VEVENT
DTSTAMP:20260424T135215Z
DTSTART;TZID=Europe/Berlin:20250917T200000
DTEND;TZID=Europe/Berlin:20250917T230000
SUMMARY:HE 6. Liga Gr. 8 Höngg V vs Rüschlikon II (0)
UID:9cc8eab2-d309-411a-969d-219d2416d735
STATUS:CONFIRMED
LAST-MODIFIED:20250926T135411Z
DESCRIPTION:6. Liga Herren Gruppe 8\nBegegnungs-Nr: 0\nHeim: Höngg V\nGast: Rüschlikon II\n\nAdresse: Bläsistrasse 2\, 8049 Zürich\n
LOCATION:Bläsistrasse 2\, 8049 Zürich
CATEGORIES:Saison 2025/26
END:VEVENT
BEGIN:VEVENT
DTSTAMP:20260424T135215Z
DTSTART;TZID=Europe/Berlin:20251104T200000
DTEND;TZID=Europe/Berlin:20251104T230000
SUMMARY:HE 6. Liga Gr. 8 Horgen V vs Rüschlikon II (0)
UID:376b81f2-b4fa-4e69-9b34-b6ec9aa3ad35
STATUS:CONFIRMED
LAST-MODIFIED:20251107T145515Z
DESCRIPTION:6. Liga Herren Gruppe 8\nBegegnungs-Nr: 0\nHeim: Horgen V\nGast: Rüschlikon II\n\nAdresse: Seestrasse 110\, 8810 Horgen\n
LOCATION:Seestrasse 110\, 8810 Horgen
CATEGORIES:Saison 2025/26
END:VEVENT
END:VCALENDAR
