BEGIN:VCALENDAR
PRODID:-//nuDatenautomaten//framework iCal4j //DE
VERSION:2.0
CALSCALE:GREGORIAN
BEGIN:VTIMEZONE
TZID:Europe/Berlin
LAST-MODIFIED:20260306T231828Z
TZURL:https://www.tzurl.org/zoneinfo/Europe/Berlin
X-LIC-LOCATION:Europe/Berlin
X-PROLEPTIC-TZNAME:LMT
BEGIN:STANDARD
TZNAME:CET
TZOFFSETFROM:+005328
TZOFFSETTO:+0100
DTSTART:18930401T000000
END:STANDARD
BEGIN:DAYLIGHT
TZNAME:CEST
TZOFFSETFROM:+0100
TZOFFSETTO:+0200
DTSTART:19160430T230000
RDATE:19400401T020000
RDATE:19430329T020000
RDATE:19460414T020000
RDATE:19470406T030000
RDATE:19480418T020000
RDATE:19490410T020000
RDATE:19800406T020000
END:DAYLIGHT
BEGIN:STANDARD
TZNAME:CET
TZOFFSETFROM:+0200
TZOFFSETTO:+0100
DTSTART:19161001T010000
RDATE:19421102T030000
RDATE:19431004T030000
RDATE:19441002T030000
RDATE:19451118T030000
RDATE:19461007T030000
END:STANDARD
BEGIN:DAYLIGHT
TZNAME:CEST
TZOFFSETFROM:+0100
TZOFFSETTO:+0200
DTSTART:19170416T020000
RRULE:FREQ=YEARLY;UNTIL=19180415T010000Z;BYMONTH=4;BYDAY=3MO
END:DAYLIGHT
BEGIN:STANDARD
TZNAME:CET
TZOFFSETFROM:+0200
TZOFFSETTO:+0100
DTSTART:19170917T030000
RRULE:FREQ=YEARLY;UNTIL=19180916T010000Z;BYMONTH=9;BYDAY=3MO
END:STANDARD
BEGIN:DAYLIGHT
TZNAME:CEST
TZOFFSETFROM:+0100
TZOFFSETTO:+0200
DTSTART:19440403T020000
RRULE:FREQ=YEARLY;UNTIL=19450402T010000Z;BYMONTH=4;BYDAY=1MO
END:DAYLIGHT
BEGIN:DAYLIGHT
TZNAME:CEMT
TZOFFSETFROM:+0200
TZOFFSETTO:+0300
DTSTART:19450524T020000
RDATE:19470511T030000
END:DAYLIGHT
BEGIN:DAYLIGHT
TZNAME:CEST
TZOFFSETFROM:+0300
TZOFFSETTO:+0200
DTSTART:19450924T030000
RDATE:19470629T030000
END:DAYLIGHT
BEGIN:STANDARD
TZNAME:CET
TZOFFSETFROM:+0100
TZOFFSETTO:+0100
DTSTART:19460101T000000
RDATE:19800101T000000
END:STANDARD
BEGIN:STANDARD
TZNAME:CET
TZOFFSETFROM:+0200
TZOFFSETTO:+0100
DTSTART:19471005T030000
RRULE:FREQ=YEARLY;UNTIL=19491002T010000Z;BYMONTH=10;BYDAY=1SU
END:STANDARD
BEGIN:STANDARD
TZNAME:CET
TZOFFSETFROM:+0200
TZOFFSETTO:+0100
DTSTART:19800928T030000
RRULE:FREQ=YEARLY;UNTIL=19950924T010000Z;BYMONTH=9;BYDAY=-1SU
END:STANDARD
BEGIN:DAYLIGHT
TZNAME:CEST
TZOFFSETFROM:+0100
TZOFFSETTO:+0200
DTSTART:19810329T020000
RRULE:FREQ=YEARLY;BYMONTH=3;BYDAY=-1SU
END:DAYLIGHT
BEGIN:STANDARD
TZNAME:CET
TZOFFSETFROM:+0200
TZOFFSETTO:+0100
DTSTART:19961027T030000
RRULE:FREQ=YEARLY;BYMONTH=10;BYDAY=-1SU
END:STANDARD
END:VTIMEZONE
BEGIN:VEVENT
DTSTAMP:20260424T043556Z
DTSTART;TZID=Europe/Berlin:20250903T201500
DTEND;TZID=Europe/Berlin:20250903T231500
SUMMARY:ME L4 Gr 4\, Tours 1&2 Fribourg VII vs Vaudoise-Assurances (0)
UID:a0d81661-e1c7-4b92-a3d6-0302ee28fa5d
STATUS:CONFIRMED
LAST-MODIFIED:20250905T182713Z
DESCRIPTION:4ème ligue Hommes Groupe 4\, Tours 1&2\nBegegnungs-Nr: 0\nHeim: Fribourg VII\nGast: Vaudoise-Assurances\n\nAdresse: Avenue Général Guisan 61\, 1700 Fribourg\n
LOCATION:Avenue Général Guisan 61\, 1700 Fribourg
CATEGORIES:Saison 2025/26
END:VEVENT
BEGIN:VEVENT
DTSTAMP:20260424T043556Z
DTSTART;TZID=Europe/Berlin:20251002T193000
DTEND;TZID=Europe/Berlin:20251002T223000
SUMMARY:ME L4 Gr 4\, Tours 1&2 Fribourg VII vs Romanel III (0)
UID:d5dc7b4c-4ed5-4b8a-a255-0d7c2ec0613d
STATUS:CONFIRMED
LAST-MODIFIED:20251003T163345Z
DESCRIPTION:4ème ligue Hommes Groupe 4\, Tours 1&2\nBegegnungs-Nr: 0\nHeim: Fribourg VII\nGast: Romanel III\n\nAdresse: Route du Centre sportif\, 1752 Villars-sur-Glâne\n
LOCATION:Route du Centre sportif\, 1752 Villars-sur-Glâne
CATEGORIES:Saison 2025/26
END:VEVENT
BEGIN:VEVENT
DTSTAMP:20260424T043556Z
DTSTART;TZID=Europe/Berlin:20251009T193000
DTEND;TZID=Europe/Berlin:20251009T223000
SUMMARY:ME L4 Gr 4\, Tours 1&2 Fribourg VII vs Lausanne VII (0)
UID:1a350c2c-0e78-4465-9d01-0913322b5940
STATUS:CONFIRMED
LAST-MODIFIED:20251013T103700Z
DESCRIPTION:4ème ligue Hommes Groupe 4\, Tours 1&2\nBegegnungs-Nr: 0\nHeim: Fribourg VII\nGast: Lausanne VII\n\nAdresse: Route du Centre sportif\, 1752 Villars-sur-Glâne\n
LOCATION:Route du Centre sportif\, 1752 Villars-sur-Glâne
CATEGORIES:Saison 2025/26
END:VEVENT
BEGIN:VEVENT
DTSTAMP:20260424T043556Z
DTSTART;TZID=Europe/Berlin:20251106T193000
DTEND;TZID=Europe/Berlin:20251106T223000
SUMMARY:ME L4 Gr 4\, Tours 1&2 Fribourg VII vs Chexbres (0)
UID:715c2594-fa2f-40c4-ace2-12b481f2d461
STATUS:CONFIRMED
LAST-MODIFIED:20251109T122546Z
DESCRIPTION:4ème ligue Hommes Groupe 4\, Tours 1&2\nBegegnungs-Nr: 0\nHeim: Fribourg VII\nGast: Chexbres\n\nAdresse: Route du Centre sportif\, 1752 Villars-sur-Glâne\n
LOCATION:Route du Centre sportif\, 1752 Villars-sur-Glâne
CATEGORIES:Saison 2025/26
END:VEVENT
BEGIN:VEVENT
DTSTAMP:20260424T043556Z
DTSTART;TZID=Europe/Berlin:20251120T193000
DTEND;TZID=Europe/Berlin:20251120T223000
SUMMARY:ME L4 Gr 4\, Tours 1&2 Fribourg VII vs Crissier IV (0)
UID:95992c29-c4ae-43d1-9a89-2ab2e73d01dc
STATUS:CONFIRMED
LAST-MODIFIED:20251125T150529Z
DESCRIPTION:4ème ligue Hommes Groupe 4\, Tours 1&2\nBegegnungs-Nr: 0\nHeim: Fribourg VII\nGast: Crissier IV\n\nAdresse: Route du Centre sportif\, 1752 Villars-sur-Glâne\n
LOCATION:Route du Centre sportif\, 1752 Villars-sur-Glâne
CATEGORIES:Saison 2025/26
END:VEVENT
BEGIN:VEVENT
DTSTAMP:20260424T043556Z
DTSTART;TZID=Europe/Berlin:20260115T193000
DTEND;TZID=Europe/Berlin:20260115T223000
SUMMARY:ME L4 Gr 3\, Tours 3&4 Fribourg VII vs Fribourg VI (0)
UID:9d8f235d-a081-4864-87da-601f76890306
STATUS:CONFIRMED
LAST-MODIFIED:20260116T194518Z
DESCRIPTION:4ème ligue Hommes Groupe 3\, Tours 3&4\nBegegnungs-Nr: 0\nHeim: Fribourg VII\nGast: Fribourg VI\n\nAdresse: Route du Centre sportif\, 1752 Villars-sur-Glâne\n
LOCATION:Route du Centre sportif\, 1752 Villars-sur-Glâne
CATEGORIES:Saison 2025/26
END:VEVENT
BEGIN:VEVENT
DTSTAMP:20260424T043556Z
DTSTART;TZID=Europe/Berlin:20260205T193000
DTEND;TZID=Europe/Berlin:20260205T223000
SUMMARY:ME L4 Gr 3\, Tours 3&4 Fribourg VII vs Yverdon VI (0)
UID:39c6036c-21a2-43f6-85b7-1315466bfbfb
STATUS:CONFIRMED
LAST-MODIFIED:20260205T224610Z
DESCRIPTION:4ème ligue Hommes Groupe 3\, Tours 3&4\nBegegnungs-Nr: 0\nHeim: Fribourg VII\nGast: Yverdon VI\n\nAdresse: Route du Centre sportif\, 1752 Villars-sur-Glâne\n
LOCATION:Route du Centre sportif\, 1752 Villars-sur-Glâne
CATEGORIES:Saison 2025/26
END:VEVENT
BEGIN:VEVENT
DTSTAMP:20260424T043556Z
DTSTART;TZID=Europe/Berlin:20260319T193000
DTEND;TZID=Europe/Berlin:20260319T223000
SUMMARY:ME L4 Gr 3\, Tours 3&4 Fribourg VII vs Estavayer (0)
UID:1221ab59-bfaf-4ae6-9a0b-e71689e5bc7b
STATUS:CONFIRMED
LAST-MODIFIED:20260321T102537Z
DESCRIPTION:4ème ligue Hommes Groupe 3\, Tours 3&4\nBegegnungs-Nr: 0\nHeim: Fribourg VII\nGast: Estavayer\n\nAdresse: Route du Centre sportif\, 1752 Villars-sur-Glâne\n
LOCATION:Route du Centre sportif\, 1752 Villars-sur-Glâne
CATEGORIES:Saison 2025/26
END:VEVENT
BEGIN:VEVENT
DTSTAMP:20260424T043556Z
DTSTART;TZID=Europe/Berlin:20260423T193000
DTEND;TZID=Europe/Berlin:20260423T223000
SUMMARY:ME L4 Gr 3\, Tours 3&4 Fribourg VII vs Mézières II (0)
UID:23a2ae7e-a9b3-46db-9806-331968385434
STATUS:CONFIRMED
DESCRIPTION:4ème ligue Hommes Groupe 3\, Tours 3&4\nBegegnungs-Nr: 0\nHeim: Fribourg VII\nGast: Mézières II\n\nAdresse: Route du Centre sportif\, 1752 Villars-sur-Glâne\n
LOCATION:Route du Centre sportif\, 1752 Villars-sur-Glâne
CATEGORIES:Saison 2025/26
END:VEVENT
BEGIN:VEVENT
DTSTAMP:20260424T043556Z
DTSTART;TZID=Europe/Berlin:20260430T193000
DTEND;TZID=Europe/Berlin:20260430T223000
SUMMARY:ME L4 Gr 3\, Tours 3&4 Fribourg VII vs Cheyres (0)
UID:a501a6ed-5ffe-44b8-82ba-10a6923bd2fc
STATUS:CONFIRMED
DESCRIPTION:4ème ligue Hommes Groupe 3\, Tours 3&4\nBegegnungs-Nr: 0\nHeim: Fribourg VII\nGast: Cheyres\n\nAdresse: Route du Centre sportif\, 1752 Villars-sur-Glâne\n
LOCATION:Route du Centre sportif\, 1752 Villars-sur-Glâne
CATEGORIES:Saison 2025/26
END:VEVENT
BEGIN:VEVENT
DTSTAMP:20260424T043556Z
DTSTART;TZID=Europe/Berlin:20250904T194500
DTEND;TZID=Europe/Berlin:20250904T224500
SUMMARY:ME L4 Gr 4\, Tours 1&2 Chexbres vs Fribourg VII (0)
UID:ae681b7a-881e-4709-aeec-3a0ea8f9b54a
STATUS:CONFIRMED
LAST-MODIFIED:20250905T182725Z
DESCRIPTION:4ème ligue Hommes Groupe 4\, Tours 1&2\nBegegnungs-Nr: 0\nHeim: Chexbres\nGast: Fribourg VII\n\nAdresse: Collège de Praz Routoz\, 1071 Chexbres\n
LOCATION:Collège de Praz Routoz\, 1071 Chexbres
CATEGORIES:Saison 2025/26
END:VEVENT
BEGIN:VEVENT
DTSTAMP:20260424T043556Z
DTSTART;TZID=Europe/Berlin:20250919T193000
DTEND;TZID=Europe/Berlin:20250919T223000
SUMMARY:ME L4 Gr 4\, Tours 1&2 Crissier IV vs Fribourg VII (0)
UID:0701c9f5-a04c-4d34-8a55-a4b4314e3f00
STATUS:CONFIRMED
LAST-MODIFIED:20250921T112436Z
DESCRIPTION:4ème ligue Hommes Groupe 4\, Tours 1&2\nBegegnungs-Nr: 0\nHeim: Crissier IV\nGast: Fribourg VII\n\nAdresse: ch. des Oches du Mur\, 1023 Crissier\n
LOCATION:ch. des Oches du Mur\, 1023 Crissier
CATEGORIES:Saison 2025/26
END:VEVENT
BEGIN:VEVENT
DTSTAMP:20260424T043556Z
DTSTART;TZID=Europe/Berlin:20251204T193000
DTEND;TZID=Europe/Berlin:20251204T223000
SUMMARY:ME L4 Gr 4\, Tours 1&2 Vaudoise-Assurances vs Fribourg VII (0)
UID:d14817e2-6ac5-407b-a3c4-4edebc5c673b
STATUS:CONFIRMED
LAST-MODIFIED:20251208T123714Z
DESCRIPTION:4ème ligue Hommes Groupe 4\, Tours 1&2\nBegegnungs-Nr: 0\nHeim: Vaudoise-Assurances\nGast: Fribourg VII\n\nAdresse: Ch de Bellerive 36\, 1007 Lausanne\n
LOCATION:Ch de Bellerive 36\, 1007 Lausanne
CATEGORIES:Saison 2025/26
END:VEVENT
BEGIN:VEVENT
DTSTAMP:20260424T043556Z
DTSTART;TZID=Europe/Berlin:20251125T193000
DTEND;TZID=Europe/Berlin:20251125T223000
SUMMARY:ME L4 Gr 4\, Tours 1&2 Romanel III vs Fribourg VII (0)
UID:303d969d-eeee-48eb-bc1c-258f7c9c3f1f
STATUS:CONFIRMED
LAST-MODIFIED:20251127T112114Z
DESCRIPTION:4ème ligue Hommes Groupe 4\, Tours 1&2\nBegegnungs-Nr: 0\nHeim: Romanel III\nGast: Fribourg VII\n\nAdresse: Ch des Epinettes 1\, 1032 Romanel-sur-Lausanne\n
LOCATION:Ch des Epinettes 1\, 1032 Romanel-sur-Lausanne
CATEGORIES:Saison 2025/26
END:VEVENT
BEGIN:VEVENT
DTSTAMP:20260424T043556Z
DTSTART;TZID=Europe/Berlin:20251212T200000
DTEND;TZID=Europe/Berlin:20251212T230000
SUMMARY:ME L4 Gr 4\, Tours 1&2 Lausanne VII vs Fribourg VII (0)
UID:3f31e52d-322f-473f-bcce-d028d1a62283
STATUS:CONFIRMED
LAST-MODIFIED:20251214T162208Z
DESCRIPTION:4ème ligue Hommes Groupe 4\, Tours 1&2\nBegegnungs-Nr: 0\nHeim: Lausanne VII\nGast: Fribourg VII\n\nAdresse: Vaudoise Aréna\, Ch. du Viaduc 14\, 1008 Prilly\n
LOCATION:Vaudoise Aréna\, Ch. du Viaduc 14\, 1008 Prilly
CATEGORIES:Saison 2025/26
END:VEVENT
BEGIN:VEVENT
DTSTAMP:20260424T043556Z
DTSTART;TZID=Europe/Berlin:20260123T193000
DTEND;TZID=Europe/Berlin:20260123T223000
SUMMARY:ME L4 Gr 3\, Tours 3&4 Estavayer vs Fribourg VII (0)
UID:2d31827e-6294-4dd0-a737-7ee176a4b708
STATUS:CONFIRMED
LAST-MODIFIED:20260124T154558Z
DESCRIPTION:4ème ligue Hommes Groupe 3\, Tours 3&4\nBegegnungs-Nr: 0\nHeim: Estavayer\nGast: Fribourg VII\n\nAdresse: Avenue de la Gare 111\, 1470 Estavayer-le-Lac\n
LOCATION:Avenue de la Gare 111\, 1470 Estavayer-le-Lac
CATEGORIES:Saison 2025/26
END:VEVENT
BEGIN:VEVENT
DTSTAMP:20260424T043556Z
DTSTART;TZID=Europe/Berlin:20260211T200000
DTEND;TZID=Europe/Berlin:20260211T230000
SUMMARY:ME L4 Gr 3\, Tours 3&4 Mézières II vs Fribourg VII (0)
UID:3fc59df4-2dce-4002-8c6e-a1b3fb377959
STATUS:CONFIRMED
LAST-MODIFIED:20260214T170335Z
DESCRIPTION:4ème ligue Hommes Groupe 3\, Tours 3&4\nBegegnungs-Nr: 0\nHeim: Mézières II\nGast: Fribourg VII\n\nAdresse: -\, 1083 Mézières\n
LOCATION:-\, 1083 Mézières
CATEGORIES:Saison 2025/26
END:VEVENT
BEGIN:VEVENT
DTSTAMP:20260424T043556Z
DTSTART;TZID=Europe/Berlin:20260302T194500
DTEND;TZID=Europe/Berlin:20260302T224500
SUMMARY:ME L4 Gr 3\, Tours 3&4 Cheyres vs Fribourg VII (0)
UID:7b1b7d08-2463-46b7-bf31-5dd1efa9f9dd
STATUS:CONFIRMED
LAST-MODIFIED:20260303T223829Z
DESCRIPTION:4ème ligue Hommes Groupe 3\, Tours 3&4\nBegegnungs-Nr: 0\nHeim: Cheyres\nGast: Fribourg VII\n\nAdresse: Rue de la Gare 10\, 1468 Cheyres\n
LOCATION:Rue de la Gare 10\, 1468 Cheyres
CATEGORIES:Saison 2025/26
END:VEVENT
BEGIN:VEVENT
DTSTAMP:20260424T043556Z
DTSTART;TZID=Europe/Berlin:20260312T191500
DTEND;TZID=Europe/Berlin:20260312T221500
SUMMARY:ME L4 Gr 3\, Tours 3&4 Fribourg VI vs Fribourg VII (0)
UID:d5b63f22-f5d4-4c3a-8f76-26e53776bd33
STATUS:CONFIRMED
LAST-MODIFIED:20260313T231807Z
DESCRIPTION:4ème ligue Hommes Groupe 3\, Tours 3&4\nBegegnungs-Nr: 0\nHeim: Fribourg VI\nGast: Fribourg VII\n\nAdresse: Avenue Général Guisan 61\, 1700 Fribourg\n
LOCATION:Avenue Général Guisan 61\, 1700 Fribourg
CATEGORIES:Saison 2025/26
END:VEVENT
BEGIN:VEVENT
DTSTAMP:20260424T043556Z
DTSTART;TZID=Europe/Berlin:20260330T201500
DTEND;TZID=Europe/Berlin:20260330T231500
SUMMARY:ME L4 Gr 3\, Tours 3&4 Yverdon VI vs Fribourg VII (0)
UID:94330d35-6d3e-4f60-b699-abb433b18795
STATUS:CONFIRMED
LAST-MODIFIED:20260401T092411Z
DESCRIPTION:4ème ligue Hommes Groupe 3\, Tours 3&4\nBegegnungs-Nr: 0\nHeim: Yverdon VI\nGast: Fribourg VII\n\nAdresse: Avenue des Quatre Marroniers 1\, 1400 Yverdon-les-Bains\n
LOCATION:Avenue des Quatre Marroniers 1\, 1400 Yverdon-les-Bains
CATEGORIES:Saison 2025/26
END:VEVENT
END:VCALENDAR
