BEGIN:VCALENDAR
PRODID:-//nuDatenautomaten//framework iCal4j //DE
VERSION:2.0
CALSCALE:GREGORIAN
BEGIN:VTIMEZONE
TZID:Europe/Berlin
LAST-MODIFIED:20260306T231828Z
TZURL:https://www.tzurl.org/zoneinfo/Europe/Berlin
X-LIC-LOCATION:Europe/Berlin
X-PROLEPTIC-TZNAME:LMT
BEGIN:STANDARD
TZNAME:CET
TZOFFSETFROM:+005328
TZOFFSETTO:+0100
DTSTART:18930401T000000
END:STANDARD
BEGIN:DAYLIGHT
TZNAME:CEST
TZOFFSETFROM:+0100
TZOFFSETTO:+0200
DTSTART:19160430T230000
RDATE:19400401T020000
RDATE:19430329T020000
RDATE:19460414T020000
RDATE:19470406T030000
RDATE:19480418T020000
RDATE:19490410T020000
RDATE:19800406T020000
END:DAYLIGHT
BEGIN:STANDARD
TZNAME:CET
TZOFFSETFROM:+0200
TZOFFSETTO:+0100
DTSTART:19161001T010000
RDATE:19421102T030000
RDATE:19431004T030000
RDATE:19441002T030000
RDATE:19451118T030000
RDATE:19461007T030000
END:STANDARD
BEGIN:DAYLIGHT
TZNAME:CEST
TZOFFSETFROM:+0100
TZOFFSETTO:+0200
DTSTART:19170416T020000
RRULE:FREQ=YEARLY;UNTIL=19180415T010000Z;BYMONTH=4;BYDAY=3MO
END:DAYLIGHT
BEGIN:STANDARD
TZNAME:CET
TZOFFSETFROM:+0200
TZOFFSETTO:+0100
DTSTART:19170917T030000
RRULE:FREQ=YEARLY;UNTIL=19180916T010000Z;BYMONTH=9;BYDAY=3MO
END:STANDARD
BEGIN:DAYLIGHT
TZNAME:CEST
TZOFFSETFROM:+0100
TZOFFSETTO:+0200
DTSTART:19440403T020000
RRULE:FREQ=YEARLY;UNTIL=19450402T010000Z;BYMONTH=4;BYDAY=1MO
END:DAYLIGHT
BEGIN:DAYLIGHT
TZNAME:CEMT
TZOFFSETFROM:+0200
TZOFFSETTO:+0300
DTSTART:19450524T020000
RDATE:19470511T030000
END:DAYLIGHT
BEGIN:DAYLIGHT
TZNAME:CEST
TZOFFSETFROM:+0300
TZOFFSETTO:+0200
DTSTART:19450924T030000
RDATE:19470629T030000
END:DAYLIGHT
BEGIN:STANDARD
TZNAME:CET
TZOFFSETFROM:+0100
TZOFFSETTO:+0100
DTSTART:19460101T000000
RDATE:19800101T000000
END:STANDARD
BEGIN:STANDARD
TZNAME:CET
TZOFFSETFROM:+0200
TZOFFSETTO:+0100
DTSTART:19471005T030000
RRULE:FREQ=YEARLY;UNTIL=19491002T010000Z;BYMONTH=10;BYDAY=1SU
END:STANDARD
BEGIN:STANDARD
TZNAME:CET
TZOFFSETFROM:+0200
TZOFFSETTO:+0100
DTSTART:19800928T030000
RRULE:FREQ=YEARLY;UNTIL=19950924T010000Z;BYMONTH=9;BYDAY=-1SU
END:STANDARD
BEGIN:DAYLIGHT
TZNAME:CEST
TZOFFSETFROM:+0100
TZOFFSETTO:+0200
DTSTART:19810329T020000
RRULE:FREQ=YEARLY;BYMONTH=3;BYDAY=-1SU
END:DAYLIGHT
BEGIN:STANDARD
TZNAME:CET
TZOFFSETFROM:+0200
TZOFFSETTO:+0100
DTSTART:19961027T030000
RRULE:FREQ=YEARLY;BYMONTH=10;BYDAY=-1SU
END:STANDARD
END:VTIMEZONE
BEGIN:VEVENT
DTSTAMP:20260424T114939Z
DTSTART;TZID=Europe/Berlin:20250905T193000
DTEND;TZID=Europe/Berlin:20250905T223000
SUMMARY:ME L4 Gr 4\, Tours 1&2 Crissier IV vs Chexbres (0)
UID:812f9ac6-e6ef-43b8-a499-0977e4622ce2
STATUS:CONFIRMED
LAST-MODIFIED:20250907T174205Z
DESCRIPTION:4ème ligue Hommes Groupe 4\, Tours 1&2\nBegegnungs-Nr: 0\nHeim: Crissier IV\nGast: Chexbres\n\nAdresse: ch. des Oches du Mur\, 1023 Crissier\n
LOCATION:ch. des Oches du Mur\, 1023 Crissier
CATEGORIES:Saison 2025/26
END:VEVENT
BEGIN:VEVENT
DTSTAMP:20260424T114939Z
DTSTART;TZID=Europe/Berlin:20250919T193000
DTEND;TZID=Europe/Berlin:20250919T223000
SUMMARY:ME L4 Gr 4\, Tours 1&2 Crissier IV vs Fribourg VII (0)
UID:0701c9f5-a04c-4d34-8a55-a4b4314e3f00
STATUS:CONFIRMED
LAST-MODIFIED:20250921T112436Z
DESCRIPTION:4ème ligue Hommes Groupe 4\, Tours 1&2\nBegegnungs-Nr: 0\nHeim: Crissier IV\nGast: Fribourg VII\n\nAdresse: ch. des Oches du Mur\, 1023 Crissier\n
LOCATION:ch. des Oches du Mur\, 1023 Crissier
CATEGORIES:Saison 2025/26
END:VEVENT
BEGIN:VEVENT
DTSTAMP:20260424T114939Z
DTSTART;TZID=Europe/Berlin:20251104T193000
DTEND;TZID=Europe/Berlin:20251104T223000
SUMMARY:ME L4 Gr 4\, Tours 1&2 Crissier IV vs Romanel III (0)
UID:90d5c4ae-dba1-4124-baec-a23dc149fd3e
STATUS:CONFIRMED
LAST-MODIFIED:20251104T233525Z
DESCRIPTION:4ème ligue Hommes Groupe 4\, Tours 1&2\nBegegnungs-Nr: 0\nHeim: Crissier IV\nGast: Romanel III\n\nAdresse: ch. des Oches du Mur\, 1023 Crissier\n
LOCATION:ch. des Oches du Mur\, 1023 Crissier
CATEGORIES:Saison 2025/26
END:VEVENT
BEGIN:VEVENT
DTSTAMP:20260424T114939Z
DTSTART;TZID=Europe/Berlin:20251107T193000
DTEND;TZID=Europe/Berlin:20251107T223000
SUMMARY:ME L4 Gr 4\, Tours 1&2 Crissier IV vs Lausanne VII (0)
UID:df06910d-fc64-4e38-a8fb-a53620ee3420
STATUS:CONFIRMED
LAST-MODIFIED:20251109T131755Z
DESCRIPTION:4ème ligue Hommes Groupe 4\, Tours 1&2\nBegegnungs-Nr: 0\nHeim: Crissier IV\nGast: Lausanne VII\n\nAdresse: ch. des Oches du Mur\, 1023 Crissier\n
LOCATION:ch. des Oches du Mur\, 1023 Crissier
CATEGORIES:Saison 2025/26
END:VEVENT
BEGIN:VEVENT
DTSTAMP:20260424T114939Z
DTSTART;TZID=Europe/Berlin:20251128T193000
DTEND;TZID=Europe/Berlin:20251128T223000
SUMMARY:ME L4 Gr 4\, Tours 1&2 Crissier IV vs Vaudoise-Assurances (0)
UID:48fa80b6-10a5-4825-adf2-c6aa0b7ab445
STATUS:CONFIRMED
LAST-MODIFIED:20251130T182941Z
DESCRIPTION:4ème ligue Hommes Groupe 4\, Tours 1&2\nBegegnungs-Nr: 0\nHeim: Crissier IV\nGast: Vaudoise-Assurances\n\nAdresse: ch. des Oches du Mur\, 1023 Crissier\n
LOCATION:ch. des Oches du Mur\, 1023 Crissier
CATEGORIES:Saison 2025/26
END:VEVENT
BEGIN:VEVENT
DTSTAMP:20260424T114939Z
DTSTART;TZID=Europe/Berlin:20260313T193000
DTEND;TZID=Europe/Berlin:20260313T223000
SUMMARY:ME L3 Gr 4\, Tours 3&4 Crissier IV vs Crissier II (0)
UID:d1965ee5-c339-40fc-b06d-70e10d8c925e
STATUS:CONFIRMED
LAST-MODIFIED:20260315T145026Z
DESCRIPTION:3ème ligue Hommes Groupe 4\, Tours 3&4\nBegegnungs-Nr: 0\nHeim: Crissier IV\nGast: Crissier II\n\nAdresse: ch. des Oches du Mur\, 1023 Crissier\n
LOCATION:ch. des Oches du Mur\, 1023 Crissier
CATEGORIES:Saison 2025/26
END:VEVENT
BEGIN:VEVENT
DTSTAMP:20260424T114939Z
DTSTART;TZID=Europe/Berlin:20260403T193000
DTEND;TZID=Europe/Berlin:20260403T223000
SUMMARY:ME L3 Gr 4\, Tours 3&4 Crissier IV vs Gland II (0)
UID:cb80b931-d7ce-4541-bf07-a57c9ef0d319
STATUS:CONFIRMED
LAST-MODIFIED:20260409T121247Z
DESCRIPTION:3ème ligue Hommes Groupe 4\, Tours 3&4\nBegegnungs-Nr: 0\nHeim: Crissier IV\nGast: Gland II\n\nAdresse: ch. des Oches du Mur\, 1023 Crissier\n
LOCATION:ch. des Oches du Mur\, 1023 Crissier
CATEGORIES:Saison 2025/26
END:VEVENT
BEGIN:VEVENT
DTSTAMP:20260424T114939Z
DTSTART;TZID=Europe/Berlin:20260227T193000
DTEND;TZID=Europe/Berlin:20260227T223000
SUMMARY:ME L3 Gr 4\, Tours 3&4 Crissier IV vs Eysins II (0)
UID:37f946dc-f6e1-44e1-bd26-afb8c766439f
STATUS:CONFIRMED
LAST-MODIFIED:20260302T095934Z
DESCRIPTION:3ème ligue Hommes Groupe 4\, Tours 3&4\nBegegnungs-Nr: 0\nHeim: Crissier IV\nGast: Eysins II\n\nAdresse: ch. des Oches du Mur\, 1023 Crissier\n
LOCATION:ch. des Oches du Mur\, 1023 Crissier
CATEGORIES:Saison 2025/26
END:VEVENT
BEGIN:VEVENT
DTSTAMP:20260424T114939Z
DTSTART;TZID=Europe/Berlin:20260213T193000
DTEND;TZID=Europe/Berlin:20260213T223000
SUMMARY:ME L3 Gr 4\, Tours 3&4 Crissier IV vs Trams-Renens (0)
UID:96f4b1e4-a9c1-4497-aad0-275fbd358ab3
STATUS:CONFIRMED
LAST-MODIFIED:20260214T170410Z
DESCRIPTION:3ème ligue Hommes Groupe 4\, Tours 3&4\nBegegnungs-Nr: 0\nHeim: Crissier IV\nGast: Trams-Renens\n\nAdresse: ch. des Oches du Mur\, 1023 Crissier\n
LOCATION:ch. des Oches du Mur\, 1023 Crissier
CATEGORIES:Saison 2025/26
END:VEVENT
BEGIN:VEVENT
DTSTAMP:20260424T114939Z
DTSTART;TZID=Europe/Berlin:20260123T193000
DTEND;TZID=Europe/Berlin:20260123T223000
SUMMARY:ME L3 Gr 4\, Tours 3&4 Crissier IV vs Lausanne VI (0)
UID:5d4c9250-7fc1-442f-b8cc-582f17d689a3
STATUS:CONFIRMED
LAST-MODIFIED:20260125T124029Z
DESCRIPTION:3ème ligue Hommes Groupe 4\, Tours 3&4\nBegegnungs-Nr: 0\nHeim: Crissier IV\nGast: Lausanne VI\n\nAdresse: ch. des Oches du Mur\, 1023 Crissier\n
LOCATION:ch. des Oches du Mur\, 1023 Crissier
CATEGORIES:Saison 2025/26
END:VEVENT
BEGIN:VEVENT
DTSTAMP:20260424T114939Z
DTSTART;TZID=Europe/Berlin:20250912T200000
DTEND;TZID=Europe/Berlin:20250912T230000
SUMMARY:ME L4 Gr 4\, Tours 1&2 Lausanne VII vs Crissier IV (0)
UID:e5c5fba8-07f5-4421-af21-91fed6d15ce0
STATUS:CONFIRMED
LAST-MODIFIED:20250921T113130Z
DESCRIPTION:4ème ligue Hommes Groupe 4\, Tours 1&2\nBegegnungs-Nr: 0\nHeim: Lausanne VII\nGast: Crissier IV\n\nAdresse: Vaudoise Aréna\, Ch. du Viaduc 14\, 1008 Prilly\n
LOCATION:Vaudoise Aréna\, Ch. du Viaduc 14\, 1008 Prilly
CATEGORIES:Saison 2025/26
END:VEVENT
BEGIN:VEVENT
DTSTAMP:20260424T114939Z
DTSTART;TZID=Europe/Berlin:20251002T193000
DTEND;TZID=Europe/Berlin:20251002T223000
SUMMARY:ME L4 Gr 4\, Tours 1&2 Vaudoise-Assurances vs Crissier IV (0)
UID:07de9f49-fad2-43c2-bc6b-f1a74b2a7971
STATUS:CONFIRMED
LAST-MODIFIED:20251006T191550Z
DESCRIPTION:4ème ligue Hommes Groupe 4\, Tours 1&2\nBegegnungs-Nr: 0\nHeim: Vaudoise-Assurances\nGast: Crissier IV\n\nAdresse: Ch de Bellerive 36\, 1007 Lausanne\n
LOCATION:Ch de Bellerive 36\, 1007 Lausanne
CATEGORIES:Saison 2025/26
END:VEVENT
BEGIN:VEVENT
DTSTAMP:20260424T114939Z
DTSTART;TZID=Europe/Berlin:20251030T194500
DTEND;TZID=Europe/Berlin:20251030T224500
SUMMARY:ME L4 Gr 4\, Tours 1&2 Chexbres vs Crissier IV (0)
UID:f0c3a76c-0e83-43ac-9646-fb7032f0aecf
STATUS:CONFIRMED
LAST-MODIFIED:20251101T154016Z
DESCRIPTION:4ème ligue Hommes Groupe 4\, Tours 1&2\nBegegnungs-Nr: 0\nHeim: Chexbres\nGast: Crissier IV\n\nAdresse: Collège de Praz Routoz\, 1071 Chexbres\n
LOCATION:Collège de Praz Routoz\, 1071 Chexbres
CATEGORIES:Saison 2025/26
END:VEVENT
BEGIN:VEVENT
DTSTAMP:20260424T114939Z
DTSTART;TZID=Europe/Berlin:20251120T193000
DTEND;TZID=Europe/Berlin:20251120T223000
SUMMARY:ME L4 Gr 4\, Tours 1&2 Fribourg VII vs Crissier IV (0)
UID:95992c29-c4ae-43d1-9a89-2ab2e73d01dc
STATUS:CONFIRMED
LAST-MODIFIED:20251125T150529Z
DESCRIPTION:4ème ligue Hommes Groupe 4\, Tours 1&2\nBegegnungs-Nr: 0\nHeim: Fribourg VII\nGast: Crissier IV\n\nAdresse: Route du Centre sportif\, 1752 Villars-sur-Glâne\n
LOCATION:Route du Centre sportif\, 1752 Villars-sur-Glâne
CATEGORIES:Saison 2025/26
END:VEVENT
BEGIN:VEVENT
DTSTAMP:20260424T114939Z
DTSTART;TZID=Europe/Berlin:20251209T193000
DTEND;TZID=Europe/Berlin:20251209T223000
SUMMARY:ME L4 Gr 4\, Tours 1&2 Romanel III vs Crissier IV (0)
UID:d178139a-0570-484c-9a54-1d9acf429183
STATUS:CONFIRMED
LAST-MODIFIED:20251211T055744Z
DESCRIPTION:4ème ligue Hommes Groupe 4\, Tours 1&2\nBegegnungs-Nr: 0\nHeim: Romanel III\nGast: Crissier IV\n\nAdresse: Ch des Epinettes 1\, 1032 Romanel-sur-Lausanne\n
LOCATION:Ch des Epinettes 1\, 1032 Romanel-sur-Lausanne
CATEGORIES:Saison 2025/26
END:VEVENT
BEGIN:VEVENT
DTSTAMP:20260424T114939Z
DTSTART;TZID=Europe/Berlin:20260319T200000
DTEND;TZID=Europe/Berlin:20260319T230000
SUMMARY:ME L3 Gr 4\, Tours 3&4 Lausanne VI vs Crissier IV (0)
UID:cb0a4430-4327-415e-bd0a-75f016720b6c
STATUS:CONFIRMED
LAST-MODIFIED:20260321T101746Z
DESCRIPTION:3ème ligue Hommes Groupe 4\, Tours 3&4\nBegegnungs-Nr: 0\nHeim: Lausanne VI\nGast: Crissier IV\n\nAdresse: Vaudoise Aréna\, Ch. du Viaduc 14\, 1008 Prilly\n
LOCATION:Vaudoise Aréna\, Ch. du Viaduc 14\, 1008 Prilly
CATEGORIES:Saison 2025/26
END:VEVENT
BEGIN:VEVENT
DTSTAMP:20260424T114939Z
DTSTART;TZID=Europe/Berlin:20260421T193000
DTEND;TZID=Europe/Berlin:20260421T223000
SUMMARY:ME L3 Gr 4\, Tours 3&4 Trams-Renens vs Crissier IV (0)
UID:49d37a62-b743-4d8c-a69e-c55fa57e368e
STATUS:CONFIRMED
LAST-MODIFIED:20260423T075445Z
DESCRIPTION:3ème ligue Hommes Groupe 4\, Tours 3&4\nBegegnungs-Nr: 0\nHeim: Trams-Renens\nGast: Crissier IV\n\nAdresse: Av Saugiaz\, 1020 Renens\n
LOCATION:Av Saugiaz\, 1020 Renens
CATEGORIES:Saison 2025/26
END:VEVENT
BEGIN:VEVENT
DTSTAMP:20260424T114939Z
DTSTART;TZID=Europe/Berlin:20260429T200000
DTEND;TZID=Europe/Berlin:20260429T230000
SUMMARY:ME L3 Gr 4\, Tours 3&4 Eysins II vs Crissier IV (0)
UID:13be4da8-a771-4917-88ac-57972211e22f
STATUS:CONFIRMED
DESCRIPTION:3ème ligue Hommes Groupe 4\, Tours 3&4\nBegegnungs-Nr: 0\nHeim: Eysins II\nGast: Crissier IV\n\nAdresse: En Bellossiez 1\, 1262 Eysins\n
LOCATION:En Bellossiez 1\, 1262 Eysins
CATEGORIES:Saison 2025/26
END:VEVENT
BEGIN:VEVENT
DTSTAMP:20260424T114939Z
DTSTART;TZID=Europe/Berlin:20260130T193000
DTEND;TZID=Europe/Berlin:20260130T223000
SUMMARY:ME L3 Gr 4\, Tours 3&4 Gland II vs Crissier IV (0)
UID:f48f1b9f-aefe-4536-95be-a1bc26f7b2d5
STATUS:CONFIRMED
LAST-MODIFIED:20260131T171124Z
DESCRIPTION:3ème ligue Hommes Groupe 4\, Tours 3&4\nBegegnungs-Nr: 0\nHeim: Gland II\nGast: Crissier IV\n\nAdresse: Chemin de la Perroude 1\, 1196 Gland\n
LOCATION:Chemin de la Perroude 1\, 1196 Gland
CATEGORIES:Saison 2025/26
END:VEVENT
BEGIN:VEVENT
DTSTAMP:20260424T114939Z
DTSTART;TZID=Europe/Berlin:20260115T193000
DTEND;TZID=Europe/Berlin:20260115T223000
SUMMARY:ME L3 Gr 4\, Tours 3&4 Crissier II vs Crissier IV (0)
UID:2d26096d-8e7f-4cc4-97e0-15514e3cf0c9
STATUS:CONFIRMED
LAST-MODIFIED:20260116T185610Z
DESCRIPTION:3ème ligue Hommes Groupe 4\, Tours 3&4\nBegegnungs-Nr: 0\nHeim: Crissier II\nGast: Crissier IV\n\nAdresse: ch. des Oches du Mur\, 1023 Crissier\n
LOCATION:ch. des Oches du Mur\, 1023 Crissier
CATEGORIES:Saison 2025/26
END:VEVENT
END:VCALENDAR
