BEGIN:VCALENDAR
PRODID:-//nuDatenautomaten//framework iCal4j //DE
VERSION:2.0
CALSCALE:GREGORIAN
BEGIN:VTIMEZONE
TZID:Europe/Berlin
LAST-MODIFIED:20260306T231828Z
TZURL:https://www.tzurl.org/zoneinfo/Europe/Berlin
X-LIC-LOCATION:Europe/Berlin
X-PROLEPTIC-TZNAME:LMT
BEGIN:STANDARD
TZNAME:CET
TZOFFSETFROM:+005328
TZOFFSETTO:+0100
DTSTART:18930401T000000
END:STANDARD
BEGIN:DAYLIGHT
TZNAME:CEST
TZOFFSETFROM:+0100
TZOFFSETTO:+0200
DTSTART:19160430T230000
RDATE:19400401T020000
RDATE:19430329T020000
RDATE:19460414T020000
RDATE:19470406T030000
RDATE:19480418T020000
RDATE:19490410T020000
RDATE:19800406T020000
END:DAYLIGHT
BEGIN:STANDARD
TZNAME:CET
TZOFFSETFROM:+0200
TZOFFSETTO:+0100
DTSTART:19161001T010000
RDATE:19421102T030000
RDATE:19431004T030000
RDATE:19441002T030000
RDATE:19451118T030000
RDATE:19461007T030000
END:STANDARD
BEGIN:DAYLIGHT
TZNAME:CEST
TZOFFSETFROM:+0100
TZOFFSETTO:+0200
DTSTART:19170416T020000
RRULE:FREQ=YEARLY;UNTIL=19180415T010000Z;BYMONTH=4;BYDAY=3MO
END:DAYLIGHT
BEGIN:STANDARD
TZNAME:CET
TZOFFSETFROM:+0200
TZOFFSETTO:+0100
DTSTART:19170917T030000
RRULE:FREQ=YEARLY;UNTIL=19180916T010000Z;BYMONTH=9;BYDAY=3MO
END:STANDARD
BEGIN:DAYLIGHT
TZNAME:CEST
TZOFFSETFROM:+0100
TZOFFSETTO:+0200
DTSTART:19440403T020000
RRULE:FREQ=YEARLY;UNTIL=19450402T010000Z;BYMONTH=4;BYDAY=1MO
END:DAYLIGHT
BEGIN:DAYLIGHT
TZNAME:CEMT
TZOFFSETFROM:+0200
TZOFFSETTO:+0300
DTSTART:19450524T020000
RDATE:19470511T030000
END:DAYLIGHT
BEGIN:DAYLIGHT
TZNAME:CEST
TZOFFSETFROM:+0300
TZOFFSETTO:+0200
DTSTART:19450924T030000
RDATE:19470629T030000
END:DAYLIGHT
BEGIN:STANDARD
TZNAME:CET
TZOFFSETFROM:+0100
TZOFFSETTO:+0100
DTSTART:19460101T000000
RDATE:19800101T000000
END:STANDARD
BEGIN:STANDARD
TZNAME:CET
TZOFFSETFROM:+0200
TZOFFSETTO:+0100
DTSTART:19471005T030000
RRULE:FREQ=YEARLY;UNTIL=19491002T010000Z;BYMONTH=10;BYDAY=1SU
END:STANDARD
BEGIN:STANDARD
TZNAME:CET
TZOFFSETFROM:+0200
TZOFFSETTO:+0100
DTSTART:19800928T030000
RRULE:FREQ=YEARLY;UNTIL=19950924T010000Z;BYMONTH=9;BYDAY=-1SU
END:STANDARD
BEGIN:DAYLIGHT
TZNAME:CEST
TZOFFSETFROM:+0100
TZOFFSETTO:+0200
DTSTART:19810329T020000
RRULE:FREQ=YEARLY;BYMONTH=3;BYDAY=-1SU
END:DAYLIGHT
BEGIN:STANDARD
TZNAME:CET
TZOFFSETFROM:+0200
TZOFFSETTO:+0100
DTSTART:19961027T030000
RRULE:FREQ=YEARLY;BYMONTH=10;BYDAY=-1SU
END:STANDARD
END:VTIMEZONE
BEGIN:VEVENT
DTSTAMP:20260424T151636Z
DTSTART;TZID=Europe/Berlin:20260202T200000
DTEND;TZID=Europe/Berlin:20260202T230000
SUMMARY:O40 4. Liga Gr. 4 Wollerau vs Thalwil II (0)
UID:8159f575-3cf6-43a5-b2c3-e203a48ca3b0
STATUS:CONFIRMED
LAST-MODIFIED:20260204T090022Z
DESCRIPTION:4. Liga O40 Gruppe 4\nBegegnungs-Nr: 0\nHeim: Wollerau\nGast: Thalwil II\n\nAdresse: Erlenstrasse 18\, 8832 Wollerau\n
LOCATION:Erlenstrasse 18\, 8832 Wollerau
CATEGORIES:Saison 2025/26
END:VEVENT
BEGIN:VEVENT
DTSTAMP:20260424T151636Z
DTSTART;TZID=Europe/Berlin:20260420T200000
DTEND;TZID=Europe/Berlin:20260420T230000
SUMMARY:O40 4. Liga Gr. 4 Wollerau vs Affoltern A/A III (0)
UID:db87cb09-fbb0-47f4-b75b-7c865527e715
STATUS:CONFIRMED
LAST-MODIFIED:20260423T083441Z
DESCRIPTION:4. Liga O40 Gruppe 4\nBegegnungs-Nr: 0\nHeim: Wollerau\nGast: Affoltern A/A III\n\nAdresse: Erlenstrasse 18\, 8832 Wollerau\n
LOCATION:Erlenstrasse 18\, 8832 Wollerau
CATEGORIES:Saison 2025/26
END:VEVENT
BEGIN:VEVENT
DTSTAMP:20260424T151636Z
DTSTART;TZID=Europe/Berlin:20251117T200000
DTEND;TZID=Europe/Berlin:20251117T230000
SUMMARY:O40 4. Liga Gr. 4 Wollerau vs Chur III (0)
UID:47f0d65d-03af-4d97-97ce-a06b57033de6
STATUS:CONFIRMED
LAST-MODIFIED:20251121T095248Z
DESCRIPTION:4. Liga O40 Gruppe 4\nBegegnungs-Nr: 0\nHeim: Wollerau\nGast: Chur III\n\nAdresse: Erlenstrasse 18\, 8832 Wollerau\n
LOCATION:Erlenstrasse 18\, 8832 Wollerau
CATEGORIES:Saison 2025/26
END:VEVENT
BEGIN:VEVENT
DTSTAMP:20260424T151636Z
DTSTART;TZID=Europe/Berlin:20251124T200000
DTEND;TZID=Europe/Berlin:20251124T230000
SUMMARY:O40 4. Liga Gr. 4 Wollerau vs Wädenswil II (0)
UID:a37b510b-7697-4dd4-8d80-fc602d0cb059
STATUS:CONFIRMED
LAST-MODIFIED:20251128T134708Z
DESCRIPTION:4. Liga O40 Gruppe 4\nBegegnungs-Nr: 0\nHeim: Wollerau\nGast: Wädenswil II\n\nAdresse: Erlenstrasse 18\, 8832 Wollerau\n
LOCATION:Erlenstrasse 18\, 8832 Wollerau
CATEGORIES:Saison 2025/26
END:VEVENT
BEGIN:VEVENT
DTSTAMP:20260424T151636Z
DTSTART;TZID=Europe/Berlin:20250818T200000
DTEND;TZID=Europe/Berlin:20250818T230000
SUMMARY:O40 4. Liga Gr. 4 Wollerau vs Rapperswil-Jona II (0)
UID:bd2e8883-2998-4e06-b01e-17981e209d76
STATUS:CONFIRMED
LAST-MODIFIED:20250819T130526Z
DESCRIPTION:4. Liga O40 Gruppe 4\nBegegnungs-Nr: 0\nHeim: Wollerau\nGast: Rapperswil-Jona II\n\nAdresse: Erlenstrasse 18\, 8832 Wollerau\n
LOCATION:Erlenstrasse 18\, 8832 Wollerau
CATEGORIES:Saison 2025/26
END:VEVENT
BEGIN:VEVENT
DTSTAMP:20260424T151636Z
DTSTART;TZID=Europe/Berlin:20260116T193000
DTEND;TZID=Europe/Berlin:20260116T223000
SUMMARY:O40 4. Liga Gr. 4 Rapperswil-Jona II vs Wollerau (0)
UID:43e2aae6-8171-4dde-8cda-8a84bd3e6ead
STATUS:CONFIRMED
LAST-MODIFIED:20260119T091944Z
DESCRIPTION:4. Liga O40 Gruppe 4\nBegegnungs-Nr: 0\nHeim: Rapperswil-Jona II\nGast: Wollerau\n\nAdresse: Kreuzstrasse 43\, 8640 Rapperswil\n
LOCATION:Kreuzstrasse 43\, 8640 Rapperswil
CATEGORIES:Saison 2025/26
END:VEVENT
BEGIN:VEVENT
DTSTAMP:20260424T151636Z
DTSTART;TZID=Europe/Berlin:20260320T200000
DTEND;TZID=Europe/Berlin:20260320T230000
SUMMARY:O40 4. Liga Gr. 4 Chur III vs Wollerau (0)
UID:529e330a-0be8-405d-a97b-a2c3c1723a99
STATUS:CONFIRMED
LAST-MODIFIED:20260326T155540Z
DESCRIPTION:4. Liga O40 Gruppe 4\nBegegnungs-Nr: 0\nHeim: Chur III\nGast: Wollerau\n\nAdresse: Bodmerstrasse 10\, 7000 Chur\n
LOCATION:Bodmerstrasse 10\, 7000 Chur
CATEGORIES:Saison 2025/26
END:VEVENT
BEGIN:VEVENT
DTSTAMP:20260424T151636Z
DTSTART;TZID=Europe/Berlin:20260409T201500
DTEND;TZID=Europe/Berlin:20260409T231500
SUMMARY:O40 4. Liga Gr. 4 Wädenswil II vs Wollerau (0)
UID:e2757b22-ed3f-4035-81cf-31f3c868e6e8
STATUS:CONFIRMED
LAST-MODIFIED:20260416T104526Z
DESCRIPTION:4. Liga O40 Gruppe 4\nBegegnungs-Nr: 0\nHeim: Wädenswil II\nGast: Wollerau\n\nAdresse: Speerstrasse 95\, 8820 Wädenswil\n
LOCATION:Speerstrasse 95\, 8820 Wädenswil
CATEGORIES:Saison 2025/26
END:VEVENT
BEGIN:VEVENT
DTSTAMP:20260424T151636Z
DTSTART;TZID=Europe/Berlin:20251024T200000
DTEND;TZID=Europe/Berlin:20251024T230000
SUMMARY:O40 4. Liga Gr. 4 Affoltern A/A III vs Wollerau (0)
UID:2ddc334d-e540-4804-b2d1-60f946a6c5aa
STATUS:CONFIRMED
LAST-MODIFIED:20251031T151314Z
DESCRIPTION:4. Liga O40 Gruppe 4\nBegegnungs-Nr: 0\nHeim: Affoltern A/A III\nGast: Wollerau\n\nAdresse: Butzenstr. 2\, 8910 Affoltern am Albis\n
LOCATION:Butzenstr. 2\, 8910 Affoltern am Albis
CATEGORIES:Saison 2025/26
END:VEVENT
BEGIN:VEVENT
DTSTAMP:20260424T151636Z
DTSTART;TZID=Europe/Berlin:20250911T194500
DTEND;TZID=Europe/Berlin:20250911T224500
SUMMARY:O40 4. Liga Gr. 4 Thalwil II vs Wollerau (0)
UID:a5bdccad-34b6-4c4f-b272-f3e90f190283
STATUS:CONFIRMED
LAST-MODIFIED:20250915T085130Z
DESCRIPTION:4. Liga O40 Gruppe 4\nBegegnungs-Nr: 0\nHeim: Thalwil II\nGast: Wollerau\n\nAdresse: Langweg 2\, 8942 Oberrieden\n
LOCATION:Langweg 2\, 8942 Oberrieden
CATEGORIES:Saison 2025/26
END:VEVENT
END:VCALENDAR
