BEGIN:VCALENDAR
PRODID:-//nuDatenautomaten//framework iCal4j //DE
VERSION:2.0
CALSCALE:GREGORIAN
BEGIN:VTIMEZONE
TZID:Europe/Berlin
LAST-MODIFIED:20260306T231828Z
TZURL:https://www.tzurl.org/zoneinfo/Europe/Berlin
X-LIC-LOCATION:Europe/Berlin
X-PROLEPTIC-TZNAME:LMT
BEGIN:STANDARD
TZNAME:CET
TZOFFSETFROM:+005328
TZOFFSETTO:+0100
DTSTART:18930401T000000
END:STANDARD
BEGIN:DAYLIGHT
TZNAME:CEST
TZOFFSETFROM:+0100
TZOFFSETTO:+0200
DTSTART:19160430T230000
RDATE:19400401T020000
RDATE:19430329T020000
RDATE:19460414T020000
RDATE:19470406T030000
RDATE:19480418T020000
RDATE:19490410T020000
RDATE:19800406T020000
END:DAYLIGHT
BEGIN:STANDARD
TZNAME:CET
TZOFFSETFROM:+0200
TZOFFSETTO:+0100
DTSTART:19161001T010000
RDATE:19421102T030000
RDATE:19431004T030000
RDATE:19441002T030000
RDATE:19451118T030000
RDATE:19461007T030000
END:STANDARD
BEGIN:DAYLIGHT
TZNAME:CEST
TZOFFSETFROM:+0100
TZOFFSETTO:+0200
DTSTART:19170416T020000
RRULE:FREQ=YEARLY;UNTIL=19180415T010000Z;BYMONTH=4;BYDAY=3MO
END:DAYLIGHT
BEGIN:STANDARD
TZNAME:CET
TZOFFSETFROM:+0200
TZOFFSETTO:+0100
DTSTART:19170917T030000
RRULE:FREQ=YEARLY;UNTIL=19180916T010000Z;BYMONTH=9;BYDAY=3MO
END:STANDARD
BEGIN:DAYLIGHT
TZNAME:CEST
TZOFFSETFROM:+0100
TZOFFSETTO:+0200
DTSTART:19440403T020000
RRULE:FREQ=YEARLY;UNTIL=19450402T010000Z;BYMONTH=4;BYDAY=1MO
END:DAYLIGHT
BEGIN:DAYLIGHT
TZNAME:CEMT
TZOFFSETFROM:+0200
TZOFFSETTO:+0300
DTSTART:19450524T020000
RDATE:19470511T030000
END:DAYLIGHT
BEGIN:DAYLIGHT
TZNAME:CEST
TZOFFSETFROM:+0300
TZOFFSETTO:+0200
DTSTART:19450924T030000
RDATE:19470629T030000
END:DAYLIGHT
BEGIN:STANDARD
TZNAME:CET
TZOFFSETFROM:+0100
TZOFFSETTO:+0100
DTSTART:19460101T000000
RDATE:19800101T000000
END:STANDARD
BEGIN:STANDARD
TZNAME:CET
TZOFFSETFROM:+0200
TZOFFSETTO:+0100
DTSTART:19471005T030000
RRULE:FREQ=YEARLY;UNTIL=19491002T010000Z;BYMONTH=10;BYDAY=1SU
END:STANDARD
BEGIN:STANDARD
TZNAME:CET
TZOFFSETFROM:+0200
TZOFFSETTO:+0100
DTSTART:19800928T030000
RRULE:FREQ=YEARLY;UNTIL=19950924T010000Z;BYMONTH=9;BYDAY=-1SU
END:STANDARD
BEGIN:DAYLIGHT
TZNAME:CEST
TZOFFSETFROM:+0100
TZOFFSETTO:+0200
DTSTART:19810329T020000
RRULE:FREQ=YEARLY;BYMONTH=3;BYDAY=-1SU
END:DAYLIGHT
BEGIN:STANDARD
TZNAME:CET
TZOFFSETFROM:+0200
TZOFFSETTO:+0100
DTSTART:19961027T030000
RRULE:FREQ=YEARLY;BYMONTH=10;BYDAY=-1SU
END:STANDARD
END:VTIMEZONE
BEGIN:VEVENT
DTSTAMP:20260424T134209Z
DTSTART;TZID=Europe/Berlin:20250910T194500
DTEND;TZID=Europe/Berlin:20250910T224500
SUMMARY:ME L3 Gr 3\, Tours 1&2 Forward-Morges IV vs Pully (0)
UID:1aa9d7e8-8e03-485b-9c88-dd2340dc0008
STATUS:CONFIRMED
LAST-MODIFIED:20250912T142549Z
DESCRIPTION:3ème ligue Hommes Groupe 3\, Tours 1&2\nBegegnungs-Nr: 0\nHeim: Forward-Morges IV\nGast: Pully\n\nAdresse: Chemin de Tolochenaz\, 1110 Morges\n
LOCATION:Chemin de Tolochenaz\, 1110 Morges
CATEGORIES:Saison 2025/26
END:VEVENT
BEGIN:VEVENT
DTSTAMP:20260424T134209Z
DTSTART;TZID=Europe/Berlin:20251002T194500
DTEND;TZID=Europe/Berlin:20251002T224500
SUMMARY:ME L3 Gr 3\, Tours 1&2 Forward-Morges IV vs Yverdon III (0)
UID:034ea19e-34cc-4458-a391-54aa2263d3e8
STATUS:CONFIRMED
LAST-MODIFIED:20251003T163324Z
DESCRIPTION:3ème ligue Hommes Groupe 3\, Tours 1&2\nBegegnungs-Nr: 0\nHeim: Forward-Morges IV\nGast: Yverdon III\n\nAdresse: Chemin de Tolochenaz\, 1110 Morges\n
LOCATION:Chemin de Tolochenaz\, 1110 Morges
CATEGORIES:Saison 2025/26
END:VEVENT
BEGIN:VEVENT
DTSTAMP:20260424T134209Z
DTSTART;TZID=Europe/Berlin:20251023T194500
DTEND;TZID=Europe/Berlin:20251023T224500
SUMMARY:ME L3 Gr 3\, Tours 1&2 Forward-Morges IV vs Yverdon II (0)
UID:880bc307-fba4-4c00-b289-15962a55715d
STATUS:CONFIRMED
LAST-MODIFIED:20251025T100855Z
DESCRIPTION:3ème ligue Hommes Groupe 3\, Tours 1&2\nBegegnungs-Nr: 0\nHeim: Forward-Morges IV\nGast: Yverdon II\n\nAdresse: Chemin de Tolochenaz\, 1110 Morges\n
LOCATION:Chemin de Tolochenaz\, 1110 Morges
CATEGORIES:Saison 2025/26
END:VEVENT
BEGIN:VEVENT
DTSTAMP:20260424T134209Z
DTSTART;TZID=Europe/Berlin:20251103T194500
DTEND;TZID=Europe/Berlin:20251103T224500
SUMMARY:ME L3 Gr 3\, Tours 1&2 Forward-Morges IV vs Crissier III (0)
UID:a8f0155e-0fee-4646-a1d8-5b360eab55c5
STATUS:CONFIRMED
LAST-MODIFIED:20251104T095627Z
DESCRIPTION:3ème ligue Hommes Groupe 3\, Tours 1&2\nBegegnungs-Nr: 0\nHeim: Forward-Morges IV\nGast: Crissier III\n\nAdresse: Chemin de Tolochenaz\, 1110 Morges\n
LOCATION:Chemin de Tolochenaz\, 1110 Morges
CATEGORIES:Saison 2025/26
END:VEVENT
BEGIN:VEVENT
DTSTAMP:20260424T134209Z
DTSTART;TZID=Europe/Berlin:20251126T194500
DTEND;TZID=Europe/Berlin:20251126T224500
SUMMARY:ME L3 Gr 3\, Tours 1&2 Forward-Morges IV vs Romont-Villaz (0)
UID:ffc02cfb-c25b-48eb-bcdf-90c80b19babe
STATUS:CONFIRMED
LAST-MODIFIED:20251128T203831Z
DESCRIPTION:3ème ligue Hommes Groupe 3\, Tours 1&2\nBegegnungs-Nr: 0\nHeim: Forward-Morges IV\nGast: Romont-Villaz\n\nAdresse: Chemin de Tolochenaz\, 1110 Morges\n
LOCATION:Chemin de Tolochenaz\, 1110 Morges
CATEGORIES:Saison 2025/26
END:VEVENT
BEGIN:VEVENT
DTSTAMP:20260424T134209Z
DTSTART;TZID=Europe/Berlin:20260128T194500
DTEND;TZID=Europe/Berlin:20260128T224500
SUMMARY:ME L4 Gr 5\, Tours 3&4 Forward-Morges IV vs Rolle (0)
UID:ff13502a-8c96-4619-802d-c8f64dcc8303
STATUS:CONFIRMED
LAST-MODIFIED:20260130T173325Z
DESCRIPTION:4ème ligue Hommes Groupe 5\, Tours 3&4\nBegegnungs-Nr: 0\nHeim: Forward-Morges IV\nGast: Rolle\n\nAdresse: Chemin de Tolochenaz\, 1110 Morges\n
LOCATION:Chemin de Tolochenaz\, 1110 Morges
CATEGORIES:Saison 2025/26
END:VEVENT
BEGIN:VEVENT
DTSTAMP:20260424T134209Z
DTSTART;TZID=Europe/Berlin:20260211T194500
DTEND;TZID=Europe/Berlin:20260211T224500
SUMMARY:ME L4 Gr 5\, Tours 3&4 Forward-Morges IV vs Gland III (0)
UID:c3eea603-63b5-4a18-86dc-ac56e1cef2cb
STATUS:CONFIRMED
LAST-MODIFIED:20260212T150751Z
DESCRIPTION:4ème ligue Hommes Groupe 5\, Tours 3&4\nBegegnungs-Nr: 0\nHeim: Forward-Morges IV\nGast: Gland III\n\nAdresse: Chemin de Tolochenaz\, 1110 Morges\n
LOCATION:Chemin de Tolochenaz\, 1110 Morges
CATEGORIES:Saison 2025/26
END:VEVENT
BEGIN:VEVENT
DTSTAMP:20260424T134209Z
DTSTART;TZID=Europe/Berlin:20260223T194500
DTEND;TZID=Europe/Berlin:20260223T224500
SUMMARY:ME L4 Gr 5\, Tours 3&4 Forward-Morges IV vs Eysins III (0)
UID:e4898809-7a04-4e57-bfe8-396e24bc3370
STATUS:CONFIRMED
LAST-MODIFIED:20260225T224657Z
DESCRIPTION:4ème ligue Hommes Groupe 5\, Tours 3&4\nBegegnungs-Nr: 0\nHeim: Forward-Morges IV\nGast: Eysins III\n\nAdresse: Chemin de Tolochenaz\, 1110 Morges\n
LOCATION:Chemin de Tolochenaz\, 1110 Morges
CATEGORIES:Saison 2025/26
END:VEVENT
BEGIN:VEVENT
DTSTAMP:20260424T134209Z
DTSTART;TZID=Europe/Berlin:20260311T194500
DTEND;TZID=Europe/Berlin:20260311T224500
SUMMARY:ME L4 Gr 5\, Tours 3&4 Forward-Morges IV vs Lausanne VIII (0)
UID:d6c289aa-6365-406d-a70a-09f7abdbe1ae
STATUS:CONFIRMED
LAST-MODIFIED:20260313T232131Z
DESCRIPTION:4ème ligue Hommes Groupe 5\, Tours 3&4\nBegegnungs-Nr: 0\nHeim: Forward-Morges IV\nGast: Lausanne VIII\n\nAdresse: Chemin de Tolochenaz\, 1110 Morges\n
LOCATION:Chemin de Tolochenaz\, 1110 Morges
CATEGORIES:Saison 2025/26
END:VEVENT
BEGIN:VEVENT
DTSTAMP:20260424T134209Z
DTSTART;TZID=Europe/Berlin:20260420T194500
DTEND;TZID=Europe/Berlin:20260420T224500
SUMMARY:ME L4 Gr 5\, Tours 3&4 Forward-Morges IV vs Nyon (0)
UID:3e8ba7c6-267f-4495-8ed1-88398d57b5da
STATUS:CONFIRMED
LAST-MODIFIED:20260423T082317Z
DESCRIPTION:4ème ligue Hommes Groupe 5\, Tours 3&4\nBegegnungs-Nr: 0\nHeim: Forward-Morges IV\nGast: Nyon\n\nAdresse: Chemin de Tolochenaz\, 1110 Morges\n
LOCATION:Chemin de Tolochenaz\, 1110 Morges
CATEGORIES:Saison 2025/26
END:VEVENT
BEGIN:VEVENT
DTSTAMP:20260424T134209Z
DTSTART;TZID=Europe/Berlin:20251211T201500
DTEND;TZID=Europe/Berlin:20251211T231500
SUMMARY:ME L3 Gr 3\, Tours 1&2 Yverdon II vs Forward-Morges IV (0)
UID:df944999-25c0-4190-ab3d-f33ae034c313
STATUS:CONFIRMED
LAST-MODIFIED:20251213T094749Z
DESCRIPTION:3ème ligue Hommes Groupe 3\, Tours 1&2\nBegegnungs-Nr: 0\nHeim: Yverdon II\nGast: Forward-Morges IV\n\nAdresse: Avenue des Quatre Marroniers 1\, 1400 Yverdon-les-Bains\n
LOCATION:Avenue des Quatre Marroniers 1\, 1400 Yverdon-les-Bains
CATEGORIES:Saison 2025/26
END:VEVENT
BEGIN:VEVENT
DTSTAMP:20260424T134209Z
DTSTART;TZID=Europe/Berlin:20250903T193000
DTEND;TZID=Europe/Berlin:20250903T223000
SUMMARY:ME L3 Gr 3\, Tours 1&2 Crissier III vs Forward-Morges IV (0)
UID:18df9e25-0772-459d-a0fb-76904d9f3906
STATUS:CONFIRMED
LAST-MODIFIED:20250903T215407Z
DESCRIPTION:3ème ligue Hommes Groupe 3\, Tours 1&2\nBegegnungs-Nr: 0\nHeim: Crissier III\nGast: Forward-Morges IV\n\nAdresse: ch. des Oches du Mur\, 1023 Crissier\n
LOCATION:ch. des Oches du Mur\, 1023 Crissier
CATEGORIES:Saison 2025/26
END:VEVENT
BEGIN:VEVENT
DTSTAMP:20260424T134209Z
DTSTART;TZID=Europe/Berlin:20250916T193000
DTEND;TZID=Europe/Berlin:20250916T223000
SUMMARY:ME L3 Gr 3\, Tours 1&2 Romont-Villaz vs Forward-Morges IV (0)
UID:2f268a83-f455-4f74-a23e-2e541182e17c
STATUS:CONFIRMED
LAST-MODIFIED:20250917T192641Z
DESCRIPTION:3ème ligue Hommes Groupe 3\, Tours 1&2\nBegegnungs-Nr: 0\nHeim: Romont-Villaz\nGast: Forward-Morges IV\n\nAdresse: Route de la Gare 5\, 1690 Villaz-St-Pierre\n
LOCATION:Route de la Gare 5\, 1690 Villaz-St-Pierre
CATEGORIES:Saison 2025/26
END:VEVENT
BEGIN:VEVENT
DTSTAMP:20260424T134209Z
DTSTART;TZID=Europe/Berlin:20251106T193000
DTEND;TZID=Europe/Berlin:20251106T223000
SUMMARY:ME L3 Gr 3\, Tours 1&2 Pully vs Forward-Morges IV (0)
UID:77395059-2f01-4a37-b5db-13f9e2e87be1
STATUS:CONFIRMED
LAST-MODIFIED:20251109T122442Z
DESCRIPTION:3ème ligue Hommes Groupe 3\, Tours 1&2\nBegegnungs-Nr: 0\nHeim: Pully\nGast: Forward-Morges IV\n\nAdresse: Av. de Belmont 4\, 1009 Pully\n
LOCATION:Av. de Belmont 4\, 1009 Pully
CATEGORIES:Saison 2025/26
END:VEVENT
BEGIN:VEVENT
DTSTAMP:20260424T134209Z
DTSTART;TZID=Europe/Berlin:20251124T201500
DTEND;TZID=Europe/Berlin:20251124T231500
SUMMARY:ME L3 Gr 3\, Tours 1&2 Yverdon III vs Forward-Morges IV (0)
UID:24063c3e-2613-494a-ac6c-a1864a2e25d1
STATUS:CONFIRMED
LAST-MODIFIED:20251126T124740Z
DESCRIPTION:3ème ligue Hommes Groupe 3\, Tours 1&2\nBegegnungs-Nr: 0\nHeim: Yverdon III\nGast: Forward-Morges IV\n\nAdresse: Avenue des Quatre Marroniers 1\, 1400 Yverdon-les-Bains\n
LOCATION:Avenue des Quatre Marroniers 1\, 1400 Yverdon-les-Bains
CATEGORIES:Saison 2025/26
END:VEVENT
BEGIN:VEVENT
DTSTAMP:20260424T134209Z
DTSTART;TZID=Europe/Berlin:20260114T200000
DTEND;TZID=Europe/Berlin:20260114T230000
SUMMARY:ME L4 Gr 5\, Tours 3&4 Lausanne VIII vs Forward-Morges IV (0)
UID:03adc280-de60-4a44-8475-9c3aa621d82e
STATUS:CONFIRMED
LAST-MODIFIED:20260115T101919Z
DESCRIPTION:4ème ligue Hommes Groupe 5\, Tours 3&4\nBegegnungs-Nr: 0\nHeim: Lausanne VIII\nGast: Forward-Morges IV\n\nAdresse: Vaudoise Aréna\, Ch. du Viaduc 14\, 1008 Prilly\n
LOCATION:Vaudoise Aréna\, Ch. du Viaduc 14\, 1008 Prilly
CATEGORIES:Saison 2025/26
END:VEVENT
BEGIN:VEVENT
DTSTAMP:20260424T134209Z
DTSTART;TZID=Europe/Berlin:20260205T193000
DTEND;TZID=Europe/Berlin:20260205T223000
SUMMARY:ME L4 Gr 5\, Tours 3&4 Nyon vs Forward-Morges IV (0)
UID:8ea75629-de0d-487d-8630-9084b85018ee
STATUS:CONFIRMED
LAST-MODIFIED:20260205T224408Z
DESCRIPTION:4ème ligue Hommes Groupe 5\, Tours 3&4\nBegegnungs-Nr: 0\nHeim: Nyon\nGast: Forward-Morges IV\n\nAdresse: Rte des Tattes-d'Oie 97\, 1260 Nyon\n
LOCATION:Rte des Tattes-d'Oie 97\, 1260 Nyon
CATEGORIES:Saison 2025/26
END:VEVENT
BEGIN:VEVENT
DTSTAMP:20260424T134209Z
DTSTART;TZID=Europe/Berlin:20260318T200000
DTEND;TZID=Europe/Berlin:20260318T230000
SUMMARY:ME L4 Gr 5\, Tours 3&4 Rolle vs Forward-Morges IV (0)
UID:b1106b70-8e31-4361-b154-76e1b15d6448
STATUS:CONFIRMED
LAST-MODIFIED:20260321T102629Z
DESCRIPTION:4ème ligue Hommes Groupe 5\, Tours 3&4\nBegegnungs-Nr: 0\nHeim: Rolle\nGast: Forward-Morges IV\n\nAdresse: Route des Quatre-Communes 7\, 1180 Rolle\n
LOCATION:Route des Quatre-Communes 7\, 1180 Rolle
CATEGORIES:Saison 2025/26
END:VEVENT
BEGIN:VEVENT
DTSTAMP:20260424T134209Z
DTSTART;TZID=Europe/Berlin:20260508T193000
DTEND;TZID=Europe/Berlin:20260508T223000
SUMMARY:ME L4 Gr 5\, Tours 3&4 Gland III vs Forward-Morges IV (0)
UID:871f40d9-de65-4f03-a29f-bc1af3750162
STATUS:CONFIRMED
LAST-MODIFIED:20260110T211538Z
DESCRIPTION:4ème ligue Hommes Groupe 5\, Tours 3&4\nBegegnungs-Nr: 0\nHeim: Gland III\nGast: Forward-Morges IV\n\nAdresse: Chemin de la Perroude 1\, 1196 Gland\n
LOCATION:Chemin de la Perroude 1\, 1196 Gland
CATEGORIES:Saison 2025/26
END:VEVENT
BEGIN:VEVENT
DTSTAMP:20260424T134209Z
DTSTART;TZID=Europe/Berlin:20260506T200000
DTEND;TZID=Europe/Berlin:20260506T230000
SUMMARY:ME L4 Gr 5\, Tours 3&4 Eysins III vs Forward-Morges IV (0)
UID:55c377d0-af14-4873-9fb4-a3905027e52f
STATUS:CONFIRMED
LAST-MODIFIED:20251228T140225Z
DESCRIPTION:4ème ligue Hommes Groupe 5\, Tours 3&4\nBegegnungs-Nr: 0\nHeim: Eysins III\nGast: Forward-Morges IV\n\nAdresse: En Bellossiez 1\, 1262 Eysins\n
LOCATION:En Bellossiez 1\, 1262 Eysins
CATEGORIES:Saison 2025/26
END:VEVENT
END:VCALENDAR
