BEGIN:VCALENDAR
PRODID:-//nuDatenautomaten//framework iCal4j //DE
VERSION:2.0
CALSCALE:GREGORIAN
BEGIN:VTIMEZONE
TZID:Europe/Berlin
LAST-MODIFIED:20260306T231828Z
TZURL:https://www.tzurl.org/zoneinfo/Europe/Berlin
X-LIC-LOCATION:Europe/Berlin
X-PROLEPTIC-TZNAME:LMT
BEGIN:STANDARD
TZNAME:CET
TZOFFSETFROM:+005328
TZOFFSETTO:+0100
DTSTART:18930401T000000
END:STANDARD
BEGIN:DAYLIGHT
TZNAME:CEST
TZOFFSETFROM:+0100
TZOFFSETTO:+0200
DTSTART:19160430T230000
RDATE:19400401T020000
RDATE:19430329T020000
RDATE:19460414T020000
RDATE:19470406T030000
RDATE:19480418T020000
RDATE:19490410T020000
RDATE:19800406T020000
END:DAYLIGHT
BEGIN:STANDARD
TZNAME:CET
TZOFFSETFROM:+0200
TZOFFSETTO:+0100
DTSTART:19161001T010000
RDATE:19421102T030000
RDATE:19431004T030000
RDATE:19441002T030000
RDATE:19451118T030000
RDATE:19461007T030000
END:STANDARD
BEGIN:DAYLIGHT
TZNAME:CEST
TZOFFSETFROM:+0100
TZOFFSETTO:+0200
DTSTART:19170416T020000
RRULE:FREQ=YEARLY;UNTIL=19180415T010000Z;BYMONTH=4;BYDAY=3MO
END:DAYLIGHT
BEGIN:STANDARD
TZNAME:CET
TZOFFSETFROM:+0200
TZOFFSETTO:+0100
DTSTART:19170917T030000
RRULE:FREQ=YEARLY;UNTIL=19180916T010000Z;BYMONTH=9;BYDAY=3MO
END:STANDARD
BEGIN:DAYLIGHT
TZNAME:CEST
TZOFFSETFROM:+0100
TZOFFSETTO:+0200
DTSTART:19440403T020000
RRULE:FREQ=YEARLY;UNTIL=19450402T010000Z;BYMONTH=4;BYDAY=1MO
END:DAYLIGHT
BEGIN:DAYLIGHT
TZNAME:CEMT
TZOFFSETFROM:+0200
TZOFFSETTO:+0300
DTSTART:19450524T020000
RDATE:19470511T030000
END:DAYLIGHT
BEGIN:DAYLIGHT
TZNAME:CEST
TZOFFSETFROM:+0300
TZOFFSETTO:+0200
DTSTART:19450924T030000
RDATE:19470629T030000
END:DAYLIGHT
BEGIN:STANDARD
TZNAME:CET
TZOFFSETFROM:+0100
TZOFFSETTO:+0100
DTSTART:19460101T000000
RDATE:19800101T000000
END:STANDARD
BEGIN:STANDARD
TZNAME:CET
TZOFFSETFROM:+0200
TZOFFSETTO:+0100
DTSTART:19471005T030000
RRULE:FREQ=YEARLY;UNTIL=19491002T010000Z;BYMONTH=10;BYDAY=1SU
END:STANDARD
BEGIN:STANDARD
TZNAME:CET
TZOFFSETFROM:+0200
TZOFFSETTO:+0100
DTSTART:19800928T030000
RRULE:FREQ=YEARLY;UNTIL=19950924T010000Z;BYMONTH=9;BYDAY=-1SU
END:STANDARD
BEGIN:DAYLIGHT
TZNAME:CEST
TZOFFSETFROM:+0100
TZOFFSETTO:+0200
DTSTART:19810329T020000
RRULE:FREQ=YEARLY;BYMONTH=3;BYDAY=-1SU
END:DAYLIGHT
BEGIN:STANDARD
TZNAME:CET
TZOFFSETFROM:+0200
TZOFFSETTO:+0100
DTSTART:19961027T030000
RRULE:FREQ=YEARLY;BYMONTH=10;BYDAY=-1SU
END:STANDARD
END:VTIMEZONE
BEGIN:VEVENT
DTSTAMP:20260424T103950Z
DTSTART;TZID=Europe/Berlin:20250920T170000
DTEND;TZID=Europe/Berlin:20250920T200000
SUMMARY:HE NLC Gr. 1 Cortaillod vs Bernex (6)
UID:f2129473-ba85-45f0-ad1c-e0e8f21ee07b
STATUS:CONFIRMED
LAST-MODIFIED:20250922T073338Z
DESCRIPTION:Herren Nationalliga C Gruppe 1\nBegegnungs-Nr: 6\nHeim: Cortaillod\nGast: Bernex\n\nAdresse: Coteaux 1\, 2016 Cortaillod\n
LOCATION:Coteaux 1\, 2016 Cortaillod
CATEGORIES:Saison 2025/26
END:VEVENT
BEGIN:VEVENT
DTSTAMP:20260424T103950Z
DTSTART;TZID=Europe/Berlin:20251025T170000
DTEND;TZID=Europe/Berlin:20251025T200000
SUMMARY:HE NLC Gr. 1 Cortaillod vs Meyrin (15)
UID:7d1b118a-947d-4ebf-90d8-5d325fe17b80
STATUS:CONFIRMED
LAST-MODIFIED:20251029T082822Z
DESCRIPTION:Herren Nationalliga C Gruppe 1\nBegegnungs-Nr: 15\nHeim: Cortaillod\nGast: Meyrin\n\nAdresse: Coteaux 1\, 2016 Cortaillod\n
LOCATION:Coteaux 1\, 2016 Cortaillod
CATEGORIES:Saison 2025/26
END:VEVENT
BEGIN:VEVENT
DTSTAMP:20260424T103950Z
DTSTART;TZID=Europe/Berlin:20251108T170000
DTEND;TZID=Europe/Berlin:20251108T200000
SUMMARY:HE NLC Gr. 1 Cortaillod vs Forward-Morges (20)
UID:39b880f5-9712-4c4d-be5b-842b8a70830e
STATUS:CONFIRMED
LAST-MODIFIED:20251110T072920Z
DESCRIPTION:Herren Nationalliga C Gruppe 1\nBegegnungs-Nr: 20\nHeim: Cortaillod\nGast: Forward-Morges\n\nAdresse: Coteaux 1\, 2016 Cortaillod\n
LOCATION:Coteaux 1\, 2016 Cortaillod
CATEGORIES:Saison 2025/26
END:VEVENT
BEGIN:VEVENT
DTSTAMP:20260424T103950Z
DTSTART;TZID=Europe/Berlin:20260110T170000
DTEND;TZID=Europe/Berlin:20260110T200000
SUMMARY:HE NLC Gr. 1 Cortaillod vs UGS-Chênois II (3)
UID:94f03759-f559-4202-955c-4fb5506b25dc
STATUS:CONFIRMED
LAST-MODIFIED:20260112T203128Z
DESCRIPTION:Herren Nationalliga C Gruppe 1\nBegegnungs-Nr: 3\nHeim: Cortaillod\nGast: UGS-Chênois II\n\nAdresse: Coteaux 1\, 2016 Cortaillod\n
LOCATION:Coteaux 1\, 2016 Cortaillod
CATEGORIES:Saison 2025/26
END:VEVENT
BEGIN:VEVENT
DTSTAMP:20260424T103950Z
DTSTART;TZID=Europe/Berlin:20260221T150000
DTEND;TZID=Europe/Berlin:20260221T180000
SUMMARY:HE NLC Gr. 1 Cortaillod vs ZZ-Lancy II (9)
UID:a904221c-0478-45fb-84d0-e5b2eff68ec4
STATUS:CONFIRMED
LAST-MODIFIED:20260223T153332Z
DESCRIPTION:Herren Nationalliga C Gruppe 1\nBegegnungs-Nr: 9\nHeim: Cortaillod\nGast: ZZ-Lancy II\n\nAdresse: Coteaux 1\, 2016 Cortaillod\n
LOCATION:Coteaux 1\, 2016 Cortaillod
CATEGORIES:Saison 2025/26
END:VEVENT
BEGIN:VEVENT
DTSTAMP:20260424T103950Z
DTSTART;TZID=Europe/Berlin:20260418T170000
DTEND;TZID=Europe/Berlin:20260418T200000
SUMMARY:HE NLC Gr. 1 Cortaillod vs Versoix (23)
UID:cf60fbf5-728c-4d36-9f99-2945a810b3e3
STATUS:CONFIRMED
LAST-MODIFIED:20260420T082445Z
DESCRIPTION:Herren Nationalliga C Gruppe 1\nBegegnungs-Nr: 23\nHeim: Cortaillod\nGast: Versoix\n\nAdresse: Coteaux 1\, 2016 Cortaillod\n
LOCATION:Coteaux 1\, 2016 Cortaillod
CATEGORIES:Saison 2025/26
END:VEVENT
BEGIN:VEVENT
DTSTAMP:20260424T103950Z
DTSTART;TZID=Europe/Berlin:20260419T150000
DTEND;TZID=Europe/Berlin:20260419T180000
SUMMARY:HE NLC Gr. 1 Cortaillod vs Lausanne (26)
UID:610923d2-1d04-4a70-a80f-de1a7192443f
STATUS:CONFIRMED
LAST-MODIFIED:20260420T082737Z
DESCRIPTION:Herren Nationalliga C Gruppe 1\nBegegnungs-Nr: 26\nHeim: Cortaillod\nGast: Lausanne\n\nAdresse: Coteaux 1\, 2016 Cortaillod\n
LOCATION:Coteaux 1\, 2016 Cortaillod
CATEGORIES:Saison 2025/26
END:VEVENT
BEGIN:VEVENT
DTSTAMP:20260424T103950Z
DTSTART;TZID=Europe/Berlin:20251206T160000
DTEND;TZID=Europe/Berlin:20251206T190000
SUMMARY:HE NLC Gr. 1 Lausanne vs Cortaillod (26)
UID:5bb69950-a412-4cf4-991f-67f897463b50
STATUS:CONFIRMED
LAST-MODIFIED:20251209T094656Z
DESCRIPTION:Herren Nationalliga C Gruppe 1\nBegegnungs-Nr: 26\nHeim: Lausanne\nGast: Cortaillod\n\nAdresse: Vaudoise Aréna\, Ch. du Viaduc 14\, 1008 Prilly\n
LOCATION:Vaudoise Aréna\, Ch. du Viaduc 14\, 1008 Prilly
CATEGORIES:Saison 2025/26
END:VEVENT
BEGIN:VEVENT
DTSTAMP:20260424T103950Z
DTSTART;TZID=Europe/Berlin:20250913T150000
DTEND;TZID=Europe/Berlin:20250913T180000
SUMMARY:HE NLC Gr. 1 UGS-Chênois II vs Cortaillod (3)
UID:9c763c89-a62f-419b-a0d0-3c0a8d2f93ae
STATUS:CONFIRMED
LAST-MODIFIED:20250918T112300Z
DESCRIPTION:Herren Nationalliga C Gruppe 1\nBegegnungs-Nr: 3\nHeim: UGS-Chênois II\nGast: Cortaillod\n\nAdresse: Route de Frontenex 68\, 1208 Genève\n
LOCATION:Route de Frontenex 68\, 1208 Genève
CATEGORIES:Saison 2025/26
END:VEVENT
BEGIN:VEVENT
DTSTAMP:20260424T103950Z
DTSTART;TZID=Europe/Berlin:20251011T150000
DTEND;TZID=Europe/Berlin:20251011T180000
SUMMARY:HE NLC Gr. 1 ZZ-Lancy II vs Cortaillod (9)
UID:0d5bc9ec-d4ef-42bd-8a9c-5d85c2fa7b68
STATUS:CONFIRMED
LAST-MODIFIED:20251013T101250Z
DESCRIPTION:Herren Nationalliga C Gruppe 1\nBegegnungs-Nr: 9\nHeim: ZZ-Lancy II\nGast: Cortaillod\n\nAdresse: Avenue du Curé-Baud 40\, 1212 Grand-Lancy\n
LOCATION:Avenue du Curé-Baud 40\, 1212 Grand-Lancy
CATEGORIES:Saison 2025/26
END:VEVENT
BEGIN:VEVENT
DTSTAMP:20260424T103950Z
DTSTART;TZID=Europe/Berlin:20251122T170000
DTEND;TZID=Europe/Berlin:20251122T200000
SUMMARY:HE NLC Gr. 1 Versoix vs Cortaillod (23)
UID:e20922bf-eb88-4671-b99b-7a27ef71544c
STATUS:CONFIRMED
LAST-MODIFIED:20251126T101413Z
DESCRIPTION:Herren Nationalliga C Gruppe 1\nBegegnungs-Nr: 23\nHeim: Versoix\nGast: Cortaillod\n\nAdresse: Chemin Ami-Argand 40\, 1290 Versoix\n
LOCATION:Chemin Ami-Argand 40\, 1290 Versoix
CATEGORIES:Saison 2025/26
END:VEVENT
BEGIN:VEVENT
DTSTAMP:20260424T103950Z
DTSTART;TZID=Europe/Berlin:20260201T130000
DTEND;TZID=Europe/Berlin:20260201T160000
SUMMARY:HE NLC Gr. 1 Bernex vs Cortaillod (6)
UID:eafc9566-ad3b-4423-8830-c52f37a6d9fb
STATUS:CONFIRMED
LAST-MODIFIED:20260203T081314Z
DESCRIPTION:Herren Nationalliga C Gruppe 1\nBegegnungs-Nr: 6\nHeim: Bernex\nGast: Cortaillod\n\nAdresse: Chemin de Saule 120\, 1233 Bernex\n
LOCATION:Chemin de Saule 120\, 1233 Bernex
CATEGORIES:Saison 2025/26
END:VEVENT
BEGIN:VEVENT
DTSTAMP:20260424T103950Z
DTSTART;TZID=Europe/Berlin:20260301T143000
DTEND;TZID=Europe/Berlin:20260301T173000
SUMMARY:HE NLC Gr. 1 Meyrin vs Cortaillod (15)
UID:b761e9fe-889c-40f6-947f-afc2480d0183
STATUS:CONFIRMED
LAST-MODIFIED:20260302T214738Z
DESCRIPTION:Herren Nationalliga C Gruppe 1\nBegegnungs-Nr: 15\nHeim: Meyrin\nGast: Cortaillod\n\nAdresse: Rue De-Livron 2\, 1217 Meyrin\n
LOCATION:Rue De-Livron 2\, 1217 Meyrin
CATEGORIES:Saison 2025/26
END:VEVENT
BEGIN:VEVENT
DTSTAMP:20260424T103950Z
DTSTART;TZID=Europe/Berlin:20260328T150000
DTEND;TZID=Europe/Berlin:20260328T180000
SUMMARY:HE NLC Gr. 1 Forward-Morges vs Cortaillod (20)
UID:9765d49a-f143-48ae-bc0f-ee2399958a43
STATUS:CONFIRMED
LAST-MODIFIED:20260330T075658Z
DESCRIPTION:Herren Nationalliga C Gruppe 1\nBegegnungs-Nr: 20\nHeim: Forward-Morges\nGast: Cortaillod\n\nAdresse: Chemin de Tolochenaz\, 1110 Morges\n
LOCATION:Chemin de Tolochenaz\, 1110 Morges
CATEGORIES:Saison 2025/26
END:VEVENT
END:VCALENDAR
