BEGIN:VCALENDAR
PRODID:-//nuDatenautomaten//framework iCal4j //DE
VERSION:2.0
CALSCALE:GREGORIAN
BEGIN:VTIMEZONE
TZID:Europe/Berlin
LAST-MODIFIED:20260306T231828Z
TZURL:https://www.tzurl.org/zoneinfo/Europe/Berlin
X-LIC-LOCATION:Europe/Berlin
X-PROLEPTIC-TZNAME:LMT
BEGIN:STANDARD
TZNAME:CET
TZOFFSETFROM:+005328
TZOFFSETTO:+0100
DTSTART:18930401T000000
END:STANDARD
BEGIN:DAYLIGHT
TZNAME:CEST
TZOFFSETFROM:+0100
TZOFFSETTO:+0200
DTSTART:19160430T230000
RDATE:19400401T020000
RDATE:19430329T020000
RDATE:19460414T020000
RDATE:19470406T030000
RDATE:19480418T020000
RDATE:19490410T020000
RDATE:19800406T020000
END:DAYLIGHT
BEGIN:STANDARD
TZNAME:CET
TZOFFSETFROM:+0200
TZOFFSETTO:+0100
DTSTART:19161001T010000
RDATE:19421102T030000
RDATE:19431004T030000
RDATE:19441002T030000
RDATE:19451118T030000
RDATE:19461007T030000
END:STANDARD
BEGIN:DAYLIGHT
TZNAME:CEST
TZOFFSETFROM:+0100
TZOFFSETTO:+0200
DTSTART:19170416T020000
RRULE:FREQ=YEARLY;UNTIL=19180415T010000Z;BYMONTH=4;BYDAY=3MO
END:DAYLIGHT
BEGIN:STANDARD
TZNAME:CET
TZOFFSETFROM:+0200
TZOFFSETTO:+0100
DTSTART:19170917T030000
RRULE:FREQ=YEARLY;UNTIL=19180916T010000Z;BYMONTH=9;BYDAY=3MO
END:STANDARD
BEGIN:DAYLIGHT
TZNAME:CEST
TZOFFSETFROM:+0100
TZOFFSETTO:+0200
DTSTART:19440403T020000
RRULE:FREQ=YEARLY;UNTIL=19450402T010000Z;BYMONTH=4;BYDAY=1MO
END:DAYLIGHT
BEGIN:DAYLIGHT
TZNAME:CEMT
TZOFFSETFROM:+0200
TZOFFSETTO:+0300
DTSTART:19450524T020000
RDATE:19470511T030000
END:DAYLIGHT
BEGIN:DAYLIGHT
TZNAME:CEST
TZOFFSETFROM:+0300
TZOFFSETTO:+0200
DTSTART:19450924T030000
RDATE:19470629T030000
END:DAYLIGHT
BEGIN:STANDARD
TZNAME:CET
TZOFFSETFROM:+0100
TZOFFSETTO:+0100
DTSTART:19460101T000000
RDATE:19800101T000000
END:STANDARD
BEGIN:STANDARD
TZNAME:CET
TZOFFSETFROM:+0200
TZOFFSETTO:+0100
DTSTART:19471005T030000
RRULE:FREQ=YEARLY;UNTIL=19491002T010000Z;BYMONTH=10;BYDAY=1SU
END:STANDARD
BEGIN:STANDARD
TZNAME:CET
TZOFFSETFROM:+0200
TZOFFSETTO:+0100
DTSTART:19800928T030000
RRULE:FREQ=YEARLY;UNTIL=19950924T010000Z;BYMONTH=9;BYDAY=-1SU
END:STANDARD
BEGIN:DAYLIGHT
TZNAME:CEST
TZOFFSETFROM:+0100
TZOFFSETTO:+0200
DTSTART:19810329T020000
RRULE:FREQ=YEARLY;BYMONTH=3;BYDAY=-1SU
END:DAYLIGHT
BEGIN:STANDARD
TZNAME:CET
TZOFFSETFROM:+0200
TZOFFSETTO:+0100
DTSTART:19961027T030000
RRULE:FREQ=YEARLY;BYMONTH=10;BYDAY=-1SU
END:STANDARD
END:VTIMEZONE
BEGIN:VEVENT
DTSTAMP:20260424T135222Z
DTSTART;TZID=Europe/Berlin:20250911T193000
DTEND;TZID=Europe/Berlin:20250911T223000
SUMMARY:HE 2. Liga Gr. 2 Pinguin Zürich vs Niederhasli (0)
UID:912aa5ce-5250-49c9-ae1f-151437b6389f
STATUS:CONFIRMED
LAST-MODIFIED:20250915T082903Z
DESCRIPTION:2. Liga Herren Gruppe 2\nBegegnungs-Nr: 0\nHeim: Pinguin Zürich\nGast: Niederhasli\n\nAdresse: Grindelstrasse 20\, 8303 Bassersdorf\n
LOCATION:Grindelstrasse 20\, 8303 Bassersdorf
CATEGORIES:Saison 2025/26
END:VEVENT
BEGIN:VEVENT
DTSTAMP:20260424T135222Z
DTSTART;TZID=Europe/Berlin:20250912T193000
DTEND;TZID=Europe/Berlin:20250912T223000
SUMMARY:HE 2. Liga Gr. 2 Pinguin Zürich vs Affoltern A/A III (0)
UID:59a2ecdd-783f-4218-87e9-98088a052fec
STATUS:CONFIRMED
LAST-MODIFIED:20250915T082912Z
DESCRIPTION:2. Liga Herren Gruppe 2\nBegegnungs-Nr: 0\nHeim: Pinguin Zürich\nGast: Affoltern A/A III\n\nAdresse: Basteiplatz\, 8001 Zürich\n
LOCATION:Basteiplatz\, 8001 Zürich
CATEGORIES:Saison 2025/26
END:VEVENT
BEGIN:VEVENT
DTSTAMP:20260424T135222Z
DTSTART;TZID=Europe/Berlin:20251027T193000
DTEND;TZID=Europe/Berlin:20251027T223000
SUMMARY:HE 2. Liga Gr. 2 Pinguin Zürich vs Zürich-Affoltern III (0)
UID:c029f5ca-7295-45e5-b59f-7fca27efeef6
STATUS:CONFIRMED
LAST-MODIFIED:20251031T142628Z
DESCRIPTION:2. Liga Herren Gruppe 2\nBegegnungs-Nr: 0\nHeim: Pinguin Zürich\nGast: Zürich-Affoltern III\n\nAdresse: Basteiplatz\, 8001 Zürich\n
LOCATION:Basteiplatz\, 8001 Zürich
CATEGORIES:Saison 2025/26
END:VEVENT
BEGIN:VEVENT
DTSTAMP:20260424T135222Z
DTSTART;TZID=Europe/Berlin:20260105T193000
DTEND;TZID=Europe/Berlin:20260105T223000
SUMMARY:HE 2. Liga Gr. 2 Pinguin Zürich vs Wädenswil III (0)
UID:0d8c749e-d03d-48ee-ad08-338ea1bf1646
STATUS:CONFIRMED
LAST-MODIFIED:20260112T090641Z
DESCRIPTION:2. Liga Herren Gruppe 2\nBegegnungs-Nr: 0\nHeim: Pinguin Zürich\nGast: Wädenswil III\n\nAdresse: Basteiplatz\, 8001 Zürich\n
LOCATION:Basteiplatz\, 8001 Zürich
CATEGORIES:Saison 2025/26
END:VEVENT
BEGIN:VEVENT
DTSTAMP:20260424T135222Z
DTSTART;TZID=Europe/Berlin:20260126T193000
DTEND;TZID=Europe/Berlin:20260126T223000
SUMMARY:HE 2. Liga Gr. 2 Pinguin Zürich vs Rapperswil-Jona IV (0)
UID:f147fd9a-6700-468c-99f8-4681d24f1b76
STATUS:CONFIRMED
LAST-MODIFIED:20260127T133909Z
DESCRIPTION:2. Liga Herren Gruppe 2\nBegegnungs-Nr: 0\nHeim: Pinguin Zürich\nGast: Rapperswil-Jona IV\n\nAdresse: Basteiplatz\, 8001 Zürich\n
LOCATION:Basteiplatz\, 8001 Zürich
CATEGORIES:Saison 2025/26
END:VEVENT
BEGIN:VEVENT
DTSTAMP:20260424T135222Z
DTSTART;TZID=Europe/Berlin:20260323T193000
DTEND;TZID=Europe/Berlin:20260323T223000
SUMMARY:HE 2. Liga Gr. 2 Pinguin Zürich vs Bronschhofen II (0)
UID:12a2be2e-6459-4dd1-aea6-e96225be2e02
STATUS:CONFIRMED
LAST-MODIFIED:20260326T125620Z
DESCRIPTION:2. Liga Herren Gruppe 2\nBegegnungs-Nr: 0\nHeim: Pinguin Zürich\nGast: Bronschhofen II\n\nAdresse: Basteiplatz\, 8001 Zürich\n
LOCATION:Basteiplatz\, 8001 Zürich
CATEGORIES:Saison 2025/26
END:VEVENT
BEGIN:VEVENT
DTSTAMP:20260424T135222Z
DTSTART;TZID=Europe/Berlin:20260413T193000
DTEND;TZID=Europe/Berlin:20260413T223000
SUMMARY:HE 2. Liga Gr. 2 Pinguin Zürich vs Young Stars ZH IV (0)
UID:b3f81b42-0e72-47fa-9f1e-59f1e0dbfce9
STATUS:CONFIRMED
DESCRIPTION:2. Liga Herren Gruppe 2\nBegegnungs-Nr: 0\nHeim: Pinguin Zürich\nGast: Young Stars ZH IV\n\nAdresse: Basteiplatz\, 8001 Zürich\n
LOCATION:Basteiplatz\, 8001 Zürich
CATEGORIES:Saison 2025/26
END:VEVENT
BEGIN:VEVENT
DTSTAMP:20260424T135222Z
DTSTART;TZID=Europe/Berlin:20250828T201500
DTEND;TZID=Europe/Berlin:20250828T231500
SUMMARY:HE 2. Liga Gr. 2 Wädenswil III vs Pinguin Zürich (0)
UID:909d2b8d-1842-4be4-b4ea-72879ad382ac
STATUS:CONFIRMED
LAST-MODIFIED:20250829T142830Z
DESCRIPTION:2. Liga Herren Gruppe 2\nBegegnungs-Nr: 0\nHeim: Wädenswil III\nGast: Pinguin Zürich\n\nAdresse: Speerstrasse 95\, 8820 Wädenswil\n
LOCATION:Speerstrasse 95\, 8820 Wädenswil
CATEGORIES:Saison 2025/26
END:VEVENT
BEGIN:VEVENT
DTSTAMP:20260424T135222Z
DTSTART;TZID=Europe/Berlin:20251004T130000
DTEND;TZID=Europe/Berlin:20251004T160000
SUMMARY:HE 2. Liga Gr. 2 Rapperswil-Jona IV vs Pinguin Zürich (0)
UID:7c267d39-fae8-4b60-9beb-b1586db273d0
STATUS:CONFIRMED
LAST-MODIFIED:20251007T054604Z
DESCRIPTION:2. Liga Herren Gruppe 2\nBegegnungs-Nr: 0\nHeim: Rapperswil-Jona IV\nGast: Pinguin Zürich\n\nAdresse: Kreuzstrasse 43\, 8640 Rapperswil\n
LOCATION:Kreuzstrasse 43\, 8640 Rapperswil
CATEGORIES:Saison 2025/26
END:VEVENT
BEGIN:VEVENT
DTSTAMP:20260424T135222Z
DTSTART;TZID=Europe/Berlin:20251201T200000
DTEND;TZID=Europe/Berlin:20251201T230000
SUMMARY:HE 2. Liga Gr. 2 Bronschhofen II vs Pinguin Zürich (0)
UID:0658792f-c3b1-4c23-b86b-cdea4a2f40e5
STATUS:CONFIRMED
LAST-MODIFIED:20251205T125029Z
DESCRIPTION:2. Liga Herren Gruppe 2\nBegegnungs-Nr: 0\nHeim: Bronschhofen II\nGast: Pinguin Zürich\n\nAdresse: Industriestrasse 4\, 9552 Bronschhofen\n
LOCATION:Industriestrasse 4\, 9552 Bronschhofen
CATEGORIES:Saison 2025/26
END:VEVENT
BEGIN:VEVENT
DTSTAMP:20260424T135222Z
DTSTART;TZID=Europe/Berlin:20251203T201500
DTEND;TZID=Europe/Berlin:20251203T231500
SUMMARY:HE 2. Liga Gr. 2 Young Stars ZH IV vs Pinguin Zürich (0)
UID:2080845e-888a-4be6-b3c0-0aa9e44f0d58
STATUS:CONFIRMED
LAST-MODIFIED:20251205T125119Z
DESCRIPTION:2. Liga Herren Gruppe 2\nBegegnungs-Nr: 0\nHeim: Young Stars ZH IV\nGast: Pinguin Zürich\n\nAdresse: Seefeldstrasse 93\, 8008 Zürich\n
LOCATION:Seefeldstrasse 93\, 8008 Zürich
CATEGORIES:Saison 2025/26
END:VEVENT
BEGIN:VEVENT
DTSTAMP:20260424T135222Z
DTSTART;TZID=Europe/Berlin:20260120T193000
DTEND;TZID=Europe/Berlin:20260120T223000
SUMMARY:HE 2. Liga Gr. 2 Niederhasli vs Pinguin Zürich (0)
UID:6e792721-4513-4595-a147-9094c7181030
STATUS:CONFIRMED
LAST-MODIFIED:20260121T092421Z
DESCRIPTION:2. Liga Herren Gruppe 2\nBegegnungs-Nr: 0\nHeim: Niederhasli\nGast: Pinguin Zürich\n\nAdresse: Dorfstrasse 22\, 8155 Niederhasli\n
LOCATION:Dorfstrasse 22\, 8155 Niederhasli
CATEGORIES:Saison 2025/26
END:VEVENT
BEGIN:VEVENT
DTSTAMP:20260424T135222Z
DTSTART;TZID=Europe/Berlin:20260305T193000
DTEND;TZID=Europe/Berlin:20260305T223000
SUMMARY:HE 2. Liga Gr. 2 Affoltern A/A III vs Pinguin Zürich (0)
UID:a0867286-8914-4ed3-adf4-a5a04924dd7e
STATUS:CONFIRMED
LAST-MODIFIED:20260310T153906Z
DESCRIPTION:2. Liga Herren Gruppe 2\nBegegnungs-Nr: 0\nHeim: Affoltern A/A III\nGast: Pinguin Zürich\n\nAdresse: Butzenstrasse 8\, 8910 Affoltern am Albis\n
LOCATION:Butzenstrasse 8\, 8910 Affoltern am Albis
CATEGORIES:Saison 2025/26
END:VEVENT
BEGIN:VEVENT
DTSTAMP:20260424T135222Z
DTSTART;TZID=Europe/Berlin:20260313T201500
DTEND;TZID=Europe/Berlin:20260313T231500
SUMMARY:HE 2. Liga Gr. 2 Zürich-Affoltern III vs Pinguin Zürich (0)
UID:eb6d0850-4300-42a3-ae0f-d6b3130f8382
STATUS:CONFIRMED
LAST-MODIFIED:20260316T135806Z
DESCRIPTION:2. Liga Herren Gruppe 2\nBegegnungs-Nr: 0\nHeim: Zürich-Affoltern III\nGast: Pinguin Zürich\n\nAdresse: Rümlangstr. 89\, 8052 Zürich\n
LOCATION:Rümlangstr. 89\, 8052 Zürich
CATEGORIES:Saison 2025/26
END:VEVENT
END:VCALENDAR
