BEGIN:VCALENDAR
PRODID:-//nuDatenautomaten//framework iCal4j //DE
VERSION:2.0
CALSCALE:GREGORIAN
BEGIN:VTIMEZONE
TZID:Europe/Berlin
LAST-MODIFIED:20260306T231828Z
TZURL:https://www.tzurl.org/zoneinfo/Europe/Berlin
X-LIC-LOCATION:Europe/Berlin
X-PROLEPTIC-TZNAME:LMT
BEGIN:STANDARD
TZNAME:CET
TZOFFSETFROM:+005328
TZOFFSETTO:+0100
DTSTART:18930401T000000
END:STANDARD
BEGIN:DAYLIGHT
TZNAME:CEST
TZOFFSETFROM:+0100
TZOFFSETTO:+0200
DTSTART:19160430T230000
RDATE:19400401T020000
RDATE:19430329T020000
RDATE:19460414T020000
RDATE:19470406T030000
RDATE:19480418T020000
RDATE:19490410T020000
RDATE:19800406T020000
END:DAYLIGHT
BEGIN:STANDARD
TZNAME:CET
TZOFFSETFROM:+0200
TZOFFSETTO:+0100
DTSTART:19161001T010000
RDATE:19421102T030000
RDATE:19431004T030000
RDATE:19441002T030000
RDATE:19451118T030000
RDATE:19461007T030000
END:STANDARD
BEGIN:DAYLIGHT
TZNAME:CEST
TZOFFSETFROM:+0100
TZOFFSETTO:+0200
DTSTART:19170416T020000
RRULE:FREQ=YEARLY;UNTIL=19180415T010000Z;BYMONTH=4;BYDAY=3MO
END:DAYLIGHT
BEGIN:STANDARD
TZNAME:CET
TZOFFSETFROM:+0200
TZOFFSETTO:+0100
DTSTART:19170917T030000
RRULE:FREQ=YEARLY;UNTIL=19180916T010000Z;BYMONTH=9;BYDAY=3MO
END:STANDARD
BEGIN:DAYLIGHT
TZNAME:CEST
TZOFFSETFROM:+0100
TZOFFSETTO:+0200
DTSTART:19440403T020000
RRULE:FREQ=YEARLY;UNTIL=19450402T010000Z;BYMONTH=4;BYDAY=1MO
END:DAYLIGHT
BEGIN:DAYLIGHT
TZNAME:CEMT
TZOFFSETFROM:+0200
TZOFFSETTO:+0300
DTSTART:19450524T020000
RDATE:19470511T030000
END:DAYLIGHT
BEGIN:DAYLIGHT
TZNAME:CEST
TZOFFSETFROM:+0300
TZOFFSETTO:+0200
DTSTART:19450924T030000
RDATE:19470629T030000
END:DAYLIGHT
BEGIN:STANDARD
TZNAME:CET
TZOFFSETFROM:+0100
TZOFFSETTO:+0100
DTSTART:19460101T000000
RDATE:19800101T000000
END:STANDARD
BEGIN:STANDARD
TZNAME:CET
TZOFFSETFROM:+0200
TZOFFSETTO:+0100
DTSTART:19471005T030000
RRULE:FREQ=YEARLY;UNTIL=19491002T010000Z;BYMONTH=10;BYDAY=1SU
END:STANDARD
BEGIN:STANDARD
TZNAME:CET
TZOFFSETFROM:+0200
TZOFFSETTO:+0100
DTSTART:19800928T030000
RRULE:FREQ=YEARLY;UNTIL=19950924T010000Z;BYMONTH=9;BYDAY=-1SU
END:STANDARD
BEGIN:DAYLIGHT
TZNAME:CEST
TZOFFSETFROM:+0100
TZOFFSETTO:+0200
DTSTART:19810329T020000
RRULE:FREQ=YEARLY;BYMONTH=3;BYDAY=-1SU
END:DAYLIGHT
BEGIN:STANDARD
TZNAME:CET
TZOFFSETFROM:+0200
TZOFFSETTO:+0100
DTSTART:19961027T030000
RRULE:FREQ=YEARLY;BYMONTH=10;BYDAY=-1SU
END:STANDARD
END:VTIMEZONE
BEGIN:VEVENT
DTSTAMP:20260424T114857Z
DTSTART;TZID=Europe/Berlin:20250909T193000
DTEND;TZID=Europe/Berlin:20250909T223000
SUMMARY:ME L6 Gr 3\, Tours 1&2 Romont-Villaz IV vs Château d'Oex (0)
UID:4a0574a9-5c5f-4f59-876b-758b3d975884
STATUS:CONFIRMED
LAST-MODIFIED:20250910T231054Z
DESCRIPTION:6ème ligue Hommes Groupe 3\, Tours 1&2\nBegegnungs-Nr: 0\nHeim: Romont-Villaz IV\nGast: Château d'Oex\n\nAdresse: Route de la Gare 5\, 1690 Villaz-St-Pierre\n
LOCATION:Route de la Gare 5\, 1690 Villaz-St-Pierre
CATEGORIES:Saison 2025/26
END:VEVENT
BEGIN:VEVENT
DTSTAMP:20260424T114857Z
DTSTART;TZID=Europe/Berlin:20250916T193000
DTEND;TZID=Europe/Berlin:20250916T223000
SUMMARY:ME L6 Gr 3\, Tours 1&2 Romont-Villaz IV vs Bulle VII (0)
UID:244b0e60-8060-4875-870f-68bf9798a036
STATUS:CONFIRMED
LAST-MODIFIED:20250916T220907Z
DESCRIPTION:6ème ligue Hommes Groupe 3\, Tours 1&2\nBegegnungs-Nr: 0\nHeim: Romont-Villaz IV\nGast: Bulle VII\n\nAdresse: Route de la Gare 5\, 1690 Villaz-St-Pierre\n
LOCATION:Route de la Gare 5\, 1690 Villaz-St-Pierre
CATEGORIES:Saison 2025/26
END:VEVENT
BEGIN:VEVENT
DTSTAMP:20260424T114857Z
DTSTART;TZID=Europe/Berlin:20251028T193000
DTEND;TZID=Europe/Berlin:20251028T223000
SUMMARY:ME L6 Gr 3\, Tours 1&2 Romont-Villaz IV vs Blonay IV (0)
UID:161ae8e2-accb-4dd5-b812-0cab9ff23ed2
STATUS:CONFIRMED
LAST-MODIFIED:20251030T105955Z
DESCRIPTION:6ème ligue Hommes Groupe 3\, Tours 1&2\nBegegnungs-Nr: 0\nHeim: Romont-Villaz IV\nGast: Blonay IV\n\nAdresse: Route de la Gare 5\, 1690 Villaz-St-Pierre\n
LOCATION:Route de la Gare 5\, 1690 Villaz-St-Pierre
CATEGORIES:Saison 2025/26
END:VEVENT
BEGIN:VEVENT
DTSTAMP:20260424T114857Z
DTSTART;TZID=Europe/Berlin:20251014T193000
DTEND;TZID=Europe/Berlin:20251014T223000
SUMMARY:ME L6 Gr 3\, Tours 1&2 Romont-Villaz IV vs Chexbres IV (0)
UID:58c9d6e0-3c93-4cbc-86ee-e34afd35fd6d
STATUS:CONFIRMED
LAST-MODIFIED:20251015T213035Z
DESCRIPTION:6ème ligue Hommes Groupe 3\, Tours 1&2\nBegegnungs-Nr: 0\nHeim: Romont-Villaz IV\nGast: Chexbres IV\n\nAdresse: Route de la Gare 5\, 1690 Villaz-St-Pierre\n
LOCATION:Route de la Gare 5\, 1690 Villaz-St-Pierre
CATEGORIES:Saison 2025/26
END:VEVENT
BEGIN:VEVENT
DTSTAMP:20260424T114857Z
DTSTART;TZID=Europe/Berlin:20251209T193000
DTEND;TZID=Europe/Berlin:20251209T223000
SUMMARY:ME L6 Gr 3\, Tours 1&2 Romont-Villaz IV vs Vevey III (0)
UID:cd6f9f6e-440a-4bb4-8dd8-8d95467b22a7
STATUS:CONFIRMED
LAST-MODIFIED:20251211T055837Z
DESCRIPTION:6ème ligue Hommes Groupe 3\, Tours 1&2\nBegegnungs-Nr: 0\nHeim: Romont-Villaz IV\nGast: Vevey III\n\nAdresse: Route de la Gare 5\, 1690 Villaz-St-Pierre\n
LOCATION:Route de la Gare 5\, 1690 Villaz-St-Pierre
CATEGORIES:Saison 2025/26
END:VEVENT
BEGIN:VEVENT
DTSTAMP:20260424T114857Z
DTSTART;TZID=Europe/Berlin:20260113T193000
DTEND;TZID=Europe/Berlin:20260113T223000
SUMMARY:ME L6 Gr 3\, Tours 3&4 Romont-Villaz IV vs Romont-Villaz III (0)
UID:ce506ee7-21f7-4cd7-848d-d60f66109c9d
STATUS:CONFIRMED
LAST-MODIFIED:20260114T192726Z
DESCRIPTION:6ème ligue Hommes Groupe 3\, Tours 3&4\nBegegnungs-Nr: 0\nHeim: Romont-Villaz IV\nGast: Romont-Villaz III\n\nAdresse: Route de la Gare 5\, 1690 Villaz-St-Pierre\n
LOCATION:Route de la Gare 5\, 1690 Villaz-St-Pierre
CATEGORIES:Saison 2025/26
END:VEVENT
BEGIN:VEVENT
DTSTAMP:20260424T114857Z
DTSTART;TZID=Europe/Berlin:20260217T193000
DTEND;TZID=Europe/Berlin:20260217T223000
SUMMARY:ME L6 Gr 3\, Tours 3&4 Romont-Villaz IV vs Estavayer II (0)
UID:071970ab-08a7-4db4-a738-af6c644bb115
STATUS:CONFIRMED
LAST-MODIFIED:20260218T112734Z
DESCRIPTION:6ème ligue Hommes Groupe 3\, Tours 3&4\nBegegnungs-Nr: 0\nHeim: Romont-Villaz IV\nGast: Estavayer II\n\nAdresse: Route de la Gare 5\, 1690 Villaz-St-Pierre\n
LOCATION:Route de la Gare 5\, 1690 Villaz-St-Pierre
CATEGORIES:Saison 2025/26
END:VEVENT
BEGIN:VEVENT
DTSTAMP:20260424T114857Z
DTSTART;TZID=Europe/Berlin:20260224T193000
DTEND;TZID=Europe/Berlin:20260224T223000
SUMMARY:ME L6 Gr 3\, Tours 3&4 Romont-Villaz IV vs Mézières III (0)
UID:1f2b3628-3b1a-4e65-9409-1cafd9569823
STATUS:CONFIRMED
LAST-MODIFIED:20260227T133218Z
DESCRIPTION:6ème ligue Hommes Groupe 3\, Tours 3&4\nBegegnungs-Nr: 0\nHeim: Romont-Villaz IV\nGast: Mézières III\n\nAdresse: Route de la Gare 5\, 1690 Villaz-St-Pierre\n
LOCATION:Route de la Gare 5\, 1690 Villaz-St-Pierre
CATEGORIES:Saison 2025/26
END:VEVENT
BEGIN:VEVENT
DTSTAMP:20260424T114857Z
DTSTART;TZID=Europe/Berlin:20260317T193000
DTEND;TZID=Europe/Berlin:20260317T223000
SUMMARY:ME L6 Gr 3\, Tours 3&4 Romont-Villaz IV vs Cheyres II (0)
UID:c5e8b5c0-3abb-476a-9487-d9d09f8cdeb5
STATUS:CONFIRMED
LAST-MODIFIED:20260321T102806Z
DESCRIPTION:6ème ligue Hommes Groupe 3\, Tours 3&4\nBegegnungs-Nr: 0\nHeim: Romont-Villaz IV\nGast: Cheyres II\n\nAdresse: Route de la Gare 5\, 1690 Villaz-St-Pierre\n
LOCATION:Route de la Gare 5\, 1690 Villaz-St-Pierre
CATEGORIES:Saison 2025/26
END:VEVENT
BEGIN:VEVENT
DTSTAMP:20260424T114857Z
DTSTART;TZID=Europe/Berlin:20260414T193000
DTEND;TZID=Europe/Berlin:20260414T223000
SUMMARY:ME L6 Gr 3\, Tours 3&4 Romont-Villaz IV vs Matran II (0)
UID:cea46c96-6bbc-4756-a50f-f76e543f7f5c
STATUS:CONFIRMED
LAST-MODIFIED:20260417T193541Z
DESCRIPTION:6ème ligue Hommes Groupe 3\, Tours 3&4\nBegegnungs-Nr: 0\nHeim: Romont-Villaz IV\nGast: Matran II\n\nAdresse: Route de la Gare 5\, 1690 Villaz-St-Pierre\n
LOCATION:Route de la Gare 5\, 1690 Villaz-St-Pierre
CATEGORIES:Saison 2025/26
END:VEVENT
BEGIN:VEVENT
DTSTAMP:20260424T114857Z
DTSTART;TZID=Europe/Berlin:20250904T200000
DTEND;TZID=Europe/Berlin:20250904T230000
SUMMARY:ME L6 Gr 3\, Tours 1&2 Blonay IV vs Romont-Villaz IV (0)
UID:b71f2126-aa81-4cc3-9435-a3c8d5a2e2ac
STATUS:CONFIRMED
LAST-MODIFIED:20250904T215737Z
DESCRIPTION:6ème ligue Hommes Groupe 3\, Tours 1&2\nBegegnungs-Nr: 0\nHeim: Blonay IV\nGast: Romont-Villaz IV\n\nAdresse: Route de Prélaz 2\, 1807 Blonay\n
LOCATION:Route de Prélaz 2\, 1807 Blonay
CATEGORIES:Saison 2025/26
END:VEVENT
BEGIN:VEVENT
DTSTAMP:20260424T114857Z
DTSTART;TZID=Europe/Berlin:20250929T193000
DTEND;TZID=Europe/Berlin:20250929T223000
SUMMARY:ME L6 Gr 3\, Tours 1&2 Chexbres IV vs Romont-Villaz IV (0)
UID:2dd3b21d-347b-4cf8-888a-0434bd1b54c9
STATUS:CONFIRMED
LAST-MODIFIED:20250930T095902Z
DESCRIPTION:6ème ligue Hommes Groupe 3\, Tours 1&2\nBegegnungs-Nr: 0\nHeim: Chexbres IV\nGast: Romont-Villaz IV\n\nAdresse: Entre Deux Villes\, 1814 La Tour-de-Peilz\n
LOCATION:Entre Deux Villes\, 1814 La Tour-de-Peilz
CATEGORIES:Saison 2025/26
END:VEVENT
BEGIN:VEVENT
DTSTAMP:20260424T114857Z
DTSTART;TZID=Europe/Berlin:20251006T200000
DTEND;TZID=Europe/Berlin:20251006T230000
SUMMARY:ME L6 Gr 3\, Tours 1&2 Vevey III vs Romont-Villaz IV (0)
UID:ca68d0b5-ec91-4b6a-aa3f-da9f6424206a
STATUS:CONFIRMED
LAST-MODIFIED:20251008T155437Z
DESCRIPTION:6ème ligue Hommes Groupe 3\, Tours 1&2\nBegegnungs-Nr: 0\nHeim: Vevey III\nGast: Romont-Villaz IV\n\nAdresse: Rue Louis-Meyer\, 1800 Vevey\n
LOCATION:Rue Louis-Meyer\, 1800 Vevey
CATEGORIES:Saison 2025/26
END:VEVENT
BEGIN:VEVENT
DTSTAMP:20260424T114857Z
DTSTART;TZID=Europe/Berlin:20251106T194500
DTEND;TZID=Europe/Berlin:20251106T224500
SUMMARY:ME L6 Gr 3\, Tours 1&2 Château d'Oex vs Romont-Villaz IV (0)
UID:0a461849-db45-466c-acab-05694fd524d1
STATUS:CONFIRMED
LAST-MODIFIED:20251109T122825Z
DESCRIPTION:6ème ligue Hommes Groupe 3\, Tours 1&2\nBegegnungs-Nr: 0\nHeim: Château d'Oex\nGast: Romont-Villaz IV\n\nAdresse: rte du Périsset 7\, 1660 Château d'Oex\n
LOCATION:rte du Périsset 7\, 1660 Château d'Oex
CATEGORIES:Saison 2025/26
END:VEVENT
BEGIN:VEVENT
DTSTAMP:20260424T114857Z
DTSTART;TZID=Europe/Berlin:20251121T200000
DTEND;TZID=Europe/Berlin:20251121T230000
SUMMARY:ME L6 Gr 3\, Tours 1&2 Bulle VII vs Romont-Villaz IV (0)
UID:fe74e271-d0e6-46f7-b058-185f86c53b4f
STATUS:CONFIRMED
LAST-MODIFIED:20251122T095815Z
DESCRIPTION:6ème ligue Hommes Groupe 3\, Tours 1&2\nBegegnungs-Nr: 0\nHeim: Bulle VII\nGast: Romont-Villaz IV\n\nAdresse: Rue du Stade 50\, 1630 Bulle\n
LOCATION:Rue du Stade 50\, 1630 Bulle
CATEGORIES:Saison 2025/26
END:VEVENT
BEGIN:VEVENT
DTSTAMP:20260424T114857Z
DTSTART;TZID=Europe/Berlin:20260122T194500
DTEND;TZID=Europe/Berlin:20260122T224500
SUMMARY:ME L6 Gr 3\, Tours 3&4 Cheyres II vs Romont-Villaz IV (0)
UID:1bce93dc-a24c-41ba-b781-456b0afc224b
STATUS:CONFIRMED
LAST-MODIFIED:20260122T225310Z
DESCRIPTION:6ème ligue Hommes Groupe 3\, Tours 3&4\nBegegnungs-Nr: 0\nHeim: Cheyres II\nGast: Romont-Villaz IV\n\nAdresse: Rue de la Gare 10\, 1468 Cheyres\n
LOCATION:Rue de la Gare 10\, 1468 Cheyres
CATEGORIES:Saison 2025/26
END:VEVENT
BEGIN:VEVENT
DTSTAMP:20260424T114857Z
DTSTART;TZID=Europe/Berlin:20260202T200000
DTEND;TZID=Europe/Berlin:20260202T230000
SUMMARY:ME L6 Gr 3\, Tours 3&4 Matran II vs Romont-Villaz IV (0)
UID:aac40ead-b4f7-4294-84ef-8382bc7d6ead
STATUS:CONFIRMED
LAST-MODIFIED:20260203T175415Z
DESCRIPTION:6ème ligue Hommes Groupe 3\, Tours 3&4\nBegegnungs-Nr: 0\nHeim: Matran II\nGast: Romont-Villaz IV\n\nAdresse: Route de l'Ecole\, 1753 Matran\n
LOCATION:Route de l'Ecole\, 1753 Matran
CATEGORIES:Saison 2025/26
END:VEVENT
BEGIN:VEVENT
DTSTAMP:20260424T114857Z
DTSTART;TZID=Europe/Berlin:20260310T193000
DTEND;TZID=Europe/Berlin:20260310T223000
SUMMARY:ME L6 Gr 3\, Tours 3&4 Romont-Villaz III vs Romont-Villaz IV (0)
UID:04db4b99-eefe-40a2-b9be-9fef119d8fbe
STATUS:CONFIRMED
LAST-MODIFIED:20260311T162015Z
DESCRIPTION:6ème ligue Hommes Groupe 3\, Tours 3&4\nBegegnungs-Nr: 0\nHeim: Romont-Villaz III\nGast: Romont-Villaz IV\n\nAdresse: Route de la Gare 5\, 1690 Villaz-St-Pierre\n
LOCATION:Route de la Gare 5\, 1690 Villaz-St-Pierre
CATEGORIES:Saison 2025/26
END:VEVENT
BEGIN:VEVENT
DTSTAMP:20260424T114857Z
DTSTART;TZID=Europe/Berlin:20260424T193000
DTEND;TZID=Europe/Berlin:20260424T223000
SUMMARY:ME L6 Gr 3\, Tours 3&4 Estavayer II vs Romont-Villaz IV (0)
UID:b68caba9-979d-4aa0-8735-26a8f6957ad6
STATUS:CONFIRMED
DESCRIPTION:6ème ligue Hommes Groupe 3\, Tours 3&4\nBegegnungs-Nr: 0\nHeim: Estavayer II\nGast: Romont-Villaz IV\n\nAdresse: Avenue de la Gare 111\, 1470 Estavayer-le-Lac\n
LOCATION:Avenue de la Gare 111\, 1470 Estavayer-le-Lac
CATEGORIES:Saison 2025/26
END:VEVENT
BEGIN:VEVENT
DTSTAMP:20260424T114857Z
DTSTART;TZID=Europe/Berlin:20260430T200000
DTEND;TZID=Europe/Berlin:20260430T230000
SUMMARY:ME L6 Gr 3\, Tours 3&4 Mézières III vs Romont-Villaz IV (0)
UID:99e590aa-92a5-4ffd-8fa5-15d8704d636c
STATUS:CONFIRMED
DESCRIPTION:6ème ligue Hommes Groupe 3\, Tours 3&4\nBegegnungs-Nr: 0\nHeim: Mézières III\nGast: Romont-Villaz IV\n\nAdresse: -\, 1083 Mézières\n
LOCATION:-\, 1083 Mézières
CATEGORIES:Saison 2025/26
END:VEVENT
END:VCALENDAR
