BEGIN:VCALENDAR
PRODID:-//nuDatenautomaten//framework iCal4j //DE
VERSION:2.0
CALSCALE:GREGORIAN
BEGIN:VTIMEZONE
TZID:Europe/Berlin
LAST-MODIFIED:20260306T231828Z
TZURL:https://www.tzurl.org/zoneinfo/Europe/Berlin
X-LIC-LOCATION:Europe/Berlin
X-PROLEPTIC-TZNAME:LMT
BEGIN:STANDARD
TZNAME:CET
TZOFFSETFROM:+005328
TZOFFSETTO:+0100
DTSTART:18930401T000000
END:STANDARD
BEGIN:DAYLIGHT
TZNAME:CEST
TZOFFSETFROM:+0100
TZOFFSETTO:+0200
DTSTART:19160430T230000
RDATE:19400401T020000
RDATE:19430329T020000
RDATE:19460414T020000
RDATE:19470406T030000
RDATE:19480418T020000
RDATE:19490410T020000
RDATE:19800406T020000
END:DAYLIGHT
BEGIN:STANDARD
TZNAME:CET
TZOFFSETFROM:+0200
TZOFFSETTO:+0100
DTSTART:19161001T010000
RDATE:19421102T030000
RDATE:19431004T030000
RDATE:19441002T030000
RDATE:19451118T030000
RDATE:19461007T030000
END:STANDARD
BEGIN:DAYLIGHT
TZNAME:CEST
TZOFFSETFROM:+0100
TZOFFSETTO:+0200
DTSTART:19170416T020000
RRULE:FREQ=YEARLY;UNTIL=19180415T010000Z;BYMONTH=4;BYDAY=3MO
END:DAYLIGHT
BEGIN:STANDARD
TZNAME:CET
TZOFFSETFROM:+0200
TZOFFSETTO:+0100
DTSTART:19170917T030000
RRULE:FREQ=YEARLY;UNTIL=19180916T010000Z;BYMONTH=9;BYDAY=3MO
END:STANDARD
BEGIN:DAYLIGHT
TZNAME:CEST
TZOFFSETFROM:+0100
TZOFFSETTO:+0200
DTSTART:19440403T020000
RRULE:FREQ=YEARLY;UNTIL=19450402T010000Z;BYMONTH=4;BYDAY=1MO
END:DAYLIGHT
BEGIN:DAYLIGHT
TZNAME:CEMT
TZOFFSETFROM:+0200
TZOFFSETTO:+0300
DTSTART:19450524T020000
RDATE:19470511T030000
END:DAYLIGHT
BEGIN:DAYLIGHT
TZNAME:CEST
TZOFFSETFROM:+0300
TZOFFSETTO:+0200
DTSTART:19450924T030000
RDATE:19470629T030000
END:DAYLIGHT
BEGIN:STANDARD
TZNAME:CET
TZOFFSETFROM:+0100
TZOFFSETTO:+0100
DTSTART:19460101T000000
RDATE:19800101T000000
END:STANDARD
BEGIN:STANDARD
TZNAME:CET
TZOFFSETFROM:+0200
TZOFFSETTO:+0100
DTSTART:19471005T030000
RRULE:FREQ=YEARLY;UNTIL=19491002T010000Z;BYMONTH=10;BYDAY=1SU
END:STANDARD
BEGIN:STANDARD
TZNAME:CET
TZOFFSETFROM:+0200
TZOFFSETTO:+0100
DTSTART:19800928T030000
RRULE:FREQ=YEARLY;UNTIL=19950924T010000Z;BYMONTH=9;BYDAY=-1SU
END:STANDARD
BEGIN:DAYLIGHT
TZNAME:CEST
TZOFFSETFROM:+0100
TZOFFSETTO:+0200
DTSTART:19810329T020000
RRULE:FREQ=YEARLY;BYMONTH=3;BYDAY=-1SU
END:DAYLIGHT
BEGIN:STANDARD
TZNAME:CET
TZOFFSETFROM:+0200
TZOFFSETTO:+0100
DTSTART:19961027T030000
RRULE:FREQ=YEARLY;BYMONTH=10;BYDAY=-1SU
END:STANDARD
END:VTIMEZONE
BEGIN:VEVENT
DTSTAMP:20260424T135212Z
DTSTART;TZID=Europe/Berlin:20260205T200000
DTEND;TZID=Europe/Berlin:20260205T230000
SUMMARY:O40 2. Liga Gr. 2 Chur II vs Flums (0)
UID:a5c43be6-7668-4f70-9253-6db98bdfe66d
STATUS:CONFIRMED
LAST-MODIFIED:20260206T141748Z
DESCRIPTION:2. Liga O40 Gruppe 2\nBegegnungs-Nr: 0\nHeim: Chur II\nGast: Flums\n\nAdresse: Sandstr. 35\, 7000 Chur\n
LOCATION:Sandstr. 35\, 7000 Chur
CATEGORIES:Saison 2025/26
END:VEVENT
BEGIN:VEVENT
DTSTAMP:20260424T135212Z
DTSTART;TZID=Europe/Berlin:20260430T200000
DTEND;TZID=Europe/Berlin:20260430T230000
SUMMARY:O40 2. Liga Gr. 2 Chur II vs Meilen-Männedorf (0)
UID:16b5c649-3c89-407b-a354-d7644b7de051
STATUS:CONFIRMED
LAST-MODIFIED:20250722T085559Z
DESCRIPTION:2. Liga O40 Gruppe 2\nBegegnungs-Nr: 0\nHeim: Chur II\nGast: Meilen-Männedorf\n\nAdresse: Sandstr. 35\, 7000 Chur\n
LOCATION:Sandstr. 35\, 7000 Chur
CATEGORIES:Saison 2025/26
END:VEVENT
BEGIN:VEVENT
DTSTAMP:20260424T135212Z
DTSTART;TZID=Europe/Berlin:20260219T200000
DTEND;TZID=Europe/Berlin:20260219T230000
SUMMARY:O40 2. Liga Gr. 2 Chur II vs Rapperswil-Jona (0)
UID:0babda41-389f-404b-b804-3c0fb58f3560
STATUS:CONFIRMED
LAST-MODIFIED:20260225T111713Z
DESCRIPTION:2. Liga O40 Gruppe 2\nBegegnungs-Nr: 0\nHeim: Chur II\nGast: Rapperswil-Jona\n\nAdresse: Sandstr. 35\, 7000 Chur\n
LOCATION:Sandstr. 35\, 7000 Chur
CATEGORIES:Saison 2025/26
END:VEVENT
BEGIN:VEVENT
DTSTAMP:20260424T135212Z
DTSTART;TZID=Europe/Berlin:20250814T200000
DTEND;TZID=Europe/Berlin:20250814T230000
SUMMARY:O40 2. Liga Gr. 2 Chur II vs Urdorf (0)
UID:2e5ec5c7-2358-4738-a5c9-57520218f9e1
STATUS:CONFIRMED
LAST-MODIFIED:20250819T130234Z
DESCRIPTION:2. Liga O40 Gruppe 2\nBegegnungs-Nr: 0\nHeim: Chur II\nGast: Urdorf\n\nAdresse: Sandstr. 35\, 7000 Chur\n
LOCATION:Sandstr. 35\, 7000 Chur
CATEGORIES:Saison 2025/26
END:VEVENT
BEGIN:VEVENT
DTSTAMP:20260424T135212Z
DTSTART;TZID=Europe/Berlin:20251127T200000
DTEND;TZID=Europe/Berlin:20251127T230000
SUMMARY:O40 2. Liga Gr. 2 Chur II vs Triesen (0)
UID:62ed4f41-a3c2-44e8-b101-54afecdf0757
STATUS:CONFIRMED
LAST-MODIFIED:20251128T134446Z
DESCRIPTION:2. Liga O40 Gruppe 2\nBegegnungs-Nr: 0\nHeim: Chur II\nGast: Triesen\n\nAdresse: Sandstr. 35\, 7000 Chur\n
LOCATION:Sandstr. 35\, 7000 Chur
CATEGORIES:Saison 2025/26
END:VEVENT
BEGIN:VEVENT
DTSTAMP:20260424T135212Z
DTSTART;TZID=Europe/Berlin:20251208T200000
DTEND;TZID=Europe/Berlin:20251208T230000
SUMMARY:O40 2. Liga Gr. 2 Chur II vs Niederhasli (0)
UID:b6c45bcd-c432-4df1-95c2-a1e01ac08b56
STATUS:CONFIRMED
LAST-MODIFIED:20251210T093933Z
DESCRIPTION:2. Liga O40 Gruppe 2\nBegegnungs-Nr: 0\nHeim: Chur II\nGast: Niederhasli\n\nAdresse: Sandstr. 35\, 7000 Chur\n
LOCATION:Sandstr. 35\, 7000 Chur
CATEGORIES:Saison 2025/26
END:VEVENT
BEGIN:VEVENT
DTSTAMP:20260424T135212Z
DTSTART;TZID=Europe/Berlin:20260114T201500
DTEND;TZID=Europe/Berlin:20260114T231500
SUMMARY:O40 2. Liga Gr. 2 Urdorf vs Chur II (0)
UID:6229a3f0-04ca-476d-b79d-6c99ee329242
STATUS:CONFIRMED
LAST-MODIFIED:20260115T093752Z
DESCRIPTION:2. Liga O40 Gruppe 2\nBegegnungs-Nr: 0\nHeim: Urdorf\nGast: Chur II\n\nAdresse: Weihermattstrasse 50\, 8902 Urdorf\n
LOCATION:Weihermattstrasse 50\, 8902 Urdorf
CATEGORIES:Saison 2025/26
END:VEVENT
BEGIN:VEVENT
DTSTAMP:20260424T135212Z
DTSTART;TZID=Europe/Berlin:20260210T194500
DTEND;TZID=Europe/Berlin:20260210T224500
SUMMARY:O40 2. Liga Gr. 2 Triesen vs Chur II (0)
UID:c80a133b-f3a0-4942-ad76-a76d11435691
STATUS:CONFIRMED
LAST-MODIFIED:20260212T100757Z
DESCRIPTION:2. Liga O40 Gruppe 2\nBegegnungs-Nr: 0\nHeim: Triesen\nGast: Chur II\n\nAdresse: Gässle 12\, 9495 Triesen\n
LOCATION:Gässle 12\, 9495 Triesen
CATEGORIES:Saison 2025/26
END:VEVENT
BEGIN:VEVENT
DTSTAMP:20260424T135212Z
DTSTART;TZID=Europe/Berlin:20260421T193000
DTEND;TZID=Europe/Berlin:20260421T223000
SUMMARY:O40 2. Liga Gr. 2 Niederhasli vs Chur II (0)
UID:94cbd0f2-cf55-48bd-8cc8-a22860104b8d
STATUS:CONFIRMED
LAST-MODIFIED:20260423T082709Z
DESCRIPTION:2. Liga O40 Gruppe 2\nBegegnungs-Nr: 0\nHeim: Niederhasli\nGast: Chur II\n\nAdresse: Dorfstrasse 22\, 8155 Niederhasli\n
LOCATION:Dorfstrasse 22\, 8155 Niederhasli
CATEGORIES:Saison 2025/26
END:VEVENT
BEGIN:VEVENT
DTSTAMP:20260424T135212Z
DTSTART;TZID=Europe/Berlin:20250821T201500
DTEND;TZID=Europe/Berlin:20250821T231500
SUMMARY:O40 2. Liga Gr. 2 Flums vs Chur II (0)
UID:e3892cd4-c9af-41e3-99de-c7fbbbba67dc
STATUS:CONFIRMED
LAST-MODIFIED:20250826T114216Z
DESCRIPTION:2. Liga O40 Gruppe 2\nBegegnungs-Nr: 0\nHeim: Flums\nGast: Chur II\n\nAdresse: Bergstrasse\, 8890 Flums\n
LOCATION:Bergstrasse\, 8890 Flums
CATEGORIES:Saison 2025/26
END:VEVENT
BEGIN:VEVENT
DTSTAMP:20260424T135212Z
DTSTART;TZID=Europe/Berlin:20251028T200000
DTEND;TZID=Europe/Berlin:20251028T230000
SUMMARY:O40 2. Liga Gr. 2 Meilen-Männedorf vs Chur II (0)
UID:49d98c78-8db4-4e6d-8c7e-82abec8ef926
STATUS:CONFIRMED
LAST-MODIFIED:20251031T144806Z
DESCRIPTION:2. Liga O40 Gruppe 2\nBegegnungs-Nr: 0\nHeim: Meilen-Männedorf\nGast: Chur II\n\nAdresse: Schulhausstr. 27\, 8706 Meilen\n
LOCATION:Schulhausstr. 27\, 8706 Meilen
CATEGORIES:Saison 2025/26
END:VEVENT
BEGIN:VEVENT
DTSTAMP:20260424T135212Z
DTSTART;TZID=Europe/Berlin:20251117T200000
DTEND;TZID=Europe/Berlin:20251117T230000
SUMMARY:O40 2. Liga Gr. 2 Rapperswil-Jona vs Chur II (0)
UID:4b6dc55e-55f4-4141-a2fc-bbcc8f63b43b
STATUS:CONFIRMED
LAST-MODIFIED:20251121T094700Z
DESCRIPTION:2. Liga O40 Gruppe 2\nBegegnungs-Nr: 0\nHeim: Rapperswil-Jona\nGast: Chur II\n\nAdresse: Holzwiesstrasse 39\, 8645 Jona\n
LOCATION:Holzwiesstrasse 39\, 8645 Jona
CATEGORIES:Saison 2025/26
END:VEVENT
END:VCALENDAR
