BEGIN:VCALENDAR
PRODID:-//nuDatenautomaten//framework iCal4j //DE
VERSION:2.0
CALSCALE:GREGORIAN
BEGIN:VTIMEZONE
TZID:Europe/Berlin
LAST-MODIFIED:20260306T231828Z
TZURL:https://www.tzurl.org/zoneinfo/Europe/Berlin
X-LIC-LOCATION:Europe/Berlin
X-PROLEPTIC-TZNAME:LMT
BEGIN:STANDARD
TZNAME:CET
TZOFFSETFROM:+005328
TZOFFSETTO:+0100
DTSTART:18930401T000000
END:STANDARD
BEGIN:DAYLIGHT
TZNAME:CEST
TZOFFSETFROM:+0100
TZOFFSETTO:+0200
DTSTART:19160430T230000
RDATE:19400401T020000
RDATE:19430329T020000
RDATE:19460414T020000
RDATE:19470406T030000
RDATE:19480418T020000
RDATE:19490410T020000
RDATE:19800406T020000
END:DAYLIGHT
BEGIN:STANDARD
TZNAME:CET
TZOFFSETFROM:+0200
TZOFFSETTO:+0100
DTSTART:19161001T010000
RDATE:19421102T030000
RDATE:19431004T030000
RDATE:19441002T030000
RDATE:19451118T030000
RDATE:19461007T030000
END:STANDARD
BEGIN:DAYLIGHT
TZNAME:CEST
TZOFFSETFROM:+0100
TZOFFSETTO:+0200
DTSTART:19170416T020000
RRULE:FREQ=YEARLY;UNTIL=19180415T010000Z;BYMONTH=4;BYDAY=3MO
END:DAYLIGHT
BEGIN:STANDARD
TZNAME:CET
TZOFFSETFROM:+0200
TZOFFSETTO:+0100
DTSTART:19170917T030000
RRULE:FREQ=YEARLY;UNTIL=19180916T010000Z;BYMONTH=9;BYDAY=3MO
END:STANDARD
BEGIN:DAYLIGHT
TZNAME:CEST
TZOFFSETFROM:+0100
TZOFFSETTO:+0200
DTSTART:19440403T020000
RRULE:FREQ=YEARLY;UNTIL=19450402T010000Z;BYMONTH=4;BYDAY=1MO
END:DAYLIGHT
BEGIN:DAYLIGHT
TZNAME:CEMT
TZOFFSETFROM:+0200
TZOFFSETTO:+0300
DTSTART:19450524T020000
RDATE:19470511T030000
END:DAYLIGHT
BEGIN:DAYLIGHT
TZNAME:CEST
TZOFFSETFROM:+0300
TZOFFSETTO:+0200
DTSTART:19450924T030000
RDATE:19470629T030000
END:DAYLIGHT
BEGIN:STANDARD
TZNAME:CET
TZOFFSETFROM:+0100
TZOFFSETTO:+0100
DTSTART:19460101T000000
RDATE:19800101T000000
END:STANDARD
BEGIN:STANDARD
TZNAME:CET
TZOFFSETFROM:+0200
TZOFFSETTO:+0100
DTSTART:19471005T030000
RRULE:FREQ=YEARLY;UNTIL=19491002T010000Z;BYMONTH=10;BYDAY=1SU
END:STANDARD
BEGIN:STANDARD
TZNAME:CET
TZOFFSETFROM:+0200
TZOFFSETTO:+0100
DTSTART:19800928T030000
RRULE:FREQ=YEARLY;UNTIL=19950924T010000Z;BYMONTH=9;BYDAY=-1SU
END:STANDARD
BEGIN:DAYLIGHT
TZNAME:CEST
TZOFFSETFROM:+0100
TZOFFSETTO:+0200
DTSTART:19810329T020000
RRULE:FREQ=YEARLY;BYMONTH=3;BYDAY=-1SU
END:DAYLIGHT
BEGIN:STANDARD
TZNAME:CET
TZOFFSETFROM:+0200
TZOFFSETTO:+0100
DTSTART:19961027T030000
RRULE:FREQ=YEARLY;BYMONTH=10;BYDAY=-1SU
END:STANDARD
END:VTIMEZONE
BEGIN:VEVENT
DTSTAMP:20260424T165505Z
DTSTART;TZID=Europe/Berlin:20260120T200000
DTEND;TZID=Europe/Berlin:20260120T230000
SUMMARY:HE 5. Liga Gr. 6 Rüti vs Uster IV (0)
UID:dbc00d45-4806-4ada-9949-3e7949d92e82
STATUS:CONFIRMED
LAST-MODIFIED:20260121T092724Z
DESCRIPTION:5. Liga Herren Gruppe 6\nBegegnungs-Nr: 0\nHeim: Rüti\nGast: Uster IV\n\nAdresse: Spitalstrasse 20\, 8630 Rüti\n
LOCATION:Spitalstrasse 20\, 8630 Rüti
CATEGORIES:Saison 2025/26
END:VEVENT
BEGIN:VEVENT
DTSTAMP:20260424T165505Z
DTSTART;TZID=Europe/Berlin:20260303T200000
DTEND;TZID=Europe/Berlin:20260303T230000
SUMMARY:HE 5. Liga Gr. 6 Rüti vs Eschenbach (0)
UID:ded13947-3399-4fe0-8732-f15dedb2f096
STATUS:CONFIRMED
LAST-MODIFIED:20260304T104120Z
DESCRIPTION:5. Liga Herren Gruppe 6\nBegegnungs-Nr: 0\nHeim: Rüti\nGast: Eschenbach\n\nAdresse: Spitalstrasse 20\, 8630 Rüti\n
LOCATION:Spitalstrasse 20\, 8630 Rüti
CATEGORIES:Saison 2025/26
END:VEVENT
BEGIN:VEVENT
DTSTAMP:20260424T165505Z
DTSTART;TZID=Europe/Berlin:20260310T200000
DTEND;TZID=Europe/Berlin:20260310T230000
SUMMARY:HE 5. Liga Gr. 6 Rüti vs Greifensee (0)
UID:f605052b-6d11-4762-baaf-7c5941c1f329
STATUS:CONFIRMED
LAST-MODIFIED:20260313T132110Z
DESCRIPTION:5. Liga Herren Gruppe 6\nBegegnungs-Nr: 0\nHeim: Rüti\nGast: Greifensee\n\nAdresse: Spitalstrasse 20\, 8630 Rüti\n
LOCATION:Spitalstrasse 20\, 8630 Rüti
CATEGORIES:Saison 2025/26
END:VEVENT
BEGIN:VEVENT
DTSTAMP:20260424T165505Z
DTSTART;TZID=Europe/Berlin:20260331T200000
DTEND;TZID=Europe/Berlin:20260331T230000
SUMMARY:HE 5. Liga Gr. 6 Rüti vs Meilen-Männedorf IV (0)
UID:1ee72956-2e8f-4e15-b807-02bbf6114229
STATUS:CONFIRMED
LAST-MODIFIED:20260401T125428Z
DESCRIPTION:5. Liga Herren Gruppe 6\nBegegnungs-Nr: 0\nHeim: Rüti\nGast: Meilen-Männedorf IV\n\nAdresse: Spitalstrasse 20\, 8630 Rüti\n
LOCATION:Spitalstrasse 20\, 8630 Rüti
CATEGORIES:Saison 2025/26
END:VEVENT
BEGIN:VEVENT
DTSTAMP:20260424T165505Z
DTSTART;TZID=Europe/Berlin:20250826T200000
DTEND;TZID=Europe/Berlin:20250826T230000
SUMMARY:HE 5. Liga Gr. 6 Rüti vs Wolfhausen II (0)
UID:50dfaee5-13c9-4d1a-a5cf-abba521e4fdf
STATUS:CONFIRMED
LAST-MODIFIED:20250829T144141Z
DESCRIPTION:5. Liga Herren Gruppe 6\nBegegnungs-Nr: 0\nHeim: Rüti\nGast: Wolfhausen II\n\nAdresse: Spitalstrasse 20\, 8630 Rüti\n
LOCATION:Spitalstrasse 20\, 8630 Rüti
CATEGORIES:Saison 2025/26
END:VEVENT
BEGIN:VEVENT
DTSTAMP:20260424T165505Z
DTSTART;TZID=Europe/Berlin:20250916T200000
DTEND;TZID=Europe/Berlin:20250916T230000
SUMMARY:HE 5. Liga Gr. 6 Rüti vs Wädenswil VI (0)
UID:b89422db-0ffe-4135-97b3-6033e2dd9241
STATUS:CONFIRMED
LAST-MODIFIED:20250926T132722Z
DESCRIPTION:5. Liga Herren Gruppe 6\nBegegnungs-Nr: 0\nHeim: Rüti\nGast: Wädenswil VI\n\nAdresse: Spitalstrasse 20\, 8630 Rüti\n
LOCATION:Spitalstrasse 20\, 8630 Rüti
CATEGORIES:Saison 2025/26
END:VEVENT
BEGIN:VEVENT
DTSTAMP:20260424T165505Z
DTSTART;TZID=Europe/Berlin:20251104T200000
DTEND;TZID=Europe/Berlin:20251104T230000
SUMMARY:HE 5. Liga Gr. 6 Rüti vs Wetzikon VIII (0)
UID:b31fc105-27cd-437b-b776-771e42a7838e
STATUS:CONFIRMED
LAST-MODIFIED:20251107T145154Z
DESCRIPTION:5. Liga Herren Gruppe 6\nBegegnungs-Nr: 0\nHeim: Rüti\nGast: Wetzikon VIII\n\nAdresse: Spitalstrasse 20\, 8630 Rüti\n
LOCATION:Spitalstrasse 20\, 8630 Rüti
CATEGORIES:Saison 2025/26
END:VEVENT
BEGIN:VEVENT
DTSTAMP:20260424T165505Z
DTSTART;TZID=Europe/Berlin:20260206T200000
DTEND;TZID=Europe/Berlin:20260206T230000
SUMMARY:HE 5. Liga Gr. 6 Wolfhausen II vs Rüti (0)
UID:7f3c3ce4-6edf-4efd-ba8e-d8eb76a946ec
STATUS:CONFIRMED
LAST-MODIFIED:20260209T135124Z
DESCRIPTION:5. Liga Herren Gruppe 6\nBegegnungs-Nr: 0\nHeim: Wolfhausen II\nGast: Rüti\n\nAdresse: Schulstrasse 9\, 8633 Wolfhausen\n
LOCATION:Schulstrasse 9\, 8633 Wolfhausen
CATEGORIES:Saison 2025/26
END:VEVENT
BEGIN:VEVENT
DTSTAMP:20260424T165505Z
DTSTART;TZID=Europe/Berlin:20260129T201500
DTEND;TZID=Europe/Berlin:20260129T231500
SUMMARY:HE 5. Liga Gr. 6 Wädenswil VI vs Rüti (0)
UID:54cd2067-30ef-4486-aa4b-a50928bb9f9d
STATUS:CONFIRMED
LAST-MODIFIED:20260130T101805Z
DESCRIPTION:5. Liga Herren Gruppe 6\nBegegnungs-Nr: 0\nHeim: Wädenswil VI\nGast: Rüti\n\nAdresse: Speerstrasse 95\, 8820 Wädenswil\n
LOCATION:Speerstrasse 95\, 8820 Wädenswil
CATEGORIES:Saison 2025/26
END:VEVENT
BEGIN:VEVENT
DTSTAMP:20260424T165505Z
DTSTART;TZID=Europe/Berlin:20260327T194500
DTEND;TZID=Europe/Berlin:20260327T224500
SUMMARY:HE 5. Liga Gr. 6 Wetzikon VIII vs Rüti (0)
UID:44cef166-1204-4919-9132-22e2f2173e50
STATUS:CONFIRMED
LAST-MODIFIED:20260401T125419Z
DESCRIPTION:5. Liga Herren Gruppe 6\nBegegnungs-Nr: 0\nHeim: Wetzikon VIII\nGast: Rüti\n\nAdresse: Usterstrasse 37\, 8620 Wetzikon\n
LOCATION:Usterstrasse 37\, 8620 Wetzikon
CATEGORIES:Saison 2025/26
END:VEVENT
BEGIN:VEVENT
DTSTAMP:20260424T165505Z
DTSTART;TZID=Europe/Berlin:20250904T201500
DTEND;TZID=Europe/Berlin:20250904T231500
SUMMARY:HE 5. Liga Gr. 6 Uster IV vs Rüti (0)
UID:48741420-e1e1-4a5e-91f1-3449d79ec16d
STATUS:CONFIRMED
LAST-MODIFIED:20250905T124451Z
DESCRIPTION:5. Liga Herren Gruppe 6\nBegegnungs-Nr: 0\nHeim: Uster IV\nGast: Rüti\n\nAdresse: Wilstrasse 30 / Zürcherstrasse\, 8610 Uster\n
LOCATION:Wilstrasse 30 / Zürcherstrasse\, 8610 Uster
CATEGORIES:Saison 2025/26
END:VEVENT
BEGIN:VEVENT
DTSTAMP:20260424T165505Z
DTSTART;TZID=Europe/Berlin:20250926T200000
DTEND;TZID=Europe/Berlin:20250926T230000
SUMMARY:HE 5. Liga Gr. 6 Eschenbach vs Rüti (0)
UID:44bcde70-52ac-45fa-a233-44cb970e8ff7
STATUS:CONFIRMED
LAST-MODIFIED:20250930T124334Z
DESCRIPTION:5. Liga Herren Gruppe 6\nBegegnungs-Nr: 0\nHeim: Eschenbach\nGast: Rüti\n\nAdresse: Bildstöcklistrasse 2\, 8733 Eschenbach\n
LOCATION:Bildstöcklistrasse 2\, 8733 Eschenbach
CATEGORIES:Saison 2025/26
END:VEVENT
BEGIN:VEVENT
DTSTAMP:20260424T165505Z
DTSTART;TZID=Europe/Berlin:20251028T200000
DTEND;TZID=Europe/Berlin:20251028T230000
SUMMARY:HE 5. Liga Gr. 6 Greifensee vs Rüti (0)
UID:2ce269f0-7287-425d-a4f1-d79e686af8ea
STATUS:CONFIRMED
LAST-MODIFIED:20251031T144045Z
DESCRIPTION:5. Liga Herren Gruppe 6\nBegegnungs-Nr: 0\nHeim: Greifensee\nGast: Rüti\n\nAdresse: Stationsstrasse\, 8606 Nänikon\n
LOCATION:Stationsstrasse\, 8606 Nänikon
CATEGORIES:Saison 2025/26
END:VEVENT
BEGIN:VEVENT
DTSTAMP:20260424T165505Z
DTSTART;TZID=Europe/Berlin:20251204T194500
DTEND;TZID=Europe/Berlin:20251204T224500
SUMMARY:HE 5. Liga Gr. 6 Meilen-Männedorf IV vs Rüti (0)
UID:a9da7c91-26c0-46a3-9646-1cf554bf0f48
STATUS:CONFIRMED
LAST-MODIFIED:20251205T130940Z
DESCRIPTION:5. Liga Herren Gruppe 6\nBegegnungs-Nr: 0\nHeim: Meilen-Männedorf IV\nGast: Rüti\n\nAdresse: Schulhausstr. 27\, 8706 Meilen\n
LOCATION:Schulhausstr. 27\, 8706 Meilen
CATEGORIES:Saison 2025/26
END:VEVENT
END:VCALENDAR
