BEGIN:VCALENDAR
PRODID:-//nuDatenautomaten//framework iCal4j //DE
VERSION:2.0
CALSCALE:GREGORIAN
BEGIN:VTIMEZONE
TZID:Europe/Berlin
LAST-MODIFIED:20260306T231828Z
TZURL:https://www.tzurl.org/zoneinfo/Europe/Berlin
X-LIC-LOCATION:Europe/Berlin
X-PROLEPTIC-TZNAME:LMT
BEGIN:STANDARD
TZNAME:CET
TZOFFSETFROM:+005328
TZOFFSETTO:+0100
DTSTART:18930401T000000
END:STANDARD
BEGIN:DAYLIGHT
TZNAME:CEST
TZOFFSETFROM:+0100
TZOFFSETTO:+0200
DTSTART:19160430T230000
RDATE:19400401T020000
RDATE:19430329T020000
RDATE:19460414T020000
RDATE:19470406T030000
RDATE:19480418T020000
RDATE:19490410T020000
RDATE:19800406T020000
END:DAYLIGHT
BEGIN:STANDARD
TZNAME:CET
TZOFFSETFROM:+0200
TZOFFSETTO:+0100
DTSTART:19161001T010000
RDATE:19421102T030000
RDATE:19431004T030000
RDATE:19441002T030000
RDATE:19451118T030000
RDATE:19461007T030000
END:STANDARD
BEGIN:DAYLIGHT
TZNAME:CEST
TZOFFSETFROM:+0100
TZOFFSETTO:+0200
DTSTART:19170416T020000
RRULE:FREQ=YEARLY;UNTIL=19180415T010000Z;BYMONTH=4;BYDAY=3MO
END:DAYLIGHT
BEGIN:STANDARD
TZNAME:CET
TZOFFSETFROM:+0200
TZOFFSETTO:+0100
DTSTART:19170917T030000
RRULE:FREQ=YEARLY;UNTIL=19180916T010000Z;BYMONTH=9;BYDAY=3MO
END:STANDARD
BEGIN:DAYLIGHT
TZNAME:CEST
TZOFFSETFROM:+0100
TZOFFSETTO:+0200
DTSTART:19440403T020000
RRULE:FREQ=YEARLY;UNTIL=19450402T010000Z;BYMONTH=4;BYDAY=1MO
END:DAYLIGHT
BEGIN:DAYLIGHT
TZNAME:CEMT
TZOFFSETFROM:+0200
TZOFFSETTO:+0300
DTSTART:19450524T020000
RDATE:19470511T030000
END:DAYLIGHT
BEGIN:DAYLIGHT
TZNAME:CEST
TZOFFSETFROM:+0300
TZOFFSETTO:+0200
DTSTART:19450924T030000
RDATE:19470629T030000
END:DAYLIGHT
BEGIN:STANDARD
TZNAME:CET
TZOFFSETFROM:+0100
TZOFFSETTO:+0100
DTSTART:19460101T000000
RDATE:19800101T000000
END:STANDARD
BEGIN:STANDARD
TZNAME:CET
TZOFFSETFROM:+0200
TZOFFSETTO:+0100
DTSTART:19471005T030000
RRULE:FREQ=YEARLY;UNTIL=19491002T010000Z;BYMONTH=10;BYDAY=1SU
END:STANDARD
BEGIN:STANDARD
TZNAME:CET
TZOFFSETFROM:+0200
TZOFFSETTO:+0100
DTSTART:19800928T030000
RRULE:FREQ=YEARLY;UNTIL=19950924T010000Z;BYMONTH=9;BYDAY=-1SU
END:STANDARD
BEGIN:DAYLIGHT
TZNAME:CEST
TZOFFSETFROM:+0100
TZOFFSETTO:+0200
DTSTART:19810329T020000
RRULE:FREQ=YEARLY;BYMONTH=3;BYDAY=-1SU
END:DAYLIGHT
BEGIN:STANDARD
TZNAME:CET
TZOFFSETFROM:+0200
TZOFFSETTO:+0100
DTSTART:19961027T030000
RRULE:FREQ=YEARLY;BYMONTH=10;BYDAY=-1SU
END:STANDARD
END:VTIMEZONE
BEGIN:VEVENT
DTSTAMP:20260424T163218Z
DTSTART;TZID=Europe/Berlin:20251007T194500
DTEND;TZID=Europe/Berlin:20251007T224500
SUMMARY:Ligue 2 Gr.2\, Ph.A Silver Star IV vs ZZ-Lancy V (11)
UID:6d46e68c-1fe9-4d37-a839-89b9e790f481
STATUS:CONFIRMED
LAST-MODIFIED:20250830T132811Z
DESCRIPTION:2ème ligue Homme Gr.2 Phase A\nBegegnungs-Nr: 11\nHeim: Silver Star IV\nGast: ZZ-Lancy V\n
LOCATION:
CATEGORIES:Saison 2025/26
END:VEVENT
BEGIN:VEVENT
DTSTAMP:20260424T163218Z
DTSTART;TZID=Europe/Berlin:20250923T194500
DTEND;TZID=Europe/Berlin:20250923T224500
SUMMARY:Ligue 2 Gr.2\, Ph.A Silver Star IV vs Onex (7)
UID:f58a321f-2bcf-485e-8c50-c6d79fcab018
STATUS:CONFIRMED
LAST-MODIFIED:20250830T132735Z
DESCRIPTION:2ème ligue Homme Gr.2 Phase A\nBegegnungs-Nr: 7\nHeim: Silver Star IV\nGast: Onex\n
LOCATION:
CATEGORIES:Saison 2025/26
END:VEVENT
BEGIN:VEVENT
DTSTAMP:20260424T163218Z
DTSTART;TZID=Europe/Berlin:20250902T194500
DTEND;TZID=Europe/Berlin:20250902T224500
SUMMARY:Ligue 2 Gr.2\, Ph.A Silver Star IV vs Bernex II (2)
UID:c33c1c28-eb2b-4b36-ab95-bad25c890fb0
STATUS:CONFIRMED
LAST-MODIFIED:20250901T163359Z
DESCRIPTION:2ème ligue Homme Gr.2 Phase A\nBegegnungs-Nr: 2\nHeim: Silver Star IV\nGast: Bernex II\n
LOCATION:
CATEGORIES:Saison 2025/26
END:VEVENT
BEGIN:VEVENT
DTSTAMP:20260424T163218Z
DTSTART;TZID=Europe/Berlin:20251111T194500
DTEND;TZID=Europe/Berlin:20251111T224500
SUMMARY:Ligue 2 Gr.2\, Ph.A Silver Star IV vs Châtelaine III (19)
UID:510ea3a2-06cc-4d51-929d-473151a0d7c6
STATUS:CONFIRMED
LAST-MODIFIED:20250830T132921Z
DESCRIPTION:2ème ligue Homme Gr.2 Phase A\nBegegnungs-Nr: 19\nHeim: Silver Star IV\nGast: Châtelaine III\n
LOCATION:
CATEGORIES:Saison 2025/26
END:VEVENT
BEGIN:VEVENT
DTSTAMP:20260424T163218Z
DTSTART;TZID=Europe/Berlin:20251202T194500
DTEND;TZID=Europe/Berlin:20251202T224500
SUMMARY:Ligue 2 Gr.2\, Ph.A Silver Star IV vs Châtelaine IV (30)
UID:000e3978-9c1e-4a09-8ad0-52771d2df525
STATUS:CONFIRMED
LAST-MODIFIED:20250830T133040Z
DESCRIPTION:2ème ligue Homme Gr.2 Phase A\nBegegnungs-Nr: 30\nHeim: Silver Star IV\nGast: Châtelaine IV\n
LOCATION:
CATEGORIES:Saison 2025/26
END:VEVENT
BEGIN:VEVENT
DTSTAMP:20260424T163218Z
DTSTART;TZID=Europe/Berlin:20250916T200000
DTEND;TZID=Europe/Berlin:20250916T230000
SUMMARY:Ligue 2 Gr.2\, Ph.A Châtelaine III vs Silver Star IV (4)
UID:d8361a18-1318-43b7-88fe-75fe4c3e0041
STATUS:CONFIRMED
LAST-MODIFIED:20250830T132655Z
DESCRIPTION:2ème ligue Homme Gr.2 Phase A\nBegegnungs-Nr: 4\nHeim: Châtelaine III\nGast: Silver Star IV\n
LOCATION:
CATEGORIES:Saison 2025/26
END:VEVENT
BEGIN:VEVENT
DTSTAMP:20260424T163218Z
DTSTART;TZID=Europe/Berlin:20251125T200000
DTEND;TZID=Europe/Berlin:20251125T230000
SUMMARY:Ligue 2 Gr.2\, Ph.A ZZ-Lancy V vs Silver Star IV (26)
UID:ed865ece-5476-466d-bf25-2fb39dbf9012
STATUS:CONFIRMED
LAST-MODIFIED:20250830T133012Z
DESCRIPTION:2ème ligue Homme Gr.2 Phase A\nBegegnungs-Nr: 26\nHeim: ZZ-Lancy V\nGast: Silver Star IV\n
LOCATION:
CATEGORIES:Saison 2025/26
END:VEVENT
BEGIN:VEVENT
DTSTAMP:20260424T163218Z
DTSTART;TZID=Europe/Berlin:20251118T200000
DTEND;TZID=Europe/Berlin:20251118T230000
SUMMARY:Ligue 2 Gr.2\, Ph.A Onex vs Silver Star IV (22)
UID:b2e6932c-0616-43c0-819d-9671f6b01958
STATUS:CONFIRMED
LAST-MODIFIED:20250918T065648Z
DESCRIPTION:2ème ligue Homme Gr.2 Phase A\nBegegnungs-Nr: 22\nHeim: Onex\nGast: Silver Star IV\n
LOCATION:
CATEGORIES:Saison 2025/26
END:VEVENT
BEGIN:VEVENT
DTSTAMP:20260424T163218Z
DTSTART;TZID=Europe/Berlin:20251028T194500
DTEND;TZID=Europe/Berlin:20251028T224500
SUMMARY:Ligue 2 Gr.2\, Ph.A Bernex II vs Silver Star IV (17)
UID:c200298d-42e4-4ffe-bcc8-0e35f1f10e12
STATUS:CONFIRMED
LAST-MODIFIED:20250830T132859Z
DESCRIPTION:2ème ligue Homme Gr.2 Phase A\nBegegnungs-Nr: 17\nHeim: Bernex II\nGast: Silver Star IV\n
LOCATION:
CATEGORIES:Saison 2025/26
END:VEVENT
BEGIN:VEVENT
DTSTAMP:20260424T163218Z
DTSTART;TZID=Europe/Berlin:20251014T200000
DTEND;TZID=Europe/Berlin:20251014T230000
SUMMARY:Ligue 2 Gr.2\, Ph.A Châtelaine IV vs Silver Star IV (15)
UID:4261ea46-f082-4f37-81e7-ad701b3c8bab
STATUS:CONFIRMED
LAST-MODIFIED:20250830T132837Z
DESCRIPTION:2ème ligue Homme Gr.2 Phase A\nBegegnungs-Nr: 15\nHeim: Châtelaine IV\nGast: Silver Star IV\n
LOCATION:
CATEGORIES:Saison 2025/26
END:VEVENT
END:VCALENDAR
