BEGIN:VCALENDAR
PRODID:-//nuDatenautomaten//framework iCal4j //DE
VERSION:2.0
CALSCALE:GREGORIAN
BEGIN:VTIMEZONE
TZID:Europe/Berlin
LAST-MODIFIED:20260306T231828Z
TZURL:https://www.tzurl.org/zoneinfo/Europe/Berlin
X-LIC-LOCATION:Europe/Berlin
X-PROLEPTIC-TZNAME:LMT
BEGIN:STANDARD
TZNAME:CET
TZOFFSETFROM:+005328
TZOFFSETTO:+0100
DTSTART:18930401T000000
END:STANDARD
BEGIN:DAYLIGHT
TZNAME:CEST
TZOFFSETFROM:+0100
TZOFFSETTO:+0200
DTSTART:19160430T230000
RDATE:19400401T020000
RDATE:19430329T020000
RDATE:19460414T020000
RDATE:19470406T030000
RDATE:19480418T020000
RDATE:19490410T020000
RDATE:19800406T020000
END:DAYLIGHT
BEGIN:STANDARD
TZNAME:CET
TZOFFSETFROM:+0200
TZOFFSETTO:+0100
DTSTART:19161001T010000
RDATE:19421102T030000
RDATE:19431004T030000
RDATE:19441002T030000
RDATE:19451118T030000
RDATE:19461007T030000
END:STANDARD
BEGIN:DAYLIGHT
TZNAME:CEST
TZOFFSETFROM:+0100
TZOFFSETTO:+0200
DTSTART:19170416T020000
RRULE:FREQ=YEARLY;UNTIL=19180415T010000Z;BYMONTH=4;BYDAY=3MO
END:DAYLIGHT
BEGIN:STANDARD
TZNAME:CET
TZOFFSETFROM:+0200
TZOFFSETTO:+0100
DTSTART:19170917T030000
RRULE:FREQ=YEARLY;UNTIL=19180916T010000Z;BYMONTH=9;BYDAY=3MO
END:STANDARD
BEGIN:DAYLIGHT
TZNAME:CEST
TZOFFSETFROM:+0100
TZOFFSETTO:+0200
DTSTART:19440403T020000
RRULE:FREQ=YEARLY;UNTIL=19450402T010000Z;BYMONTH=4;BYDAY=1MO
END:DAYLIGHT
BEGIN:DAYLIGHT
TZNAME:CEMT
TZOFFSETFROM:+0200
TZOFFSETTO:+0300
DTSTART:19450524T020000
RDATE:19470511T030000
END:DAYLIGHT
BEGIN:DAYLIGHT
TZNAME:CEST
TZOFFSETFROM:+0300
TZOFFSETTO:+0200
DTSTART:19450924T030000
RDATE:19470629T030000
END:DAYLIGHT
BEGIN:STANDARD
TZNAME:CET
TZOFFSETFROM:+0100
TZOFFSETTO:+0100
DTSTART:19460101T000000
RDATE:19800101T000000
END:STANDARD
BEGIN:STANDARD
TZNAME:CET
TZOFFSETFROM:+0200
TZOFFSETTO:+0100
DTSTART:19471005T030000
RRULE:FREQ=YEARLY;UNTIL=19491002T010000Z;BYMONTH=10;BYDAY=1SU
END:STANDARD
BEGIN:STANDARD
TZNAME:CET
TZOFFSETFROM:+0200
TZOFFSETTO:+0100
DTSTART:19800928T030000
RRULE:FREQ=YEARLY;UNTIL=19950924T010000Z;BYMONTH=9;BYDAY=-1SU
END:STANDARD
BEGIN:DAYLIGHT
TZNAME:CEST
TZOFFSETFROM:+0100
TZOFFSETTO:+0200
DTSTART:19810329T020000
RRULE:FREQ=YEARLY;BYMONTH=3;BYDAY=-1SU
END:DAYLIGHT
BEGIN:STANDARD
TZNAME:CET
TZOFFSETFROM:+0200
TZOFFSETTO:+0100
DTSTART:19961027T030000
RRULE:FREQ=YEARLY;BYMONTH=10;BYDAY=-1SU
END:STANDARD
END:VTIMEZONE
BEGIN:VEVENT
DTSTAMP:20260424T165459Z
DTSTART;TZID=Europe/Berlin:20260123T200000
DTEND;TZID=Europe/Berlin:20260123T230000
SUMMARY:DA 2. Liga\, Gr. 1 Bronschhofen vs Pinguin Zürich (0)
UID:f31337f8-6009-4594-aab0-85ff4f518739
STATUS:CONFIRMED
LAST-MODIFIED:20260130T131859Z
DESCRIPTION:2. Liga Damen\, Gruppe 1\nBegegnungs-Nr: 0\nHeim: Bronschhofen\nGast: Pinguin Zürich\n\nAdresse: Schulstrasse 6\, 9552 Bronschhofen\n
LOCATION:Schulstrasse 6\, 9552 Bronschhofen
CATEGORIES:Saison 2025/26
END:VEVENT
BEGIN:VEVENT
DTSTAMP:20260424T165459Z
DTSTART;TZID=Europe/Berlin:20260126T200000
DTEND;TZID=Europe/Berlin:20260126T230000
SUMMARY:DA 2. Liga\, Gr. 1 Bronschhofen vs Rapperswil-Jona (0)
UID:2dbc199e-edb7-4fec-93d5-7ebbcdbb32d9
STATUS:CONFIRMED
LAST-MODIFIED:20260130T131916Z
DESCRIPTION:2. Liga Damen\, Gruppe 1\nBegegnungs-Nr: 0\nHeim: Bronschhofen\nGast: Rapperswil-Jona\n\nAdresse: Schulstrasse 6\, 9552 Bronschhofen\n
LOCATION:Schulstrasse 6\, 9552 Bronschhofen
CATEGORIES:Saison 2025/26
END:VEVENT
BEGIN:VEVENT
DTSTAMP:20260424T165459Z
DTSTART;TZID=Europe/Berlin:20260306T200000
DTEND;TZID=Europe/Berlin:20260306T230000
SUMMARY:DA 2. Liga\, Gr. 1 Bronschhofen vs Weinfelden (0)
UID:5b8c60ea-5912-4300-a48f-dc8ff76f3ecc
STATUS:CONFIRMED
LAST-MODIFIED:20260313T133018Z
DESCRIPTION:2. Liga Damen\, Gruppe 1\nBegegnungs-Nr: 0\nHeim: Bronschhofen\nGast: Weinfelden\n\nAdresse: Schulstrasse 6\, 9552 Bronschhofen\n
LOCATION:Schulstrasse 6\, 9552 Bronschhofen
CATEGORIES:Saison 2025/26
END:VEVENT
BEGIN:VEVENT
DTSTAMP:20260424T165459Z
DTSTART;TZID=Europe/Berlin:20251121T200000
DTEND;TZID=Europe/Berlin:20251121T230000
SUMMARY:DA 2. Liga\, Gr. 1 Bronschhofen vs Zürich-Affoltern III (0)
UID:89b2a48e-235d-4ff7-99e3-97ed5736116f
STATUS:CONFIRMED
LAST-MODIFIED:20251124T142309Z
DESCRIPTION:2. Liga Damen\, Gruppe 1\nBegegnungs-Nr: 0\nHeim: Bronschhofen\nGast: Zürich-Affoltern III\n\nAdresse: Schulstrasse 6\, 9552 Bronschhofen\n
LOCATION:Schulstrasse 6\, 9552 Bronschhofen
CATEGORIES:Saison 2025/26
END:VEVENT
BEGIN:VEVENT
DTSTAMP:20260424T165459Z
DTSTART;TZID=Europe/Berlin:20260310T201500
DTEND;TZID=Europe/Berlin:20260310T231500
SUMMARY:DA 2. Liga\, Gr. 1 Zürich-Affoltern III vs Bronschhofen (0)
UID:bf0d06bf-c6f5-4fd7-a689-9f14afcad144
STATUS:CONFIRMED
LAST-MODIFIED:20260313T133029Z
DESCRIPTION:2. Liga Damen\, Gruppe 1\nBegegnungs-Nr: 0\nHeim: Zürich-Affoltern III\nGast: Bronschhofen\n\nAdresse: Rümlangstr. 89\, 8052 Zürich\n
LOCATION:Rümlangstr. 89\, 8052 Zürich
CATEGORIES:Saison 2025/26
END:VEVENT
BEGIN:VEVENT
DTSTAMP:20260424T165459Z
DTSTART;TZID=Europe/Berlin:20250929T193000
DTEND;TZID=Europe/Berlin:20250929T223000
SUMMARY:DA 2. Liga\, Gr. 1 Pinguin Zürich vs Bronschhofen (0)
UID:140bb700-fd36-4e7f-be52-0e4a40a09580
STATUS:CONFIRMED
LAST-MODIFIED:20251007T060911Z
DESCRIPTION:2. Liga Damen\, Gruppe 1\nBegegnungs-Nr: 0\nHeim: Pinguin Zürich\nGast: Bronschhofen\n\nAdresse: Basteiplatz\, 8001 Zürich\n
LOCATION:Basteiplatz\, 8001 Zürich
CATEGORIES:Saison 2025/26
END:VEVENT
BEGIN:VEVENT
DTSTAMP:20260424T165459Z
DTSTART;TZID=Europe/Berlin:20251006T200000
DTEND;TZID=Europe/Berlin:20251006T230000
SUMMARY:DA 2. Liga\, Gr. 1 Rapperswil-Jona vs Bronschhofen (0)
UID:8ed54d00-ecce-4e59-a44d-8eaaaf272743
STATUS:CONFIRMED
LAST-MODIFIED:20251007T060935Z
DESCRIPTION:2. Liga Damen\, Gruppe 1\nBegegnungs-Nr: 0\nHeim: Rapperswil-Jona\nGast: Bronschhofen\n\nAdresse: Holzwiesstrasse 39\, 8645 Jona\n
LOCATION:Holzwiesstrasse 39\, 8645 Jona
CATEGORIES:Saison 2025/26
END:VEVENT
BEGIN:VEVENT
DTSTAMP:20260424T165459Z
DTSTART;TZID=Europe/Berlin:20250829T200000
DTEND;TZID=Europe/Berlin:20250829T230000
SUMMARY:DA 2. Liga\, Gr. 1 Weinfelden vs Bronschhofen (0)
UID:6d5841a1-77c7-4389-8035-b82c5dec79e8
STATUS:CONFIRMED
LAST-MODIFIED:20250902T093439Z
DESCRIPTION:2. Liga Damen\, Gruppe 1\nBegegnungs-Nr: 0\nHeim: Weinfelden\nGast: Bronschhofen\n\nAdresse: Bleichestrasse 3 (neben Hallenbad)\, 8570 Weinfelden\n
LOCATION:Bleichestrasse 3 (neben Hallenbad)\, 8570 Weinfelden
CATEGORIES:Saison 2025/26
END:VEVENT
END:VCALENDAR
