BEGIN:VCALENDAR
PRODID:-//nuDatenautomaten//framework iCal4j //DE
VERSION:2.0
CALSCALE:GREGORIAN
BEGIN:VTIMEZONE
TZID:Europe/Berlin
LAST-MODIFIED:20260306T231828Z
TZURL:https://www.tzurl.org/zoneinfo/Europe/Berlin
X-LIC-LOCATION:Europe/Berlin
X-PROLEPTIC-TZNAME:LMT
BEGIN:STANDARD
TZNAME:CET
TZOFFSETFROM:+005328
TZOFFSETTO:+0100
DTSTART:18930401T000000
END:STANDARD
BEGIN:DAYLIGHT
TZNAME:CEST
TZOFFSETFROM:+0100
TZOFFSETTO:+0200
DTSTART:19160430T230000
RDATE:19400401T020000
RDATE:19430329T020000
RDATE:19460414T020000
RDATE:19470406T030000
RDATE:19480418T020000
RDATE:19490410T020000
RDATE:19800406T020000
END:DAYLIGHT
BEGIN:STANDARD
TZNAME:CET
TZOFFSETFROM:+0200
TZOFFSETTO:+0100
DTSTART:19161001T010000
RDATE:19421102T030000
RDATE:19431004T030000
RDATE:19441002T030000
RDATE:19451118T030000
RDATE:19461007T030000
END:STANDARD
BEGIN:DAYLIGHT
TZNAME:CEST
TZOFFSETFROM:+0100
TZOFFSETTO:+0200
DTSTART:19170416T020000
RRULE:FREQ=YEARLY;UNTIL=19180415T010000Z;BYMONTH=4;BYDAY=3MO
END:DAYLIGHT
BEGIN:STANDARD
TZNAME:CET
TZOFFSETFROM:+0200
TZOFFSETTO:+0100
DTSTART:19170917T030000
RRULE:FREQ=YEARLY;UNTIL=19180916T010000Z;BYMONTH=9;BYDAY=3MO
END:STANDARD
BEGIN:DAYLIGHT
TZNAME:CEST
TZOFFSETFROM:+0100
TZOFFSETTO:+0200
DTSTART:19440403T020000
RRULE:FREQ=YEARLY;UNTIL=19450402T010000Z;BYMONTH=4;BYDAY=1MO
END:DAYLIGHT
BEGIN:DAYLIGHT
TZNAME:CEMT
TZOFFSETFROM:+0200
TZOFFSETTO:+0300
DTSTART:19450524T020000
RDATE:19470511T030000
END:DAYLIGHT
BEGIN:DAYLIGHT
TZNAME:CEST
TZOFFSETFROM:+0300
TZOFFSETTO:+0200
DTSTART:19450924T030000
RDATE:19470629T030000
END:DAYLIGHT
BEGIN:STANDARD
TZNAME:CET
TZOFFSETFROM:+0100
TZOFFSETTO:+0100
DTSTART:19460101T000000
RDATE:19800101T000000
END:STANDARD
BEGIN:STANDARD
TZNAME:CET
TZOFFSETFROM:+0200
TZOFFSETTO:+0100
DTSTART:19471005T030000
RRULE:FREQ=YEARLY;UNTIL=19491002T010000Z;BYMONTH=10;BYDAY=1SU
END:STANDARD
BEGIN:STANDARD
TZNAME:CET
TZOFFSETFROM:+0200
TZOFFSETTO:+0100
DTSTART:19800928T030000
RRULE:FREQ=YEARLY;UNTIL=19950924T010000Z;BYMONTH=9;BYDAY=-1SU
END:STANDARD
BEGIN:DAYLIGHT
TZNAME:CEST
TZOFFSETFROM:+0100
TZOFFSETTO:+0200
DTSTART:19810329T020000
RRULE:FREQ=YEARLY;BYMONTH=3;BYDAY=-1SU
END:DAYLIGHT
BEGIN:STANDARD
TZNAME:CET
TZOFFSETFROM:+0200
TZOFFSETTO:+0100
DTSTART:19961027T030000
RRULE:FREQ=YEARLY;BYMONTH=10;BYDAY=-1SU
END:STANDARD
END:VTIMEZONE
BEGIN:VEVENT
DTSTAMP:20260424T062153Z
DTSTART;TZID=Europe/Berlin:20250904T193000
DTEND;TZID=Europe/Berlin:20250904T223000
SUMMARY:ME L3 Gr 2\, Tours 1&2 Fribourg V vs Fribourg VI (0)
UID:e1d45a17-aa26-4112-a5e7-3ecc2a8a60da
STATUS:CONFIRMED
LAST-MODIFIED:20250905T182607Z
DESCRIPTION:3ème ligue Hommes Groupe 2\, Tours 1&2\nBegegnungs-Nr: 0\nHeim: Fribourg V\nGast: Fribourg VI\n\nAdresse: Route du Centre sportif\, 1752 Villars-sur-Glâne\n
LOCATION:Route du Centre sportif\, 1752 Villars-sur-Glâne
CATEGORIES:Saison 2025/26
END:VEVENT
BEGIN:VEVENT
DTSTAMP:20260424T062153Z
DTSTART;TZID=Europe/Berlin:20250925T193000
DTEND;TZID=Europe/Berlin:20250925T223000
SUMMARY:ME L3 Gr 2\, Tours 1&2 Fribourg V vs Mézières (0)
UID:cf083a8e-fca9-470b-9ff4-f00618f9422f
STATUS:CONFIRMED
LAST-MODIFIED:20250930T100958Z
DESCRIPTION:3ème ligue Hommes Groupe 2\, Tours 1&2\nBegegnungs-Nr: 0\nHeim: Fribourg V\nGast: Mézières\n\nAdresse: Route du Centre sportif\, 1752 Villars-sur-Glâne\n
LOCATION:Route du Centre sportif\, 1752 Villars-sur-Glâne
CATEGORIES:Saison 2025/26
END:VEVENT
BEGIN:VEVENT
DTSTAMP:20260424T062153Z
DTSTART;TZID=Europe/Berlin:20251009T193000
DTEND;TZID=Europe/Berlin:20251009T223000
SUMMARY:ME L3 Gr 2\, Tours 1&2 Fribourg V vs Avry-Rosé II (0)
UID:cfd9c060-b8fd-4aa3-8eaf-89dae929b008
STATUS:CONFIRMED
LAST-MODIFIED:20251011T111938Z
DESCRIPTION:3ème ligue Hommes Groupe 2\, Tours 1&2\nBegegnungs-Nr: 0\nHeim: Fribourg V\nGast: Avry-Rosé II\n\nAdresse: Route du Centre sportif\, 1752 Villars-sur-Glâne\n
LOCATION:Route du Centre sportif\, 1752 Villars-sur-Glâne
CATEGORIES:Saison 2025/26
END:VEVENT
BEGIN:VEVENT
DTSTAMP:20260424T062153Z
DTSTART;TZID=Europe/Berlin:20251106T193000
DTEND;TZID=Europe/Berlin:20251106T223000
SUMMARY:ME L3 Gr 2\, Tours 1&2 Fribourg V vs Rossens IV (0)
UID:0bd3d451-5adf-492f-9fea-b7651c43de03
STATUS:CONFIRMED
LAST-MODIFIED:20251109T122433Z
DESCRIPTION:3ème ligue Hommes Groupe 2\, Tours 1&2\nBegegnungs-Nr: 0\nHeim: Fribourg V\nGast: Rossens IV\n\nAdresse: Route du Centre sportif\, 1752 Villars-sur-Glâne\n
LOCATION:Route du Centre sportif\, 1752 Villars-sur-Glâne
CATEGORIES:Saison 2025/26
END:VEVENT
BEGIN:VEVENT
DTSTAMP:20260424T062153Z
DTSTART;TZID=Europe/Berlin:20251113T193000
DTEND;TZID=Europe/Berlin:20251113T223000
SUMMARY:ME L3 Gr 2\, Tours 1&2 Fribourg V vs Bulle III (0)
UID:15309200-4a94-42a7-a3ab-a9c24783811c
STATUS:CONFIRMED
LAST-MODIFIED:20251116T123619Z
DESCRIPTION:3ème ligue Hommes Groupe 2\, Tours 1&2\nBegegnungs-Nr: 0\nHeim: Fribourg V\nGast: Bulle III\n\nAdresse: Route du Centre sportif\, 1752 Villars-sur-Glâne\n
LOCATION:Route du Centre sportif\, 1752 Villars-sur-Glâne
CATEGORIES:Saison 2025/26
END:VEVENT
BEGIN:VEVENT
DTSTAMP:20260424T062153Z
DTSTART;TZID=Europe/Berlin:20260416T193000
DTEND;TZID=Europe/Berlin:20260416T223000
SUMMARY:ME L3 Gr 2\, Tours 3&4 Fribourg V vs Rossens IV (0)
UID:49a85abf-a3bf-4540-b113-6a4750430fab
STATUS:CONFIRMED
LAST-MODIFIED:20260417T193433Z
DESCRIPTION:3ème ligue Hommes Groupe 2\, Tours 3&4\nBegegnungs-Nr: 0\nHeim: Fribourg V\nGast: Rossens IV\n\nAdresse: Route du Centre sportif\, 1752 Villars-sur-Glâne\n
LOCATION:Route du Centre sportif\, 1752 Villars-sur-Glâne
CATEGORIES:Saison 2025/26
END:VEVENT
BEGIN:VEVENT
DTSTAMP:20260424T062153Z
DTSTART;TZID=Europe/Berlin:20260115T193000
DTEND;TZID=Europe/Berlin:20260115T223000
SUMMARY:ME L3 Gr 2\, Tours 3&4 Fribourg V vs Ependes (0)
UID:8d2b058a-7efd-46c2-b103-48fcf1e7f720
STATUS:CONFIRMED
LAST-MODIFIED:20260116T201711Z
DESCRIPTION:3ème ligue Hommes Groupe 2\, Tours 3&4\nBegegnungs-Nr: 0\nHeim: Fribourg V\nGast: Ependes\n\nAdresse: Route du Centre sportif\, 1752 Villars-sur-Glâne\n
LOCATION:Route du Centre sportif\, 1752 Villars-sur-Glâne
CATEGORIES:Saison 2025/26
END:VEVENT
BEGIN:VEVENT
DTSTAMP:20260424T062153Z
DTSTART;TZID=Europe/Berlin:20260205T193000
DTEND;TZID=Europe/Berlin:20260205T223000
SUMMARY:ME L3 Gr 2\, Tours 3&4 Fribourg V vs Blonay (0)
UID:eda17a12-e261-4d6a-8010-3bb7be483c99
STATUS:CONFIRMED
LAST-MODIFIED:20260206T183834Z
DESCRIPTION:3ème ligue Hommes Groupe 2\, Tours 3&4\nBegegnungs-Nr: 0\nHeim: Fribourg V\nGast: Blonay\n\nAdresse: Route du Centre sportif\, 1752 Villars-sur-Glâne\n
LOCATION:Route du Centre sportif\, 1752 Villars-sur-Glâne
CATEGORIES:Saison 2025/26
END:VEVENT
BEGIN:VEVENT
DTSTAMP:20260424T062153Z
DTSTART;TZID=Europe/Berlin:20260326T193000
DTEND;TZID=Europe/Berlin:20260326T223000
SUMMARY:ME L3 Gr 2\, Tours 3&4 Fribourg V vs Avry-Rosé II (0)
UID:975dc7b4-0825-4808-ad79-3989b923ec11
STATUS:CONFIRMED
LAST-MODIFIED:20260330T184633Z
DESCRIPTION:3ème ligue Hommes Groupe 2\, Tours 3&4\nBegegnungs-Nr: 0\nHeim: Fribourg V\nGast: Avry-Rosé II\n\nAdresse: Route du Centre sportif\, 1752 Villars-sur-Glâne\n
LOCATION:Route du Centre sportif\, 1752 Villars-sur-Glâne
CATEGORIES:Saison 2025/26
END:VEVENT
BEGIN:VEVENT
DTSTAMP:20260424T062153Z
DTSTART;TZID=Europe/Berlin:20260423T193000
DTEND;TZID=Europe/Berlin:20260423T223000
SUMMARY:ME L3 Gr 2\, Tours 3&4 Fribourg V vs Mézières (0)
UID:2151f155-2e38-4da2-a4ab-2608f75e5443
STATUS:CONFIRMED
DESCRIPTION:3ème ligue Hommes Groupe 2\, Tours 3&4\nBegegnungs-Nr: 0\nHeim: Fribourg V\nGast: Mézières\n\nAdresse: Route du Centre sportif\, 1752 Villars-sur-Glâne\n
LOCATION:Route du Centre sportif\, 1752 Villars-sur-Glâne
CATEGORIES:Saison 2025/26
END:VEVENT
BEGIN:VEVENT
DTSTAMP:20260424T062153Z
DTSTART;TZID=Europe/Berlin:20250909T200000
DTEND;TZID=Europe/Berlin:20250909T230000
SUMMARY:ME L3 Gr 2\, Tours 1&2 Rossens IV vs Fribourg V (0)
UID:f45efb76-42c3-4da7-9361-62a7f84dd2fa
STATUS:CONFIRMED
LAST-MODIFIED:20250910T230556Z
DESCRIPTION:3ème ligue Hommes Groupe 2\, Tours 1&2\nBegegnungs-Nr: 0\nHeim: Rossens IV\nGast: Fribourg V\n\nAdresse: Route du Jordil 14\, 1728 Rossens\n
LOCATION:Route du Jordil 14\, 1728 Rossens
CATEGORIES:Saison 2025/26
END:VEVENT
BEGIN:VEVENT
DTSTAMP:20260424T062153Z
DTSTART;TZID=Europe/Berlin:20250915T200000
DTEND;TZID=Europe/Berlin:20250915T230000
SUMMARY:ME L3 Gr 2\, Tours 1&2 Bulle III vs Fribourg V (0)
UID:d7fe9b7c-2777-4ca4-8ab8-55c39b2f1376
STATUS:CONFIRMED
LAST-MODIFIED:20250916T220628Z
DESCRIPTION:3ème ligue Hommes Groupe 2\, Tours 1&2\nBegegnungs-Nr: 0\nHeim: Bulle III\nGast: Fribourg V\n\nAdresse: Rue du Stade 50\, 1630 Bulle\n
LOCATION:Rue du Stade 50\, 1630 Bulle
CATEGORIES:Saison 2025/26
END:VEVENT
BEGIN:VEVENT
DTSTAMP:20260424T062153Z
DTSTART;TZID=Europe/Berlin:20251030T191500
DTEND;TZID=Europe/Berlin:20251030T221500
SUMMARY:ME L3 Gr 2\, Tours 1&2 Fribourg VI vs Fribourg V (0)
UID:9aebea2c-8662-45f3-93ea-0bac293b9380
STATUS:CONFIRMED
LAST-MODIFIED:20251101T153902Z
DESCRIPTION:3ème ligue Hommes Groupe 2\, Tours 1&2\nBegegnungs-Nr: 0\nHeim: Fribourg VI\nGast: Fribourg V\n\nAdresse: Avenue Général Guisan 61\, 1700 Fribourg\n
LOCATION:Avenue Général Guisan 61\, 1700 Fribourg
CATEGORIES:Saison 2025/26
END:VEVENT
BEGIN:VEVENT
DTSTAMP:20260424T062153Z
DTSTART;TZID=Europe/Berlin:20251119T200000
DTEND;TZID=Europe/Berlin:20251119T230000
SUMMARY:ME L3 Gr 2\, Tours 1&2 Mézières vs Fribourg V (0)
UID:a0c92b46-ee85-480d-9a9e-9dad9673a264
STATUS:CONFIRMED
LAST-MODIFIED:20251121T100317Z
DESCRIPTION:3ème ligue Hommes Groupe 2\, Tours 1&2\nBegegnungs-Nr: 0\nHeim: Mézières\nGast: Fribourg V\n\nAdresse: -\, 1083 Mézières\n
LOCATION:-\, 1083 Mézières
CATEGORIES:Saison 2025/26
END:VEVENT
BEGIN:VEVENT
DTSTAMP:20260424T062153Z
DTSTART;TZID=Europe/Berlin:20251211T200000
DTEND;TZID=Europe/Berlin:20251211T230000
SUMMARY:ME L3 Gr 2\, Tours 1&2 Avry-Rosé II vs Fribourg V (0)
UID:1c962caf-8268-4e30-abc4-bd4825c308a8
STATUS:CONFIRMED
LAST-MODIFIED:20251213T094723Z
DESCRIPTION:3ème ligue Hommes Groupe 2\, Tours 1&2\nBegegnungs-Nr: 0\nHeim: Avry-Rosé II\nGast: Fribourg V\n\nAdresse: Route du Château 15\, 1754 Avry-sur-Matran\n
LOCATION:Route du Château 15\, 1754 Avry-sur-Matran
CATEGORIES:Saison 2025/26
END:VEVENT
BEGIN:VEVENT
DTSTAMP:20260424T062153Z
DTSTART;TZID=Europe/Berlin:20260122T200000
DTEND;TZID=Europe/Berlin:20260122T230000
SUMMARY:ME L3 Gr 2\, Tours 3&4 Avry-Rosé II vs Fribourg V (0)
UID:6d23e13a-0389-4932-8649-ca2413f5b8a8
STATUS:CONFIRMED
LAST-MODIFIED:20260122T225146Z
DESCRIPTION:3ème ligue Hommes Groupe 2\, Tours 3&4\nBegegnungs-Nr: 0\nHeim: Avry-Rosé II\nGast: Fribourg V\n\nAdresse: Route du Château 15\, 1754 Avry-sur-Matran\n
LOCATION:Route du Château 15\, 1754 Avry-sur-Matran
CATEGORIES:Saison 2025/26
END:VEVENT
BEGIN:VEVENT
DTSTAMP:20260424T062153Z
DTSTART;TZID=Europe/Berlin:20260210T200000
DTEND;TZID=Europe/Berlin:20260210T230000
SUMMARY:ME L3 Gr 2\, Tours 3&4 Mézières vs Fribourg V (0)
UID:e1078228-6240-4664-8e4e-48af6aad6ebb
STATUS:CONFIRMED
LAST-MODIFIED:20260212T112917Z
DESCRIPTION:3ème ligue Hommes Groupe 2\, Tours 3&4\nBegegnungs-Nr: 0\nHeim: Mézières\nGast: Fribourg V\n\nAdresse: -\, 1083 Mézières\n
LOCATION:-\, 1083 Mézières
CATEGORIES:Saison 2025/26
END:VEVENT
BEGIN:VEVENT
DTSTAMP:20260424T062153Z
DTSTART;TZID=Europe/Berlin:20260224T200000
DTEND;TZID=Europe/Berlin:20260224T230000
SUMMARY:ME L3 Gr 2\, Tours 3&4 Rossens IV vs Fribourg V (0)
UID:081151c4-8562-4a4b-b0b0-6909bcad5a12
STATUS:CONFIRMED
LAST-MODIFIED:20260225T224618Z
DESCRIPTION:3ème ligue Hommes Groupe 2\, Tours 3&4\nBegegnungs-Nr: 0\nHeim: Rossens IV\nGast: Fribourg V\n\nAdresse: Route du Jordil 14\, 1728 Rossens\n
LOCATION:Route du Jordil 14\, 1728 Rossens
CATEGORIES:Saison 2025/26
END:VEVENT
BEGIN:VEVENT
DTSTAMP:20260424T062153Z
DTSTART;TZID=Europe/Berlin:20260408T194500
DTEND;TZID=Europe/Berlin:20260408T224500
SUMMARY:ME L3 Gr 2\, Tours 3&4 Ependes vs Fribourg V (0)
UID:732acf32-3011-4676-8251-75b621a78fec
STATUS:CONFIRMED
LAST-MODIFIED:20260409T121237Z
DESCRIPTION:3ème ligue Hommes Groupe 2\, Tours 3&4\nBegegnungs-Nr: 0\nHeim: Ependes\nGast: Fribourg V\n\nAdresse: -\, 1731 Ependes FR\n
LOCATION:-\, 1731 Ependes FR
CATEGORIES:Saison 2025/26
END:VEVENT
BEGIN:VEVENT
DTSTAMP:20260424T062153Z
DTSTART;TZID=Europe/Berlin:20260403T193000
DTEND;TZID=Europe/Berlin:20260403T223000
SUMMARY:ME L3 Gr 2\, Tours 3&4 Blonay vs Fribourg V (0)
UID:d38be063-1213-41ce-9fa3-0f730205ddb1
STATUS:CONFIRMED
LAST-MODIFIED:20260407T193037Z
DESCRIPTION:3ème ligue Hommes Groupe 2\, Tours 3&4\nBegegnungs-Nr: 0\nHeim: Blonay\nGast: Fribourg V\n\nAdresse: Route de Prélaz 2\, 1807 Blonay\n
LOCATION:Route de Prélaz 2\, 1807 Blonay
CATEGORIES:Saison 2025/26
END:VEVENT
END:VCALENDAR
