BEGIN:VCALENDAR
PRODID:-//nuDatenautomaten//framework iCal4j //DE
VERSION:2.0
CALSCALE:GREGORIAN
BEGIN:VTIMEZONE
TZID:Europe/Berlin
LAST-MODIFIED:20260306T231828Z
TZURL:https://www.tzurl.org/zoneinfo/Europe/Berlin
X-LIC-LOCATION:Europe/Berlin
X-PROLEPTIC-TZNAME:LMT
BEGIN:STANDARD
TZNAME:CET
TZOFFSETFROM:+005328
TZOFFSETTO:+0100
DTSTART:18930401T000000
END:STANDARD
BEGIN:DAYLIGHT
TZNAME:CEST
TZOFFSETFROM:+0100
TZOFFSETTO:+0200
DTSTART:19160430T230000
RDATE:19400401T020000
RDATE:19430329T020000
RDATE:19460414T020000
RDATE:19470406T030000
RDATE:19480418T020000
RDATE:19490410T020000
RDATE:19800406T020000
END:DAYLIGHT
BEGIN:STANDARD
TZNAME:CET
TZOFFSETFROM:+0200
TZOFFSETTO:+0100
DTSTART:19161001T010000
RDATE:19421102T030000
RDATE:19431004T030000
RDATE:19441002T030000
RDATE:19451118T030000
RDATE:19461007T030000
END:STANDARD
BEGIN:DAYLIGHT
TZNAME:CEST
TZOFFSETFROM:+0100
TZOFFSETTO:+0200
DTSTART:19170416T020000
RRULE:FREQ=YEARLY;UNTIL=19180415T010000Z;BYMONTH=4;BYDAY=3MO
END:DAYLIGHT
BEGIN:STANDARD
TZNAME:CET
TZOFFSETFROM:+0200
TZOFFSETTO:+0100
DTSTART:19170917T030000
RRULE:FREQ=YEARLY;UNTIL=19180916T010000Z;BYMONTH=9;BYDAY=3MO
END:STANDARD
BEGIN:DAYLIGHT
TZNAME:CEST
TZOFFSETFROM:+0100
TZOFFSETTO:+0200
DTSTART:19440403T020000
RRULE:FREQ=YEARLY;UNTIL=19450402T010000Z;BYMONTH=4;BYDAY=1MO
END:DAYLIGHT
BEGIN:DAYLIGHT
TZNAME:CEMT
TZOFFSETFROM:+0200
TZOFFSETTO:+0300
DTSTART:19450524T020000
RDATE:19470511T030000
END:DAYLIGHT
BEGIN:DAYLIGHT
TZNAME:CEST
TZOFFSETFROM:+0300
TZOFFSETTO:+0200
DTSTART:19450924T030000
RDATE:19470629T030000
END:DAYLIGHT
BEGIN:STANDARD
TZNAME:CET
TZOFFSETFROM:+0100
TZOFFSETTO:+0100
DTSTART:19460101T000000
RDATE:19800101T000000
END:STANDARD
BEGIN:STANDARD
TZNAME:CET
TZOFFSETFROM:+0200
TZOFFSETTO:+0100
DTSTART:19471005T030000
RRULE:FREQ=YEARLY;UNTIL=19491002T010000Z;BYMONTH=10;BYDAY=1SU
END:STANDARD
BEGIN:STANDARD
TZNAME:CET
TZOFFSETFROM:+0200
TZOFFSETTO:+0100
DTSTART:19800928T030000
RRULE:FREQ=YEARLY;UNTIL=19950924T010000Z;BYMONTH=9;BYDAY=-1SU
END:STANDARD
BEGIN:DAYLIGHT
TZNAME:CEST
TZOFFSETFROM:+0100
TZOFFSETTO:+0200
DTSTART:19810329T020000
RRULE:FREQ=YEARLY;BYMONTH=3;BYDAY=-1SU
END:DAYLIGHT
BEGIN:STANDARD
TZNAME:CET
TZOFFSETFROM:+0200
TZOFFSETTO:+0100
DTSTART:19961027T030000
RRULE:FREQ=YEARLY;BYMONTH=10;BYDAY=-1SU
END:STANDARD
END:VTIMEZONE
BEGIN:VEVENT
DTSTAMP:20260424T135222Z
DTSTART;TZID=Europe/Berlin:20260324T200000
DTEND;TZID=Europe/Berlin:20260324T230000
SUMMARY:HE 5. Liga Gr. 5 Seebach-Kügeliloo II vs BW-Wollishofen IV (0)
UID:a07620e4-248c-46c5-9c82-5ee793589e7a
STATUS:CONFIRMED
LAST-MODIFIED:20260326T153209Z
DESCRIPTION:5. Liga Herren Gruppe 5\nBegegnungs-Nr: 0\nHeim: Seebach-Kügeliloo II\nGast: BW-Wollishofen IV\n\nAdresse: Sperletweg 71\, 8052 Zürich\n
LOCATION:Sperletweg 71\, 8052 Zürich
CATEGORIES:Saison 2025/26
END:VEVENT
BEGIN:VEVENT
DTSTAMP:20260424T135222Z
DTSTART;TZID=Europe/Berlin:20260414T200000
DTEND;TZID=Europe/Berlin:20260414T230000
SUMMARY:HE 5. Liga Gr. 5 Seebach-Kügeliloo II vs Bülach V (0)
UID:8e47f7a9-bac7-48c5-a678-3dc34f25d515
STATUS:CONFIRMED
LAST-MODIFIED:20260416T103835Z
DESCRIPTION:5. Liga Herren Gruppe 5\nBegegnungs-Nr: 0\nHeim: Seebach-Kügeliloo II\nGast: Bülach V\n\nAdresse: Sperletweg 71\, 8052 Zürich\n
LOCATION:Sperletweg 71\, 8052 Zürich
CATEGORIES:Saison 2025/26
END:VEVENT
BEGIN:VEVENT
DTSTAMP:20260424T135222Z
DTSTART;TZID=Europe/Berlin:20250826T200000
DTEND;TZID=Europe/Berlin:20250826T230000
SUMMARY:HE 5. Liga Gr. 5 Seebach-Kügeliloo II vs Niederhasli VI (0)
UID:d3284dd8-a9b3-45e1-a88f-ee5ca450f786
STATUS:CONFIRMED
LAST-MODIFIED:20250829T144116Z
DESCRIPTION:5. Liga Herren Gruppe 5\nBegegnungs-Nr: 0\nHeim: Seebach-Kügeliloo II\nGast: Niederhasli VI\n\nAdresse: Sperletweg 71\, 8052 Zürich\n
LOCATION:Sperletweg 71\, 8052 Zürich
CATEGORIES:Saison 2025/26
END:VEVENT
BEGIN:VEVENT
DTSTAMP:20260424T135222Z
DTSTART;TZID=Europe/Berlin:20250909T200000
DTEND;TZID=Europe/Berlin:20250909T230000
SUMMARY:HE 5. Liga Gr. 5 Seebach-Kügeliloo II vs Libera Zürich (0)
UID:cdd01dfd-cffb-41ad-98a6-70e8707a8a4c
STATUS:CONFIRMED
LAST-MODIFIED:20250911T100055Z
DESCRIPTION:5. Liga Herren Gruppe 5\nBegegnungs-Nr: 0\nHeim: Seebach-Kügeliloo II\nGast: Libera Zürich\n\nAdresse: Sperletweg 71\, 8052 Zürich\n
LOCATION:Sperletweg 71\, 8052 Zürich
CATEGORIES:Saison 2025/26
END:VEVENT
BEGIN:VEVENT
DTSTAMP:20260424T135222Z
DTSTART;TZID=Europe/Berlin:20251028T200000
DTEND;TZID=Europe/Berlin:20251028T230000
SUMMARY:HE 5. Liga Gr. 5 Seebach-Kügeliloo II vs Meilen-Männedorf V (0)
UID:8a048894-9add-427d-903a-efb16797195d
STATUS:CONFIRMED
LAST-MODIFIED:20251031T144017Z
DESCRIPTION:5. Liga Herren Gruppe 5\nBegegnungs-Nr: 0\nHeim: Seebach-Kügeliloo II\nGast: Meilen-Männedorf V\n\nAdresse: Sperletweg 71\, 8052 Zürich\n
LOCATION:Sperletweg 71\, 8052 Zürich
CATEGORIES:Saison 2025/26
END:VEVENT
BEGIN:VEVENT
DTSTAMP:20260424T135222Z
DTSTART;TZID=Europe/Berlin:20260120T200000
DTEND;TZID=Europe/Berlin:20260120T230000
SUMMARY:HE 5. Liga Gr. 5 Seebach-Kügeliloo II vs Dübendorf-Volketswil IV (0)
UID:05b73482-4824-42a9-9236-083251d75d59
STATUS:CONFIRMED
LAST-MODIFIED:20260121T092804Z
DESCRIPTION:5. Liga Herren Gruppe 5\nBegegnungs-Nr: 0\nHeim: Seebach-Kügeliloo II\nGast: Dübendorf-Volketswil IV\n\nAdresse: Sperletweg 71\, 8052 Zürich\n
LOCATION:Sperletweg 71\, 8052 Zürich
CATEGORIES:Saison 2025/26
END:VEVENT
BEGIN:VEVENT
DTSTAMP:20260424T135222Z
DTSTART;TZID=Europe/Berlin:20260303T200000
DTEND;TZID=Europe/Berlin:20260303T230000
SUMMARY:HE 5. Liga Gr. 5 Seebach-Kügeliloo II vs Pinguin Zürich V (0)
UID:81ac0f82-bc6b-4bdb-a027-cbccc2230563
STATUS:CONFIRMED
LAST-MODIFIED:20260313T131956Z
DESCRIPTION:5. Liga Herren Gruppe 5\nBegegnungs-Nr: 0\nHeim: Seebach-Kügeliloo II\nGast: Pinguin Zürich V\n\nAdresse: Sperletweg 71\, 8052 Zürich\n
LOCATION:Sperletweg 71\, 8052 Zürich
CATEGORIES:Saison 2025/26
END:VEVENT
BEGIN:VEVENT
DTSTAMP:20260424T135222Z
DTSTART;TZID=Europe/Berlin:20260310T200000
DTEND;TZID=Europe/Berlin:20260310T230000
SUMMARY:HE 5. Liga Gr. 5 Meilen-Männedorf V vs Seebach-Kügeliloo II (0)
UID:492f4553-8dc5-4616-bd23-dee160aa0bed
STATUS:CONFIRMED
LAST-MODIFIED:20260313T132024Z
DESCRIPTION:5. Liga Herren Gruppe 5\nBegegnungs-Nr: 0\nHeim: Meilen-Männedorf V\nGast: Seebach-Kügeliloo II\n\nAdresse: Schulhausstr. 27\, 8706 Meilen\n
LOCATION:Schulhausstr. 27\, 8706 Meilen
CATEGORIES:Saison 2025/26
END:VEVENT
BEGIN:VEVENT
DTSTAMP:20260424T135222Z
DTSTART;TZID=Europe/Berlin:20250904T194500
DTEND;TZID=Europe/Berlin:20250904T224500
SUMMARY:HE 5. Liga Gr. 5 Dübendorf-Volketswil IV vs Seebach-Kügeliloo II (0)
UID:fdcf6fcb-ccf7-4c46-94d1-48d44ef5723a
STATUS:CONFIRMED
LAST-MODIFIED:20250905T124425Z
DESCRIPTION:5. Liga Herren Gruppe 5\nBegegnungs-Nr: 0\nHeim: Dübendorf-Volketswil IV\nGast: Seebach-Kügeliloo II\n\nAdresse: Wasserfurrenstrasse 7\, 8600 Dübendorf\n
LOCATION:Wasserfurrenstrasse 7\, 8600 Dübendorf
CATEGORIES:Saison 2025/26
END:VEVENT
BEGIN:VEVENT
DTSTAMP:20260424T135222Z
DTSTART;TZID=Europe/Berlin:20250925T200000
DTEND;TZID=Europe/Berlin:20250925T230000
SUMMARY:HE 5. Liga Gr. 5 Pinguin Zürich V vs Seebach-Kügeliloo II (0)
UID:370a6ac8-e49e-4e97-b14c-17ee3b909044
STATUS:CONFIRMED
LAST-MODIFIED:20250926T132702Z
DESCRIPTION:5. Liga Herren Gruppe 5\nBegegnungs-Nr: 0\nHeim: Pinguin Zürich V\nGast: Seebach-Kügeliloo II\n\nAdresse: Grindelstrasse 20\, 8303 Bassersdorf\n
LOCATION:Grindelstrasse 20\, 8303 Bassersdorf
CATEGORIES:Saison 2025/26
END:VEVENT
BEGIN:VEVENT
DTSTAMP:20260424T135222Z
DTSTART;TZID=Europe/Berlin:20251107T200000
DTEND;TZID=Europe/Berlin:20251107T230000
SUMMARY:HE 5. Liga Gr. 5 BW-Wollishofen IV vs Seebach-Kügeliloo II (0)
UID:5b37353f-8c7c-4fad-ba43-ea3da750bf38
STATUS:CONFIRMED
LAST-MODIFIED:20251114T142423Z
DESCRIPTION:5. Liga Herren Gruppe 5\nBegegnungs-Nr: 0\nHeim: BW-Wollishofen IV\nGast: Seebach-Kügeliloo II\n\nAdresse: Kilchbergstr. 28\, 8038 Zürich\n
LOCATION:Kilchbergstr. 28\, 8038 Zürich
CATEGORIES:Saison 2025/26
END:VEVENT
BEGIN:VEVENT
DTSTAMP:20260424T135222Z
DTSTART;TZID=Europe/Berlin:20251127T201500
DTEND;TZID=Europe/Berlin:20251127T231500
SUMMARY:HE 5. Liga Gr. 5 Bülach V vs Seebach-Kügeliloo II (0)
UID:a7c6401f-7266-4bbc-a2fd-d8c11f6ae2f5
STATUS:CONFIRMED
LAST-MODIFIED:20251128T134304Z
DESCRIPTION:5. Liga Herren Gruppe 5\nBegegnungs-Nr: 0\nHeim: Bülach V\nGast: Seebach-Kügeliloo II\n\nAdresse: Unterweg 51\, 8180 Bülach\n
LOCATION:Unterweg 51\, 8180 Bülach
CATEGORIES:Saison 2025/26
END:VEVENT
BEGIN:VEVENT
DTSTAMP:20260424T135222Z
DTSTART;TZID=Europe/Berlin:20260129T200000
DTEND;TZID=Europe/Berlin:20260129T230000
SUMMARY:HE 5. Liga Gr. 5 Libera Zürich vs Seebach-Kügeliloo II (0)
UID:cbdd1d57-dd93-4c5c-8a1b-1014222e19c1
STATUS:CONFIRMED
LAST-MODIFIED:20260203T142602Z
DESCRIPTION:5. Liga Herren Gruppe 5\nBegegnungs-Nr: 0\nHeim: Libera Zürich\nGast: Seebach-Kügeliloo II\n\nAdresse: Sperletweg 71\, 8052 Zürich\n
LOCATION:Sperletweg 71\, 8052 Zürich
CATEGORIES:Saison 2025/26
END:VEVENT
BEGIN:VEVENT
DTSTAMP:20260424T135222Z
DTSTART;TZID=Europe/Berlin:20260105T193000
DTEND;TZID=Europe/Berlin:20260105T223000
SUMMARY:HE 5. Liga Gr. 5 Niederhasli VI vs Seebach-Kügeliloo II (0)
UID:adaed7a9-d2c7-43f3-820e-a6be69f59fcb
STATUS:CONFIRMED
LAST-MODIFIED:20260109T080117Z
DESCRIPTION:5. Liga Herren Gruppe 5\nBegegnungs-Nr: 0\nHeim: Niederhasli VI\nGast: Seebach-Kügeliloo II\n\nAdresse: Dorfstrasse 22\, 8155 Niederhasli\n
LOCATION:Dorfstrasse 22\, 8155 Niederhasli
CATEGORIES:Saison 2025/26
END:VEVENT
END:VCALENDAR
