BEGIN:VCALENDAR
PRODID:-//nuDatenautomaten//framework iCal4j //DE
VERSION:2.0
CALSCALE:GREGORIAN
BEGIN:VTIMEZONE
TZID:Europe/Berlin
LAST-MODIFIED:20260306T231828Z
TZURL:https://www.tzurl.org/zoneinfo/Europe/Berlin
X-LIC-LOCATION:Europe/Berlin
X-PROLEPTIC-TZNAME:LMT
BEGIN:STANDARD
TZNAME:CET
TZOFFSETFROM:+005328
TZOFFSETTO:+0100
DTSTART:18930401T000000
END:STANDARD
BEGIN:DAYLIGHT
TZNAME:CEST
TZOFFSETFROM:+0100
TZOFFSETTO:+0200
DTSTART:19160430T230000
RDATE:19400401T020000
RDATE:19430329T020000
RDATE:19460414T020000
RDATE:19470406T030000
RDATE:19480418T020000
RDATE:19490410T020000
RDATE:19800406T020000
END:DAYLIGHT
BEGIN:STANDARD
TZNAME:CET
TZOFFSETFROM:+0200
TZOFFSETTO:+0100
DTSTART:19161001T010000
RDATE:19421102T030000
RDATE:19431004T030000
RDATE:19441002T030000
RDATE:19451118T030000
RDATE:19461007T030000
END:STANDARD
BEGIN:DAYLIGHT
TZNAME:CEST
TZOFFSETFROM:+0100
TZOFFSETTO:+0200
DTSTART:19170416T020000
RRULE:FREQ=YEARLY;UNTIL=19180415T010000Z;BYMONTH=4;BYDAY=3MO
END:DAYLIGHT
BEGIN:STANDARD
TZNAME:CET
TZOFFSETFROM:+0200
TZOFFSETTO:+0100
DTSTART:19170917T030000
RRULE:FREQ=YEARLY;UNTIL=19180916T010000Z;BYMONTH=9;BYDAY=3MO
END:STANDARD
BEGIN:DAYLIGHT
TZNAME:CEST
TZOFFSETFROM:+0100
TZOFFSETTO:+0200
DTSTART:19440403T020000
RRULE:FREQ=YEARLY;UNTIL=19450402T010000Z;BYMONTH=4;BYDAY=1MO
END:DAYLIGHT
BEGIN:DAYLIGHT
TZNAME:CEMT
TZOFFSETFROM:+0200
TZOFFSETTO:+0300
DTSTART:19450524T020000
RDATE:19470511T030000
END:DAYLIGHT
BEGIN:DAYLIGHT
TZNAME:CEST
TZOFFSETFROM:+0300
TZOFFSETTO:+0200
DTSTART:19450924T030000
RDATE:19470629T030000
END:DAYLIGHT
BEGIN:STANDARD
TZNAME:CET
TZOFFSETFROM:+0100
TZOFFSETTO:+0100
DTSTART:19460101T000000
RDATE:19800101T000000
END:STANDARD
BEGIN:STANDARD
TZNAME:CET
TZOFFSETFROM:+0200
TZOFFSETTO:+0100
DTSTART:19471005T030000
RRULE:FREQ=YEARLY;UNTIL=19491002T010000Z;BYMONTH=10;BYDAY=1SU
END:STANDARD
BEGIN:STANDARD
TZNAME:CET
TZOFFSETFROM:+0200
TZOFFSETTO:+0100
DTSTART:19800928T030000
RRULE:FREQ=YEARLY;UNTIL=19950924T010000Z;BYMONTH=9;BYDAY=-1SU
END:STANDARD
BEGIN:DAYLIGHT
TZNAME:CEST
TZOFFSETFROM:+0100
TZOFFSETTO:+0200
DTSTART:19810329T020000
RRULE:FREQ=YEARLY;BYMONTH=3;BYDAY=-1SU
END:DAYLIGHT
BEGIN:STANDARD
TZNAME:CET
TZOFFSETFROM:+0200
TZOFFSETTO:+0100
DTSTART:19961027T030000
RRULE:FREQ=YEARLY;BYMONTH=10;BYDAY=-1SU
END:STANDARD
END:VTIMEZONE
BEGIN:VEVENT
DTSTAMP:20260424T114931Z
DTSTART;TZID=Europe/Berlin:20251103T200000
DTEND;TZID=Europe/Berlin:20251103T230000
SUMMARY:Ligue 1 ZZ-Lancy vs Mandement (7)
UID:6352726a-194d-43f1-b53f-1441aa434f37
STATUS:CONFIRMED
LAST-MODIFIED:20251104T081247Z
DESCRIPTION:1ère ligue O40\nBegegnungs-Nr: 7\nHeim: ZZ-Lancy\nGast: Mandement\n
LOCATION:
CATEGORIES:Saison 2025/26
END:VEVENT
BEGIN:VEVENT
DTSTAMP:20260424T114931Z
DTSTART;TZID=Europe/Berlin:20260420T200000
DTEND;TZID=Europe/Berlin:20260420T230000
SUMMARY:Ligue 1 ZZ-Lancy vs Versoix (25)
UID:bdfb2d9a-0435-4ab1-bb28-daf66823b97d
STATUS:CONFIRMED
LAST-MODIFIED:20260421T072404Z
DESCRIPTION:1ère ligue O40\nBegegnungs-Nr: 25\nHeim: ZZ-Lancy\nGast: Versoix\n
LOCATION:
CATEGORIES:Saison 2025/26
END:VEVENT
BEGIN:VEVENT
DTSTAMP:20260424T114931Z
DTSTART;TZID=Europe/Berlin:20260202T200000
DTEND;TZID=Europe/Berlin:20260202T230000
SUMMARY:Ligue 1 ZZ-Lancy vs Silver Star (21)
UID:c89c4131-7fc6-4b5c-922c-6d605efbfd80
STATUS:CONFIRMED
LAST-MODIFIED:20260203T092258Z
DESCRIPTION:1ère ligue O40\nBegegnungs-Nr: 21\nHeim: ZZ-Lancy\nGast: Silver Star\n
LOCATION:
CATEGORIES:Saison 2025/26
END:VEVENT
BEGIN:VEVENT
DTSTAMP:20260424T114931Z
DTSTART;TZID=Europe/Berlin:20250908T200000
DTEND;TZID=Europe/Berlin:20250908T230000
SUMMARY:Ligue 1 ZZ-Lancy vs Châtelaine (1)
UID:7201ad87-2383-493a-b5ab-6d911161533f
STATUS:CONFIRMED
LAST-MODIFIED:20250909T064203Z
DESCRIPTION:1ère ligue O40\nBegegnungs-Nr: 1\nHeim: ZZ-Lancy\nGast: Châtelaine\n
LOCATION:
CATEGORIES:Saison 2025/26
END:VEVENT
BEGIN:VEVENT
DTSTAMP:20260424T114931Z
DTSTART;TZID=Europe/Berlin:20251215T200000
DTEND;TZID=Europe/Berlin:20251215T230000
SUMMARY:Ligue 1 ZZ-Lancy vs UGS-Chênois (13)
UID:e1de38dd-9bfe-4edd-b003-adcf6e9a9617
STATUS:CONFIRMED
LAST-MODIFIED:20251216T140233Z
DESCRIPTION:1ère ligue O40\nBegegnungs-Nr: 13\nHeim: ZZ-Lancy\nGast: UGS-Chênois\n
LOCATION:
CATEGORIES:Saison 2025/26
END:VEVENT
BEGIN:VEVENT
DTSTAMP:20260424T114931Z
DTSTART;TZID=Europe/Berlin:20250929T194500
DTEND;TZID=Europe/Berlin:20250929T224500
SUMMARY:Ligue 1 Silver Star vs ZZ-Lancy (6)
UID:b7afe9ab-0cb4-4b2c-b0cf-5fb5ae48bbef
STATUS:CONFIRMED
LAST-MODIFIED:20250930T185616Z
DESCRIPTION:1ère ligue O40\nBegegnungs-Nr: 6\nHeim: Silver Star\nGast: ZZ-Lancy\n
LOCATION:
CATEGORIES:Saison 2025/26
END:VEVENT
BEGIN:VEVENT
DTSTAMP:20260424T114931Z
DTSTART;TZID=Europe/Berlin:20260504T194500
DTEND;TZID=Europe/Berlin:20260504T224500
SUMMARY:Ligue 1 UGS-Chênois vs ZZ-Lancy (28)
UID:2a3b3bf6-cbdb-4b95-92be-c2550a0e23b5
STATUS:CONFIRMED
LAST-MODIFIED:20260303T170427Z
DESCRIPTION:1ère ligue O40\nBegegnungs-Nr: 28\nHeim: UGS-Chênois\nGast: ZZ-Lancy\n
LOCATION:
CATEGORIES:Saison 2025/26
END:VEVENT
BEGIN:VEVENT
DTSTAMP:20260424T114931Z
DTSTART;TZID=Europe/Berlin:20260302T194500
DTEND;TZID=Europe/Berlin:20260302T224500
SUMMARY:Ligue 1 Mandement vs ZZ-Lancy (22)
UID:872a4044-7ba4-49f5-9006-c24e7d39a037
STATUS:CONFIRMED
LAST-MODIFIED:20260303T074331Z
DESCRIPTION:1ère ligue O40\nBegegnungs-Nr: 22\nHeim: Mandement\nGast: ZZ-Lancy\n
LOCATION:
CATEGORIES:Saison 2025/26
END:VEVENT
BEGIN:VEVENT
DTSTAMP:20260424T114931Z
DTSTART;TZID=Europe/Berlin:20260105T200000
DTEND;TZID=Europe/Berlin:20260105T230000
SUMMARY:Ligue 1 Châtelaine vs ZZ-Lancy (16)
UID:85823436-e401-4756-9a86-d15f5ac1dd24
STATUS:CONFIRMED
LAST-MODIFIED:20260106T085604Z
DESCRIPTION:1ère ligue O40\nBegegnungs-Nr: 16\nHeim: Châtelaine\nGast: ZZ-Lancy\n
LOCATION:
CATEGORIES:Saison 2025/26
END:VEVENT
BEGIN:VEVENT
DTSTAMP:20260424T114931Z
DTSTART;TZID=Europe/Berlin:20251208T194500
DTEND;TZID=Europe/Berlin:20251208T224500
SUMMARY:Ligue 1 Versoix vs ZZ-Lancy (10)
UID:d8ec726f-9e6f-4be5-91a9-7b1c60c1bdc4
STATUS:CONFIRMED
LAST-MODIFIED:20251209T183029Z
DESCRIPTION:1ère ligue O40\nBegegnungs-Nr: 10\nHeim: Versoix\nGast: ZZ-Lancy\n
LOCATION:
CATEGORIES:Saison 2025/26
END:VEVENT
END:VCALENDAR
