BEGIN:VCALENDAR
PRODID:-//nuDatenautomaten//framework iCal4j //DE
VERSION:2.0
CALSCALE:GREGORIAN
BEGIN:VTIMEZONE
TZID:Europe/Berlin
LAST-MODIFIED:20260306T231828Z
TZURL:https://www.tzurl.org/zoneinfo/Europe/Berlin
X-LIC-LOCATION:Europe/Berlin
X-PROLEPTIC-TZNAME:LMT
BEGIN:STANDARD
TZNAME:CET
TZOFFSETFROM:+005328
TZOFFSETTO:+0100
DTSTART:18930401T000000
END:STANDARD
BEGIN:DAYLIGHT
TZNAME:CEST
TZOFFSETFROM:+0100
TZOFFSETTO:+0200
DTSTART:19160430T230000
RDATE:19400401T020000
RDATE:19430329T020000
RDATE:19460414T020000
RDATE:19470406T030000
RDATE:19480418T020000
RDATE:19490410T020000
RDATE:19800406T020000
END:DAYLIGHT
BEGIN:STANDARD
TZNAME:CET
TZOFFSETFROM:+0200
TZOFFSETTO:+0100
DTSTART:19161001T010000
RDATE:19421102T030000
RDATE:19431004T030000
RDATE:19441002T030000
RDATE:19451118T030000
RDATE:19461007T030000
END:STANDARD
BEGIN:DAYLIGHT
TZNAME:CEST
TZOFFSETFROM:+0100
TZOFFSETTO:+0200
DTSTART:19170416T020000
RRULE:FREQ=YEARLY;UNTIL=19180415T010000Z;BYMONTH=4;BYDAY=3MO
END:DAYLIGHT
BEGIN:STANDARD
TZNAME:CET
TZOFFSETFROM:+0200
TZOFFSETTO:+0100
DTSTART:19170917T030000
RRULE:FREQ=YEARLY;UNTIL=19180916T010000Z;BYMONTH=9;BYDAY=3MO
END:STANDARD
BEGIN:DAYLIGHT
TZNAME:CEST
TZOFFSETFROM:+0100
TZOFFSETTO:+0200
DTSTART:19440403T020000
RRULE:FREQ=YEARLY;UNTIL=19450402T010000Z;BYMONTH=4;BYDAY=1MO
END:DAYLIGHT
BEGIN:DAYLIGHT
TZNAME:CEMT
TZOFFSETFROM:+0200
TZOFFSETTO:+0300
DTSTART:19450524T020000
RDATE:19470511T030000
END:DAYLIGHT
BEGIN:DAYLIGHT
TZNAME:CEST
TZOFFSETFROM:+0300
TZOFFSETTO:+0200
DTSTART:19450924T030000
RDATE:19470629T030000
END:DAYLIGHT
BEGIN:STANDARD
TZNAME:CET
TZOFFSETFROM:+0100
TZOFFSETTO:+0100
DTSTART:19460101T000000
RDATE:19800101T000000
END:STANDARD
BEGIN:STANDARD
TZNAME:CET
TZOFFSETFROM:+0200
TZOFFSETTO:+0100
DTSTART:19471005T030000
RRULE:FREQ=YEARLY;UNTIL=19491002T010000Z;BYMONTH=10;BYDAY=1SU
END:STANDARD
BEGIN:STANDARD
TZNAME:CET
TZOFFSETFROM:+0200
TZOFFSETTO:+0100
DTSTART:19800928T030000
RRULE:FREQ=YEARLY;UNTIL=19950924T010000Z;BYMONTH=9;BYDAY=-1SU
END:STANDARD
BEGIN:DAYLIGHT
TZNAME:CEST
TZOFFSETFROM:+0100
TZOFFSETTO:+0200
DTSTART:19810329T020000
RRULE:FREQ=YEARLY;BYMONTH=3;BYDAY=-1SU
END:DAYLIGHT
BEGIN:STANDARD
TZNAME:CET
TZOFFSETFROM:+0200
TZOFFSETTO:+0100
DTSTART:19961027T030000
RRULE:FREQ=YEARLY;BYMONTH=10;BYDAY=-1SU
END:STANDARD
END:VTIMEZONE
BEGIN:VEVENT
DTSTAMP:20260424T005502Z
DTSTART;TZID=Europe/Berlin:20250830T143000
DTEND;TZID=Europe/Berlin:20250830T173000
SUMMARY:JUG\, 3.Li\, Gr.8\, VR TSV Zumikon vs Winterthur II (2)
UID:8d4df63a-784e-41b2-93a3-72c22d839057
STATUS:CONFIRMED
LAST-MODIFIED:20250902T125523Z
DESCRIPTION:Jugend\, 3. Liga\, Gruppe 8\, Vorrunde\nBegegnungs-Nr: 2\nHeim: TSV Zumikon\nGast: Winterthur II\n\nAdresse: Dorfstrasse 45\, 8126 Zumikon\n
LOCATION:Dorfstrasse 45\, 8126 Zumikon
CATEGORIES:Saison 2025/26
END:VEVENT
BEGIN:VEVENT
DTSTAMP:20260424T005502Z
DTSTART;TZID=Europe/Berlin:20251115T160000
DTEND;TZID=Europe/Berlin:20251115T190000
SUMMARY:JUG\, 3.Li\, Gr.8\, ZR TSV Zumikon vs Bülach III (3)
UID:e2011627-85fd-4945-8335-871ffb94c0d6
STATUS:CONFIRMED
LAST-MODIFIED:20251121T101911Z
DESCRIPTION:Jugend\, 3. Liga\, Gruppe 8\, Zwischenrunde\nBegegnungs-Nr: 3\nHeim: TSV Zumikon\nGast: Bülach III\n\nAdresse: Dorfstrasse 45\, 8126 Zumikon\n
LOCATION:Dorfstrasse 45\, 8126 Zumikon
CATEGORIES:Saison 2025/26
END:VEVENT
BEGIN:VEVENT
DTSTAMP:20260424T005502Z
DTSTART;TZID=Europe/Berlin:20251115T130000
DTEND;TZID=Europe/Berlin:20251115T160000
SUMMARY:JUG\, 3.Li\, Gr.8\, ZR TSV Zumikon vs Gossau St.Gallen (1)
UID:0f1ac2db-c0bb-4efa-b0e7-a348aac95566
STATUS:CONFIRMED
LAST-MODIFIED:20251124T150914Z
DESCRIPTION:Jugend\, 3. Liga\, Gruppe 8\, Zwischenrunde\nBegegnungs-Nr: 1\nHeim: TSV Zumikon\nGast: Gossau St.Gallen\nHalle: Poule in Zumikon\, TH Farlifang\nAdresse: Dorfstrasse 45\, 8126 Zumikon\n
LOCATION:Poule in Zumikon\, TH Farlifang Dorfstrasse 45\, 8126 Zumikon
CATEGORIES:Saison 2025/26
END:VEVENT
BEGIN:VEVENT
DTSTAMP:20260424T005502Z
DTSTART;TZID=Europe/Berlin:20260328T130000
DTEND;TZID=Europe/Berlin:20260328T160000
SUMMARY:JUG\, 3.Li\, Gr.5\, Final TSV Zumikon vs Ettenhausen II (2)
UID:111103e3-cbd5-4231-9332-58f14d2a2a9e
STATUS:CONFIRMED
LAST-MODIFIED:20260401T140425Z
DESCRIPTION:Jugend\, 3. Liga\, Gruppe 5\, Final\nBegegnungs-Nr: 2\nHeim: TSV Zumikon\nGast: Ettenhausen II\n\nAdresse: Dorfstrasse 45\, 8126 Zumikon\n
LOCATION:Dorfstrasse 45\, 8126 Zumikon
CATEGORIES:Saison 2025/26
END:VEVENT
BEGIN:VEVENT
DTSTAMP:20260424T005502Z
DTSTART;TZID=Europe/Berlin:20260328T160000
DTEND;TZID=Europe/Berlin:20260328T190000
SUMMARY:JUG\, 3.Li\, Gr.5\, Final TSV Zumikon vs Zürich-Affoltern V (5)
UID:3e566d01-6efc-4ada-93af-03ac6667d42f
STATUS:CONFIRMED
LAST-MODIFIED:20260401T140510Z
DESCRIPTION:Jugend\, 3. Liga\, Gruppe 5\, Final\nBegegnungs-Nr: 5\nHeim: TSV Zumikon\nGast: Zürich-Affoltern V\n\nAdresse: Dorfstrasse 45\, 8126 Zumikon\n
LOCATION:Dorfstrasse 45\, 8126 Zumikon
CATEGORIES:Saison 2025/26
END:VEVENT
BEGIN:VEVENT
DTSTAMP:20260424T005502Z
DTSTART;TZID=Europe/Berlin:20250830T160000
DTEND;TZID=Europe/Berlin:20250830T190000
SUMMARY:JUG\, 3.Li\, Gr.8\, VR BW-Wollishofen vs TSV Zumikon (3)
UID:91985de5-4cad-4bcb-9ca5-4fbb118f5136
STATUS:CONFIRMED
LAST-MODIFIED:20250902T125545Z
DESCRIPTION:Jugend\, 3. Liga\, Gruppe 8\, Vorrunde\nBegegnungs-Nr: 3\nHeim: BW-Wollishofen\nGast: TSV Zumikon\n\nAdresse: Kilchbergstr. 28\, 8038 Zürich\n
LOCATION:Kilchbergstr. 28\, 8038 Zürich
CATEGORIES:Saison 2025/26
END:VEVENT
BEGIN:VEVENT
DTSTAMP:20260424T005502Z
DTSTART;TZID=Europe/Berlin:20260328T143000
DTEND;TZID=Europe/Berlin:20260328T173000
SUMMARY:JUG\, 3.Li\, Gr.5\, Final BW-Wollishofen vs TSV Zumikon (4)
UID:18318088-886f-418f-83d3-891341bfb48f
STATUS:CONFIRMED
LAST-MODIFIED:20260401T140450Z
DESCRIPTION:Jugend\, 3. Liga\, Gruppe 5\, Final\nBegegnungs-Nr: 4\nHeim: BW-Wollishofen\nGast: TSV Zumikon\n\nAdresse: Kilchbergstr. 28\, 8038 Zürich\n
LOCATION:Kilchbergstr. 28\, 8038 Zürich
CATEGORIES:Saison 2025/26
END:VEVENT
END:VCALENDAR
