BEGIN:VCALENDAR
PRODID:-//nuDatenautomaten//framework iCal4j //DE
VERSION:2.0
CALSCALE:GREGORIAN
BEGIN:VTIMEZONE
TZID:Europe/Berlin
LAST-MODIFIED:20260306T231828Z
TZURL:https://www.tzurl.org/zoneinfo/Europe/Berlin
X-LIC-LOCATION:Europe/Berlin
X-PROLEPTIC-TZNAME:LMT
BEGIN:STANDARD
TZNAME:CET
TZOFFSETFROM:+005328
TZOFFSETTO:+0100
DTSTART:18930401T000000
END:STANDARD
BEGIN:DAYLIGHT
TZNAME:CEST
TZOFFSETFROM:+0100
TZOFFSETTO:+0200
DTSTART:19160430T230000
RDATE:19400401T020000
RDATE:19430329T020000
RDATE:19460414T020000
RDATE:19470406T030000
RDATE:19480418T020000
RDATE:19490410T020000
RDATE:19800406T020000
END:DAYLIGHT
BEGIN:STANDARD
TZNAME:CET
TZOFFSETFROM:+0200
TZOFFSETTO:+0100
DTSTART:19161001T010000
RDATE:19421102T030000
RDATE:19431004T030000
RDATE:19441002T030000
RDATE:19451118T030000
RDATE:19461007T030000
END:STANDARD
BEGIN:DAYLIGHT
TZNAME:CEST
TZOFFSETFROM:+0100
TZOFFSETTO:+0200
DTSTART:19170416T020000
RRULE:FREQ=YEARLY;UNTIL=19180415T010000Z;BYMONTH=4;BYDAY=3MO
END:DAYLIGHT
BEGIN:STANDARD
TZNAME:CET
TZOFFSETFROM:+0200
TZOFFSETTO:+0100
DTSTART:19170917T030000
RRULE:FREQ=YEARLY;UNTIL=19180916T010000Z;BYMONTH=9;BYDAY=3MO
END:STANDARD
BEGIN:DAYLIGHT
TZNAME:CEST
TZOFFSETFROM:+0100
TZOFFSETTO:+0200
DTSTART:19440403T020000
RRULE:FREQ=YEARLY;UNTIL=19450402T010000Z;BYMONTH=4;BYDAY=1MO
END:DAYLIGHT
BEGIN:DAYLIGHT
TZNAME:CEMT
TZOFFSETFROM:+0200
TZOFFSETTO:+0300
DTSTART:19450524T020000
RDATE:19470511T030000
END:DAYLIGHT
BEGIN:DAYLIGHT
TZNAME:CEST
TZOFFSETFROM:+0300
TZOFFSETTO:+0200
DTSTART:19450924T030000
RDATE:19470629T030000
END:DAYLIGHT
BEGIN:STANDARD
TZNAME:CET
TZOFFSETFROM:+0100
TZOFFSETTO:+0100
DTSTART:19460101T000000
RDATE:19800101T000000
END:STANDARD
BEGIN:STANDARD
TZNAME:CET
TZOFFSETFROM:+0200
TZOFFSETTO:+0100
DTSTART:19471005T030000
RRULE:FREQ=YEARLY;UNTIL=19491002T010000Z;BYMONTH=10;BYDAY=1SU
END:STANDARD
BEGIN:STANDARD
TZNAME:CET
TZOFFSETFROM:+0200
TZOFFSETTO:+0100
DTSTART:19800928T030000
RRULE:FREQ=YEARLY;UNTIL=19950924T010000Z;BYMONTH=9;BYDAY=-1SU
END:STANDARD
BEGIN:DAYLIGHT
TZNAME:CEST
TZOFFSETFROM:+0100
TZOFFSETTO:+0200
DTSTART:19810329T020000
RRULE:FREQ=YEARLY;BYMONTH=3;BYDAY=-1SU
END:DAYLIGHT
BEGIN:STANDARD
TZNAME:CET
TZOFFSETFROM:+0200
TZOFFSETTO:+0100
DTSTART:19961027T030000
RRULE:FREQ=YEARLY;BYMONTH=10;BYDAY=-1SU
END:STANDARD
END:VTIMEZONE
BEGIN:VEVENT
DTSTAMP:20260424T134201Z
DTSTART;TZID=Europe/Berlin:20260304T194500
DTEND;TZID=Europe/Berlin:20260304T224500
SUMMARY:Ligue 3 Gr.4 Silver Star III vs Onex III (16)
UID:04b3142f-f218-4f1d-bcac-348bf734c22a
STATUS:CONFIRMED
LAST-MODIFIED:20260305T123315Z
DESCRIPTION:3ème ligue O40 4ème Groupe\nBegegnungs-Nr: 16\nHeim: Silver Star III\nGast: Onex III\n
LOCATION:
CATEGORIES:Saison 2025/26
END:VEVENT
BEGIN:VEVENT
DTSTAMP:20260424T134201Z
DTSTART;TZID=Europe/Berlin:20260204T194500
DTEND;TZID=Europe/Berlin:20260204T224500
SUMMARY:Ligue 3 Gr.4 Silver Star III vs Vernier (13)
UID:11092737-9c70-477b-8d31-eeb82094c957
STATUS:CONFIRMED
LAST-MODIFIED:20260205T100616Z
DESCRIPTION:3ème ligue O40 4ème Groupe\nBegegnungs-Nr: 13\nHeim: Silver Star III\nGast: Vernier\n
LOCATION:
CATEGORIES:Saison 2025/26
END:VEVENT
BEGIN:VEVENT
DTSTAMP:20260424T134201Z
DTSTART;TZID=Europe/Berlin:20251217T194500
DTEND;TZID=Europe/Berlin:20251217T224500
SUMMARY:Ligue 3 Gr.4 Silver Star III vs Versoix III (10)
UID:80d6b4f0-3ef0-4a31-a56d-20b3be2e7bbd
STATUS:CONFIRMED
LAST-MODIFIED:20251218T155929Z
DESCRIPTION:3ème ligue O40 4ème Groupe\nBegegnungs-Nr: 10\nHeim: Silver Star III\nGast: Versoix III\n
LOCATION:
CATEGORIES:Saison 2025/26
END:VEVENT
BEGIN:VEVENT
DTSTAMP:20260424T134201Z
DTSTART;TZID=Europe/Berlin:20251210T194500
DTEND;TZID=Europe/Berlin:20251210T224500
SUMMARY:Ligue 3 Gr.4 Silver Star III vs Grand-Saconnex (7)
UID:53682106-b96c-47fc-a556-15cd1a362048
STATUS:CONFIRMED
LAST-MODIFIED:20251211T122821Z
DESCRIPTION:3ème ligue O40 4ème Groupe\nBegegnungs-Nr: 7\nHeim: Silver Star III\nGast: Grand-Saconnex\n
LOCATION:
CATEGORIES:Saison 2025/26
END:VEVENT
BEGIN:VEVENT
DTSTAMP:20260424T134201Z
DTSTART;TZID=Europe/Berlin:20260422T194500
DTEND;TZID=Europe/Berlin:20260422T224500
SUMMARY:Ligue 3 Gr.4 Grand-Saconnex vs Silver Star III (17)
UID:ce723f66-1e1f-45b4-a31e-5fe6ba6bd8c4
STATUS:CONFIRMED
LAST-MODIFIED:20260423T164741Z
DESCRIPTION:3ème ligue O40 4ème Groupe\nBegegnungs-Nr: 17\nHeim: Grand-Saconnex\nGast: Silver Star III\n
LOCATION:
CATEGORIES:Saison 2025/26
END:VEVENT
BEGIN:VEVENT
DTSTAMP:20260424T134201Z
DTSTART;TZID=Europe/Berlin:20260506T194500
DTEND;TZID=Europe/Berlin:20260506T224500
SUMMARY:Ligue 3 Gr.4 Versoix III vs Silver Star III (20)
UID:e74c6cac-66ef-4538-b75c-76e947f70104
STATUS:CONFIRMED
DESCRIPTION:3ème ligue O40 4ème Groupe\nBegegnungs-Nr: 20\nHeim: Versoix III\nGast: Silver Star III\n
LOCATION:
CATEGORIES:Saison 2025/26
END:VEVENT
BEGIN:VEVENT
DTSTAMP:20260424T134201Z
DTSTART;TZID=Europe/Berlin:20251105T194500
DTEND;TZID=Europe/Berlin:20251105T224500
SUMMARY:Ligue 3 Gr.4 Onex III vs Silver Star III (6)
UID:ea3525fa-adbe-4a0a-a59e-04e185841765
STATUS:CONFIRMED
LAST-MODIFIED:20251105T232223Z
DESCRIPTION:3ème ligue O40 4ème Groupe\nBegegnungs-Nr: 6\nHeim: Onex III\nGast: Silver Star III\n
LOCATION:
CATEGORIES:Saison 2025/26
END:VEVENT
BEGIN:VEVENT
DTSTAMP:20260424T134201Z
DTSTART;TZID=Europe/Berlin:20251001T194500
DTEND;TZID=Europe/Berlin:20251001T224500
SUMMARY:Ligue 3 Gr.4 Vernier vs Silver Star III (3)
UID:9bfef926-8349-483f-be25-0680627cd7c2
STATUS:CONFIRMED
LAST-MODIFIED:20251002T160046Z
DESCRIPTION:3ème ligue O40 4ème Groupe\nBegegnungs-Nr: 3\nHeim: Vernier\nGast: Silver Star III\n
LOCATION:
CATEGORIES:Saison 2025/26
END:VEVENT
END:VCALENDAR
