BEGIN:VCALENDAR
PRODID:-//nuDatenautomaten//framework iCal4j //DE
VERSION:2.0
CALSCALE:GREGORIAN
BEGIN:VTIMEZONE
TZID:Europe/Berlin
LAST-MODIFIED:20260306T231828Z
TZURL:https://www.tzurl.org/zoneinfo/Europe/Berlin
X-LIC-LOCATION:Europe/Berlin
X-PROLEPTIC-TZNAME:LMT
BEGIN:STANDARD
TZNAME:CET
TZOFFSETFROM:+005328
TZOFFSETTO:+0100
DTSTART:18930401T000000
END:STANDARD
BEGIN:DAYLIGHT
TZNAME:CEST
TZOFFSETFROM:+0100
TZOFFSETTO:+0200
DTSTART:19160430T230000
RDATE:19400401T020000
RDATE:19430329T020000
RDATE:19460414T020000
RDATE:19470406T030000
RDATE:19480418T020000
RDATE:19490410T020000
RDATE:19800406T020000
END:DAYLIGHT
BEGIN:STANDARD
TZNAME:CET
TZOFFSETFROM:+0200
TZOFFSETTO:+0100
DTSTART:19161001T010000
RDATE:19421102T030000
RDATE:19431004T030000
RDATE:19441002T030000
RDATE:19451118T030000
RDATE:19461007T030000
END:STANDARD
BEGIN:DAYLIGHT
TZNAME:CEST
TZOFFSETFROM:+0100
TZOFFSETTO:+0200
DTSTART:19170416T020000
RRULE:FREQ=YEARLY;UNTIL=19180415T010000Z;BYMONTH=4;BYDAY=3MO
END:DAYLIGHT
BEGIN:STANDARD
TZNAME:CET
TZOFFSETFROM:+0200
TZOFFSETTO:+0100
DTSTART:19170917T030000
RRULE:FREQ=YEARLY;UNTIL=19180916T010000Z;BYMONTH=9;BYDAY=3MO
END:STANDARD
BEGIN:DAYLIGHT
TZNAME:CEST
TZOFFSETFROM:+0100
TZOFFSETTO:+0200
DTSTART:19440403T020000
RRULE:FREQ=YEARLY;UNTIL=19450402T010000Z;BYMONTH=4;BYDAY=1MO
END:DAYLIGHT
BEGIN:DAYLIGHT
TZNAME:CEMT
TZOFFSETFROM:+0200
TZOFFSETTO:+0300
DTSTART:19450524T020000
RDATE:19470511T030000
END:DAYLIGHT
BEGIN:DAYLIGHT
TZNAME:CEST
TZOFFSETFROM:+0300
TZOFFSETTO:+0200
DTSTART:19450924T030000
RDATE:19470629T030000
END:DAYLIGHT
BEGIN:STANDARD
TZNAME:CET
TZOFFSETFROM:+0100
TZOFFSETTO:+0100
DTSTART:19460101T000000
RDATE:19800101T000000
END:STANDARD
BEGIN:STANDARD
TZNAME:CET
TZOFFSETFROM:+0200
TZOFFSETTO:+0100
DTSTART:19471005T030000
RRULE:FREQ=YEARLY;UNTIL=19491002T010000Z;BYMONTH=10;BYDAY=1SU
END:STANDARD
BEGIN:STANDARD
TZNAME:CET
TZOFFSETFROM:+0200
TZOFFSETTO:+0100
DTSTART:19800928T030000
RRULE:FREQ=YEARLY;UNTIL=19950924T010000Z;BYMONTH=9;BYDAY=-1SU
END:STANDARD
BEGIN:DAYLIGHT
TZNAME:CEST
TZOFFSETFROM:+0100
TZOFFSETTO:+0200
DTSTART:19810329T020000
RRULE:FREQ=YEARLY;BYMONTH=3;BYDAY=-1SU
END:DAYLIGHT
BEGIN:STANDARD
TZNAME:CET
TZOFFSETFROM:+0200
TZOFFSETTO:+0100
DTSTART:19961027T030000
RRULE:FREQ=YEARLY;BYMONTH=10;BYDAY=-1SU
END:STANDARD
END:VTIMEZONE
BEGIN:VEVENT
DTSTAMP:20260424T025643Z
DTSTART;TZID=Europe/Berlin:20251030T200000
DTEND;TZID=Europe/Berlin:20251030T230000
SUMMARY:HE 4. Liga Gr. 6 Lyss III vs Port VII (5)
UID:de24b407-de0d-4703-be10-2d5d8d3d3f26
STATUS:CONFIRMED
LAST-MODIFIED:20251111T072908Z
DESCRIPTION:4. Liga Herren Gruppe 6\nBegegnungs-Nr: 5\nHeim: Lyss III\nGast: Port VII\n\nAdresse: Stegmattweg 15-17\, 3250 Lyss\n
LOCATION:Stegmattweg 15-17\, 3250 Lyss
CATEGORIES:Saison 2025/26
END:VEVENT
BEGIN:VEVENT
DTSTAMP:20260424T025643Z
DTSTART;TZID=Europe/Berlin:20251104T200000
DTEND;TZID=Europe/Berlin:20251104T230000
SUMMARY:HE 4. Liga Gr. 6 Lyss III vs Aarberg V (15)
UID:14ddd7dc-7607-4a21-b018-9d5fd62eb948
STATUS:CONFIRMED
LAST-MODIFIED:20251115T173833Z
DESCRIPTION:4. Liga Herren Gruppe 6\nBegegnungs-Nr: 15\nHeim: Lyss III\nGast: Aarberg V\n\nAdresse: Stegmattweg 15-17\, 3250 Lyss\n
LOCATION:Stegmattweg 15-17\, 3250 Lyss
CATEGORIES:Saison 2025/26
END:VEVENT
BEGIN:VEVENT
DTSTAMP:20260424T025643Z
DTSTART;TZID=Europe/Berlin:20251212T200000
DTEND;TZID=Europe/Berlin:20251212T230000
SUMMARY:HE 4. Liga Gr. 6 Lyss III vs Erlach II (28)
UID:14b87ed2-35d5-4805-b345-4b9af0a665bb
STATUS:CONFIRMED
LAST-MODIFIED:20251216T120735Z
DESCRIPTION:4. Liga Herren Gruppe 6\nBegegnungs-Nr: 28\nHeim: Lyss III\nGast: Erlach II\n\nAdresse: Stegmattweg 15-17\, 3250 Lyss\n
LOCATION:Stegmattweg 15-17\, 3250 Lyss
CATEGORIES:Saison 2025/26
END:VEVENT
BEGIN:VEVENT
DTSTAMP:20260424T025643Z
DTSTART;TZID=Europe/Berlin:20251202T200000
DTEND;TZID=Europe/Berlin:20251202T230000
SUMMARY:HE 4. Liga Gr. 6 Lyss III vs Pieterlen II (24)
UID:a06848f1-dfc3-4e66-8abb-d9c9347bd78a
STATUS:CONFIRMED
LAST-MODIFIED:20251207T173413Z
DESCRIPTION:4. Liga Herren Gruppe 6\nBegegnungs-Nr: 24\nHeim: Lyss III\nGast: Pieterlen II\n\nAdresse: Stegmattweg 15-17\, 3250 Lyss\n
LOCATION:Stegmattweg 15-17\, 3250 Lyss
CATEGORIES:Saison 2025/26
END:VEVENT
BEGIN:VEVENT
DTSTAMP:20260424T025643Z
DTSTART;TZID=Europe/Berlin:20260303T200000
DTEND;TZID=Europe/Berlin:20260303T230000
SUMMARY:HE 4. Liga Gr. 6 Lyss III vs Brügg II (19)
UID:5b47a332-cd59-42e0-8ce8-1d535fc1eccd
STATUS:CONFIRMED
LAST-MODIFIED:20260308T175009Z
DESCRIPTION:4. Liga Herren Gruppe 6\nBegegnungs-Nr: 19\nHeim: Lyss III\nGast: Brügg II\n\nAdresse: Stegmattweg 15-17\, 3250 Lyss\n
LOCATION:Stegmattweg 15-17\, 3250 Lyss
CATEGORIES:Saison 2025/26
END:VEVENT
BEGIN:VEVENT
DTSTAMP:20260424T025643Z
DTSTART;TZID=Europe/Berlin:20260217T200000
DTEND;TZID=Europe/Berlin:20260217T230000
SUMMARY:HE 4. Liga Gr. 6 Lyss III vs Studen (10)
UID:b7d9f419-14ca-48f4-9882-c7d93480a0e0
STATUS:CONFIRMED
LAST-MODIFIED:20260220T123414Z
DESCRIPTION:4. Liga Herren Gruppe 6\nBegegnungs-Nr: 10\nHeim: Lyss III\nGast: Studen\n\nAdresse: Stegmattweg 15-17\, 3250 Lyss\n
LOCATION:Stegmattweg 15-17\, 3250 Lyss
CATEGORIES:Saison 2025/26
END:VEVENT
BEGIN:VEVENT
DTSTAMP:20260424T025643Z
DTSTART;TZID=Europe/Berlin:20260106T200000
DTEND;TZID=Europe/Berlin:20260106T230000
SUMMARY:HE 4. Liga Gr. 6 Lyss III vs Solothurn V (4)
UID:d4a23f2d-3a84-4b46-b588-c26cf9af8648
STATUS:CONFIRMED
LAST-MODIFIED:20260125T002055Z
DESCRIPTION:4. Liga Herren Gruppe 6\nBegegnungs-Nr: 4\nHeim: Lyss III\nGast: Solothurn V\n\nAdresse: Stegmattweg 15-17\, 3250 Lyss\n
LOCATION:Stegmattweg 15-17\, 3250 Lyss
CATEGORIES:Saison 2025/26
END:VEVENT
BEGIN:VEVENT
DTSTAMP:20260424T025643Z
DTSTART;TZID=Europe/Berlin:20251014T200000
DTEND;TZID=Europe/Berlin:20251014T230000
SUMMARY:HE 4. Liga Gr. 6 Studen vs Lyss III (10)
UID:e0547f90-a6e5-4535-87a8-5572771064e6
STATUS:CONFIRMED
LAST-MODIFIED:20251016T191240Z
DESCRIPTION:4. Liga Herren Gruppe 6\nBegegnungs-Nr: 10\nHeim: Studen\nGast: Lyss III\n\nAdresse: -\, 2557 Studen\n
LOCATION:-\, 2557 Studen
CATEGORIES:Saison 2025/26
END:VEVENT
BEGIN:VEVENT
DTSTAMP:20260424T025643Z
DTSTART;TZID=Europe/Berlin:20250905T200000
DTEND;TZID=Europe/Berlin:20250905T230000
SUMMARY:HE 4. Liga Gr. 6 Solothurn V vs Lyss III (4)
UID:f232c72e-858d-471a-9f67-fd238b610b0d
STATUS:CONFIRMED
LAST-MODIFIED:20250907T195611Z
DESCRIPTION:4. Liga Herren Gruppe 6\nBegegnungs-Nr: 4\nHeim: Solothurn V\nGast: Lyss III\n\nAdresse: Untere Sternengasse 24\, 4500 Solothurn\n
LOCATION:Untere Sternengasse 24\, 4500 Solothurn
CATEGORIES:Saison 2025/26
END:VEVENT
BEGIN:VEVENT
DTSTAMP:20260424T025643Z
DTSTART;TZID=Europe/Berlin:20251112T200000
DTEND;TZID=Europe/Berlin:20251112T230000
SUMMARY:HE 4. Liga Gr. 6 Brügg II vs Lyss III (19)
UID:62ddfb9f-2d28-41d9-a26d-19f68491a4df
STATUS:CONFIRMED
LAST-MODIFIED:20251115T173935Z
DESCRIPTION:4. Liga Herren Gruppe 6\nBegegnungs-Nr: 19\nHeim: Brügg II\nGast: Lyss III\n\nAdresse: Bärletweg 7\, 2555 Brügg\n
LOCATION:Bärletweg 7\, 2555 Brügg
CATEGORIES:Saison 2025/26
END:VEVENT
BEGIN:VEVENT
DTSTAMP:20260424T025643Z
DTSTART;TZID=Europe/Berlin:20260323T200000
DTEND;TZID=Europe/Berlin:20260323T230000
SUMMARY:HE 4. Liga Gr. 6 Erlach II vs Lyss III (28)
UID:b07a93d4-7977-4e01-bd24-9063329a953b
STATUS:CONFIRMED
LAST-MODIFIED:20260409T122553Z
DESCRIPTION:4. Liga Herren Gruppe 6\nBegegnungs-Nr: 28\nHeim: Erlach II\nGast: Lyss III\n\nAdresse: Vinelzstrasse 54 (24)\, 3235 Erlach\n
LOCATION:Vinelzstrasse 54 (24)\, 3235 Erlach
CATEGORIES:Saison 2025/26
END:VEVENT
BEGIN:VEVENT
DTSTAMP:20260424T025643Z
DTSTART;TZID=Europe/Berlin:20260319T200000
DTEND;TZID=Europe/Berlin:20260319T230000
SUMMARY:HE 4. Liga Gr. 6 Pieterlen II vs Lyss III (24)
UID:6997c77a-dc93-47bb-ab7f-184807775378
STATUS:CONFIRMED
LAST-MODIFIED:20260327T143756Z
DESCRIPTION:4. Liga Herren Gruppe 6\nBegegnungs-Nr: 24\nHeim: Pieterlen II\nGast: Lyss III\n\nAdresse: Bielstrasse 9\, 2542 Pieterlen\n
LOCATION:Bielstrasse 9\, 2542 Pieterlen
CATEGORIES:Saison 2025/26
END:VEVENT
BEGIN:VEVENT
DTSTAMP:20260424T025643Z
DTSTART;TZID=Europe/Berlin:20260220T194500
DTEND;TZID=Europe/Berlin:20260220T224500
SUMMARY:HE 4. Liga Gr. 6 Aarberg V vs Lyss III (15)
UID:8a0efe1d-f702-426f-aa2e-16e7dfc89bab
STATUS:CONFIRMED
LAST-MODIFIED:20260224T074953Z
DESCRIPTION:4. Liga Herren Gruppe 6\nBegegnungs-Nr: 15\nHeim: Aarberg V\nGast: Lyss III\n\nAdresse: Nidaustrasse 7\, 3270 Aarberg\n
LOCATION:Nidaustrasse 7\, 3270 Aarberg
CATEGORIES:Saison 2025/26
END:VEVENT
BEGIN:VEVENT
DTSTAMP:20260424T025643Z
DTSTART;TZID=Europe/Berlin:20260206T194500
DTEND;TZID=Europe/Berlin:20260206T224500
SUMMARY:HE 4. Liga Gr. 6 Port VII vs Lyss III (5)
UID:7d3c59aa-4d07-48dd-821f-38e40a1d2dd9
STATUS:CONFIRMED
LAST-MODIFIED:20260217T213922Z
DESCRIPTION:4. Liga Herren Gruppe 6\nBegegnungs-Nr: 5\nHeim: Port VII\nGast: Lyss III\n\nAdresse: Allmendstrasse 23\, 2562 Port\n
LOCATION:Allmendstrasse 23\, 2562 Port
CATEGORIES:Saison 2025/26
END:VEVENT
END:VCALENDAR
