BEGIN:VCALENDAR
PRODID:-//nuDatenautomaten//framework iCal4j //DE
VERSION:2.0
CALSCALE:GREGORIAN
BEGIN:VTIMEZONE
TZID:Europe/Berlin
LAST-MODIFIED:20260306T231828Z
TZURL:https://www.tzurl.org/zoneinfo/Europe/Berlin
X-LIC-LOCATION:Europe/Berlin
X-PROLEPTIC-TZNAME:LMT
BEGIN:STANDARD
TZNAME:CET
TZOFFSETFROM:+005328
TZOFFSETTO:+0100
DTSTART:18930401T000000
END:STANDARD
BEGIN:DAYLIGHT
TZNAME:CEST
TZOFFSETFROM:+0100
TZOFFSETTO:+0200
DTSTART:19160430T230000
RDATE:19400401T020000
RDATE:19430329T020000
RDATE:19460414T020000
RDATE:19470406T030000
RDATE:19480418T020000
RDATE:19490410T020000
RDATE:19800406T020000
END:DAYLIGHT
BEGIN:STANDARD
TZNAME:CET
TZOFFSETFROM:+0200
TZOFFSETTO:+0100
DTSTART:19161001T010000
RDATE:19421102T030000
RDATE:19431004T030000
RDATE:19441002T030000
RDATE:19451118T030000
RDATE:19461007T030000
END:STANDARD
BEGIN:DAYLIGHT
TZNAME:CEST
TZOFFSETFROM:+0100
TZOFFSETTO:+0200
DTSTART:19170416T020000
RRULE:FREQ=YEARLY;UNTIL=19180415T010000Z;BYMONTH=4;BYDAY=3MO
END:DAYLIGHT
BEGIN:STANDARD
TZNAME:CET
TZOFFSETFROM:+0200
TZOFFSETTO:+0100
DTSTART:19170917T030000
RRULE:FREQ=YEARLY;UNTIL=19180916T010000Z;BYMONTH=9;BYDAY=3MO
END:STANDARD
BEGIN:DAYLIGHT
TZNAME:CEST
TZOFFSETFROM:+0100
TZOFFSETTO:+0200
DTSTART:19440403T020000
RRULE:FREQ=YEARLY;UNTIL=19450402T010000Z;BYMONTH=4;BYDAY=1MO
END:DAYLIGHT
BEGIN:DAYLIGHT
TZNAME:CEMT
TZOFFSETFROM:+0200
TZOFFSETTO:+0300
DTSTART:19450524T020000
RDATE:19470511T030000
END:DAYLIGHT
BEGIN:DAYLIGHT
TZNAME:CEST
TZOFFSETFROM:+0300
TZOFFSETTO:+0200
DTSTART:19450924T030000
RDATE:19470629T030000
END:DAYLIGHT
BEGIN:STANDARD
TZNAME:CET
TZOFFSETFROM:+0100
TZOFFSETTO:+0100
DTSTART:19460101T000000
RDATE:19800101T000000
END:STANDARD
BEGIN:STANDARD
TZNAME:CET
TZOFFSETFROM:+0200
TZOFFSETTO:+0100
DTSTART:19471005T030000
RRULE:FREQ=YEARLY;UNTIL=19491002T010000Z;BYMONTH=10;BYDAY=1SU
END:STANDARD
BEGIN:STANDARD
TZNAME:CET
TZOFFSETFROM:+0200
TZOFFSETTO:+0100
DTSTART:19800928T030000
RRULE:FREQ=YEARLY;UNTIL=19950924T010000Z;BYMONTH=9;BYDAY=-1SU
END:STANDARD
BEGIN:DAYLIGHT
TZNAME:CEST
TZOFFSETFROM:+0100
TZOFFSETTO:+0200
DTSTART:19810329T020000
RRULE:FREQ=YEARLY;BYMONTH=3;BYDAY=-1SU
END:DAYLIGHT
BEGIN:STANDARD
TZNAME:CET
TZOFFSETFROM:+0200
TZOFFSETTO:+0100
DTSTART:19961027T030000
RRULE:FREQ=YEARLY;BYMONTH=10;BYDAY=-1SU
END:STANDARD
END:VTIMEZONE
BEGIN:VEVENT
DTSTAMP:20260424T084016Z
DTSTART;TZID=Europe/Berlin:20250903T193000
DTEND;TZID=Europe/Berlin:20250903T223000
SUMMARY:HE 3. Liga Gr. 1 Belp II vs bls Spiez (3)
UID:c3f72879-ff80-481d-b684-7cf1d29d0922
STATUS:CONFIRMED
LAST-MODIFIED:20250907T200158Z
DESCRIPTION:3. Liga Herren Gruppe 1\nBegegnungs-Nr: 3\nHeim: Belp II\nGast: bls Spiez\n\nAdresse: Neumattstrasse 39\, 3123 Belp\n
LOCATION:Neumattstrasse 39\, 3123 Belp
CATEGORIES:Saison 2025/26
END:VEVENT
BEGIN:VEVENT
DTSTAMP:20260424T084016Z
DTSTART;TZID=Europe/Berlin:20251210T193000
DTEND;TZID=Europe/Berlin:20251210T223000
SUMMARY:HE 3. Liga Gr. 1 Belp II vs Heimberg IV (26)
UID:8fa1b6d4-f1af-4012-b20f-e8b4afbfadc2
STATUS:CONFIRMED
LAST-MODIFIED:20251216T120310Z
DESCRIPTION:3. Liga Herren Gruppe 1\nBegegnungs-Nr: 26\nHeim: Belp II\nGast: Heimberg IV\n\nAdresse: Neumattstrasse 39\, 3123 Belp\n
LOCATION:Neumattstrasse 39\, 3123 Belp
CATEGORIES:Saison 2025/26
END:VEVENT
BEGIN:VEVENT
DTSTAMP:20260424T084016Z
DTSTART;TZID=Europe/Berlin:20251205T193000
DTEND;TZID=Europe/Berlin:20251205T223000
SUMMARY:HE 3. Liga Gr. 1 Belp II vs Ostermundigen V (21)
UID:e433a1eb-078a-4c34-8a0c-5f65f4fdc7d3
STATUS:CONFIRMED
LAST-MODIFIED:20251206T233451Z
DESCRIPTION:3. Liga Herren Gruppe 1\nBegegnungs-Nr: 21\nHeim: Belp II\nGast: Ostermundigen V\n\nAdresse: Neumattstrasse 39\, 3123 Belp\n
LOCATION:Neumattstrasse 39\, 3123 Belp
CATEGORIES:Saison 2025/26
END:VEVENT
BEGIN:VEVENT
DTSTAMP:20260424T084016Z
DTSTART;TZID=Europe/Berlin:20251015T193000
DTEND;TZID=Europe/Berlin:20251015T223000
SUMMARY:HE 3. Liga Gr. 1 Belp II vs Royal Bern II (11)
UID:fd533963-67ad-4ea7-aebf-1b42099e019b
STATUS:CONFIRMED
LAST-MODIFIED:20251016T191525Z
DESCRIPTION:3. Liga Herren Gruppe 1\nBegegnungs-Nr: 11\nHeim: Belp II\nGast: Royal Bern II\n\nAdresse: Neumattstrasse 39\, 3123 Belp\n
LOCATION:Neumattstrasse 39\, 3123 Belp
CATEGORIES:Saison 2025/26
END:VEVENT
BEGIN:VEVENT
DTSTAMP:20260424T084016Z
DTSTART;TZID=Europe/Berlin:20260304T193000
DTEND;TZID=Europe/Berlin:20260304T223000
SUMMARY:HE 3. Liga Gr. 1 Belp II vs Bern V (18)
UID:3cbb24b1-c3e9-4457-a4dd-986f852a44c8
STATUS:CONFIRMED
LAST-MODIFIED:20260308T173623Z
DESCRIPTION:3. Liga Herren Gruppe 1\nBegegnungs-Nr: 18\nHeim: Belp II\nGast: Bern V\n\nAdresse: Neumattstrasse 39\, 3123 Belp\n
LOCATION:Neumattstrasse 39\, 3123 Belp
CATEGORIES:Saison 2025/26
END:VEVENT
BEGIN:VEVENT
DTSTAMP:20260424T084016Z
DTSTART;TZID=Europe/Berlin:20260218T193000
DTEND;TZID=Europe/Berlin:20260218T223000
SUMMARY:HE 3. Liga Gr. 1 Belp II vs Interlaken (15)
UID:2dd7280e-2946-4581-af71-dcb12f6775d1
STATUS:CONFIRMED
LAST-MODIFIED:20260220T123223Z
DESCRIPTION:3. Liga Herren Gruppe 1\nBegegnungs-Nr: 15\nHeim: Belp II\nGast: Interlaken\n\nAdresse: Neumattstrasse 39\, 3123 Belp\n
LOCATION:Neumattstrasse 39\, 3123 Belp
CATEGORIES:Saison 2025/26
END:VEVENT
BEGIN:VEVENT
DTSTAMP:20260424T084016Z
DTSTART;TZID=Europe/Berlin:20260121T193000
DTEND;TZID=Europe/Berlin:20260121T223000
SUMMARY:HE 3. Liga Gr. 1 Belp II vs Münsingen (7)
UID:49273700-bebb-4184-b963-e3c0dfb8e959
STATUS:CONFIRMED
LAST-MODIFIED:20260125T000437Z
DESCRIPTION:3. Liga Herren Gruppe 1\nBegegnungs-Nr: 7\nHeim: Belp II\nGast: Münsingen\n\nAdresse: Neumattstrasse 39\, 3123 Belp\n
LOCATION:Neumattstrasse 39\, 3123 Belp
CATEGORIES:Saison 2025/26
END:VEVENT
BEGIN:VEVENT
DTSTAMP:20260424T084016Z
DTSTART;TZID=Europe/Berlin:20250910T200000
DTEND;TZID=Europe/Berlin:20250910T230000
SUMMARY:HE 3. Liga Gr. 1 Münsingen vs Belp II (7)
UID:8a83c7ca-b1d8-4de8-9254-716776e27297
STATUS:CONFIRMED
LAST-MODIFIED:20250918T141157Z
DESCRIPTION:3. Liga Herren Gruppe 1\nBegegnungs-Nr: 7\nHeim: Münsingen\nGast: Belp II\n\nAdresse: Turnhallenweg 8\, 3110 Münsingen\n
LOCATION:Turnhallenweg 8\, 3110 Münsingen
CATEGORIES:Saison 2025/26
END:VEVENT
BEGIN:VEVENT
DTSTAMP:20260424T084016Z
DTSTART;TZID=Europe/Berlin:20251120T200000
DTEND;TZID=Europe/Berlin:20251120T230000
SUMMARY:HE 3. Liga Gr. 1 Bern V vs Belp II (18)
UID:a67f6059-3de2-403a-b627-91d6777e9305
STATUS:CONFIRMED
LAST-MODIFIED:20251122T090748Z
DESCRIPTION:3. Liga Herren Gruppe 1\nBegegnungs-Nr: 18\nHeim: Bern V\nGast: Belp II\n\nAdresse: Mädergutstrasse 58\, 3018 Bern\n
LOCATION:Mädergutstrasse 58\, 3018 Bern
CATEGORIES:Saison 2025/26
END:VEVENT
BEGIN:VEVENT
DTSTAMP:20260424T084016Z
DTSTART;TZID=Europe/Berlin:20251031T200000
DTEND;TZID=Europe/Berlin:20251031T230000
SUMMARY:HE 3. Liga Gr. 1 Interlaken vs Belp II (15)
UID:db5f36a7-3425-4f0b-9861-38cb0741e9f1
STATUS:CONFIRMED
LAST-MODIFIED:20251111T072010Z
DESCRIPTION:3. Liga Herren Gruppe 1\nBegegnungs-Nr: 15\nHeim: Interlaken\nGast: Belp II\n\nAdresse: Burgweg 239R\, 3852 Ringgenberg\n
LOCATION:Burgweg 239R\, 3852 Ringgenberg
CATEGORIES:Saison 2025/26
END:VEVENT
BEGIN:VEVENT
DTSTAMP:20260424T084016Z
DTSTART;TZID=Europe/Berlin:20260330T193000
DTEND;TZID=Europe/Berlin:20260330T223000
SUMMARY:HE 3. Liga Gr. 1 Heimberg IV vs Belp II (26)
UID:2c910544-504b-432c-8b4c-babcc674e2ed
STATUS:CONFIRMED
LAST-MODIFIED:20260409T123615Z
DESCRIPTION:3. Liga Herren Gruppe 1\nBegegnungs-Nr: 26\nHeim: Heimberg IV\nGast: Belp II\n\nAdresse: Schulhausstrasse 20\, 3672 Oberdiessbach\n
LOCATION:Schulhausstrasse 20\, 3672 Oberdiessbach
CATEGORIES:Saison 2025/26
END:VEVENT
BEGIN:VEVENT
DTSTAMP:20260424T084016Z
DTSTART;TZID=Europe/Berlin:20260313T194500
DTEND;TZID=Europe/Berlin:20260313T224500
SUMMARY:HE 3. Liga Gr. 1 Ostermundigen V vs Belp II (21)
UID:8a3e9c91-94cd-4b8a-9e4f-bbee78b32ba4
STATUS:CONFIRMED
LAST-MODIFIED:20260315T225856Z
DESCRIPTION:3. Liga Herren Gruppe 1\nBegegnungs-Nr: 21\nHeim: Ostermundigen V\nGast: Belp II\n\nAdresse: Dennigkofenweg 169\, 3072 Ostermundigen\n
LOCATION:Dennigkofenweg 169\, 3072 Ostermundigen
CATEGORIES:Saison 2025/26
END:VEVENT
BEGIN:VEVENT
DTSTAMP:20260424T084016Z
DTSTART;TZID=Europe/Berlin:20260202T194500
DTEND;TZID=Europe/Berlin:20260202T224500
SUMMARY:HE 3. Liga Gr. 1 Royal Bern II vs Belp II (11)
UID:0b87c4c5-e68e-4136-bf9e-bf106d31ab37
STATUS:CONFIRMED
LAST-MODIFIED:20260217T212738Z
DESCRIPTION:3. Liga Herren Gruppe 1\nBegegnungs-Nr: 11\nHeim: Royal Bern II\nGast: Belp II\n\nAdresse: Dändlikerweg 60\, 3014 Bern\n
LOCATION:Dändlikerweg 60\, 3014 Bern
CATEGORIES:Saison 2025/26
END:VEVENT
BEGIN:VEVENT
DTSTAMP:20260424T084016Z
DTSTART;TZID=Europe/Berlin:20260106T194500
DTEND;TZID=Europe/Berlin:20260106T224500
SUMMARY:HE 3. Liga Gr. 1 bls Spiez vs Belp II (3)
UID:114a5262-4f29-47c6-9383-2cb2c44dc3f9
STATUS:CONFIRMED
LAST-MODIFIED:20260125T000344Z
DESCRIPTION:3. Liga Herren Gruppe 1\nBegegnungs-Nr: 3\nHeim: bls Spiez\nGast: Belp II\n\nAdresse: Hofachernweg 19 / Oberlandstr. 89\, 3700 Spiez\n
LOCATION:Hofachernweg 19 / Oberlandstr. 89\, 3700 Spiez
CATEGORIES:Saison 2025/26
END:VEVENT
END:VCALENDAR
