BEGIN:VCALENDAR
PRODID:-//nuDatenautomaten//framework iCal4j //DE
VERSION:2.0
CALSCALE:GREGORIAN
BEGIN:VTIMEZONE
TZID:Europe/Berlin
LAST-MODIFIED:20260306T231828Z
TZURL:https://www.tzurl.org/zoneinfo/Europe/Berlin
X-LIC-LOCATION:Europe/Berlin
X-PROLEPTIC-TZNAME:LMT
BEGIN:STANDARD
TZNAME:CET
TZOFFSETFROM:+005328
TZOFFSETTO:+0100
DTSTART:18930401T000000
END:STANDARD
BEGIN:DAYLIGHT
TZNAME:CEST
TZOFFSETFROM:+0100
TZOFFSETTO:+0200
DTSTART:19160430T230000
RDATE:19400401T020000
RDATE:19430329T020000
RDATE:19460414T020000
RDATE:19470406T030000
RDATE:19480418T020000
RDATE:19490410T020000
RDATE:19800406T020000
END:DAYLIGHT
BEGIN:STANDARD
TZNAME:CET
TZOFFSETFROM:+0200
TZOFFSETTO:+0100
DTSTART:19161001T010000
RDATE:19421102T030000
RDATE:19431004T030000
RDATE:19441002T030000
RDATE:19451118T030000
RDATE:19461007T030000
END:STANDARD
BEGIN:DAYLIGHT
TZNAME:CEST
TZOFFSETFROM:+0100
TZOFFSETTO:+0200
DTSTART:19170416T020000
RRULE:FREQ=YEARLY;UNTIL=19180415T010000Z;BYMONTH=4;BYDAY=3MO
END:DAYLIGHT
BEGIN:STANDARD
TZNAME:CET
TZOFFSETFROM:+0200
TZOFFSETTO:+0100
DTSTART:19170917T030000
RRULE:FREQ=YEARLY;UNTIL=19180916T010000Z;BYMONTH=9;BYDAY=3MO
END:STANDARD
BEGIN:DAYLIGHT
TZNAME:CEST
TZOFFSETFROM:+0100
TZOFFSETTO:+0200
DTSTART:19440403T020000
RRULE:FREQ=YEARLY;UNTIL=19450402T010000Z;BYMONTH=4;BYDAY=1MO
END:DAYLIGHT
BEGIN:DAYLIGHT
TZNAME:CEMT
TZOFFSETFROM:+0200
TZOFFSETTO:+0300
DTSTART:19450524T020000
RDATE:19470511T030000
END:DAYLIGHT
BEGIN:DAYLIGHT
TZNAME:CEST
TZOFFSETFROM:+0300
TZOFFSETTO:+0200
DTSTART:19450924T030000
RDATE:19470629T030000
END:DAYLIGHT
BEGIN:STANDARD
TZNAME:CET
TZOFFSETFROM:+0100
TZOFFSETTO:+0100
DTSTART:19460101T000000
RDATE:19800101T000000
END:STANDARD
BEGIN:STANDARD
TZNAME:CET
TZOFFSETFROM:+0200
TZOFFSETTO:+0100
DTSTART:19471005T030000
RRULE:FREQ=YEARLY;UNTIL=19491002T010000Z;BYMONTH=10;BYDAY=1SU
END:STANDARD
BEGIN:STANDARD
TZNAME:CET
TZOFFSETFROM:+0200
TZOFFSETTO:+0100
DTSTART:19800928T030000
RRULE:FREQ=YEARLY;UNTIL=19950924T010000Z;BYMONTH=9;BYDAY=-1SU
END:STANDARD
BEGIN:DAYLIGHT
TZNAME:CEST
TZOFFSETFROM:+0100
TZOFFSETTO:+0200
DTSTART:19810329T020000
RRULE:FREQ=YEARLY;BYMONTH=3;BYDAY=-1SU
END:DAYLIGHT
BEGIN:STANDARD
TZNAME:CET
TZOFFSETFROM:+0200
TZOFFSETTO:+0100
DTSTART:19961027T030000
RRULE:FREQ=YEARLY;BYMONTH=10;BYDAY=-1SU
END:STANDARD
END:VTIMEZONE
BEGIN:VEVENT
DTSTAMP:20260424T114910Z
DTSTART;TZID=Europe/Berlin:20260302T194500
DTEND;TZID=Europe/Berlin:20260302T224500
SUMMARY:Ligue 1 Versoix vs UGS-Chênois (23)
UID:e3377c90-cc9c-48cf-860a-cd646a4f896c
STATUS:CONFIRMED
LAST-MODIFIED:20260303T074419Z
DESCRIPTION:1ère ligue O40\nBegegnungs-Nr: 23\nHeim: Versoix\nGast: UGS-Chênois\n
LOCATION:
CATEGORIES:Saison 2025/26
END:VEVENT
BEGIN:VEVENT
DTSTAMP:20260424T114910Z
DTSTART;TZID=Europe/Berlin:20260202T194500
DTEND;TZID=Europe/Berlin:20260202T224500
SUMMARY:Ligue 1 Versoix vs Mandement (19)
UID:63efe0bf-d23f-42a3-9df8-097fd26c83a2
STATUS:CONFIRMED
LAST-MODIFIED:20260203T191034Z
DESCRIPTION:1ère ligue O40\nBegegnungs-Nr: 19\nHeim: Versoix\nGast: Mandement\n
LOCATION:
CATEGORIES:Saison 2025/26
END:VEVENT
BEGIN:VEVENT
DTSTAMP:20260424T114910Z
DTSTART;TZID=Europe/Berlin:20251215T194500
DTEND;TZID=Europe/Berlin:20251215T224500
SUMMARY:Ligue 1 Versoix vs Châtelaine (14)
UID:09dcb885-7dfb-4508-974e-2882c7165235
STATUS:CONFIRMED
LAST-MODIFIED:20251217T204651Z
DESCRIPTION:1ère ligue O40\nBegegnungs-Nr: 14\nHeim: Versoix\nGast: Châtelaine\n
LOCATION:
CATEGORIES:Saison 2025/26
END:VEVENT
BEGIN:VEVENT
DTSTAMP:20260424T114910Z
DTSTART;TZID=Europe/Berlin:20251208T194500
DTEND;TZID=Europe/Berlin:20251208T224500
SUMMARY:Ligue 1 Versoix vs ZZ-Lancy (10)
UID:d8ec726f-9e6f-4be5-91a9-7b1c60c1bdc4
STATUS:CONFIRMED
LAST-MODIFIED:20251209T183029Z
DESCRIPTION:1ère ligue O40\nBegegnungs-Nr: 10\nHeim: Versoix\nGast: ZZ-Lancy\n
LOCATION:
CATEGORIES:Saison 2025/26
END:VEVENT
BEGIN:VEVENT
DTSTAMP:20260424T114910Z
DTSTART;TZID=Europe/Berlin:20250908T194500
DTEND;TZID=Europe/Berlin:20250908T224500
SUMMARY:Ligue 1 Versoix vs Silver Star (3)
UID:4cc3bc79-e328-4fab-969d-27982f2a5cc0
STATUS:CONFIRMED
LAST-MODIFIED:20250909T155749Z
DESCRIPTION:1ère ligue O40\nBegegnungs-Nr: 3\nHeim: Versoix\nGast: Silver Star\n
LOCATION:
CATEGORIES:Saison 2025/26
END:VEVENT
BEGIN:VEVENT
DTSTAMP:20260424T114910Z
DTSTART;TZID=Europe/Berlin:20251103T194500
DTEND;TZID=Europe/Berlin:20251103T224500
SUMMARY:Ligue 1 UGS-Chênois vs Versoix (8)
UID:e6203842-ee34-4d19-a96c-b4e67db1038d
STATUS:CONFIRMED
LAST-MODIFIED:20251105T080126Z
DESCRIPTION:1ère ligue O40\nBegegnungs-Nr: 8\nHeim: UGS-Chênois\nGast: Versoix\n
LOCATION:
CATEGORIES:Saison 2025/26
END:VEVENT
BEGIN:VEVENT
DTSTAMP:20260424T114910Z
DTSTART;TZID=Europe/Berlin:20260504T200000
DTEND;TZID=Europe/Berlin:20260504T230000
SUMMARY:Ligue 1 Châtelaine vs Versoix (29)
UID:f0b985ca-0a29-49f8-aebd-d0813f2c8e94
STATUS:CONFIRMED
LAST-MODIFIED:20260303T170427Z
DESCRIPTION:1ère ligue O40\nBegegnungs-Nr: 29\nHeim: Châtelaine\nGast: Versoix\n
LOCATION:
CATEGORIES:Saison 2025/26
END:VEVENT
BEGIN:VEVENT
DTSTAMP:20260424T114910Z
DTSTART;TZID=Europe/Berlin:20260420T200000
DTEND;TZID=Europe/Berlin:20260420T230000
SUMMARY:Ligue 1 ZZ-Lancy vs Versoix (25)
UID:bdfb2d9a-0435-4ab1-bb28-daf66823b97d
STATUS:CONFIRMED
LAST-MODIFIED:20260421T072404Z
DESCRIPTION:1ère ligue O40\nBegegnungs-Nr: 25\nHeim: ZZ-Lancy\nGast: Versoix\n
LOCATION:
CATEGORIES:Saison 2025/26
END:VEVENT
BEGIN:VEVENT
DTSTAMP:20260424T114910Z
DTSTART;TZID=Europe/Berlin:20260105T194500
DTEND;TZID=Europe/Berlin:20260105T224500
SUMMARY:Ligue 1 Silver Star vs Versoix (18)
UID:bcf9294e-e4f5-421a-9b7e-4fa7e86b37d4
STATUS:CONFIRMED
LAST-MODIFIED:20260106T173921Z
DESCRIPTION:1ère ligue O40\nBegegnungs-Nr: 18\nHeim: Silver Star\nGast: Versoix\n
LOCATION:
CATEGORIES:Saison 2025/26
END:VEVENT
BEGIN:VEVENT
DTSTAMP:20260424T114910Z
DTSTART;TZID=Europe/Berlin:20250929T194500
DTEND;TZID=Europe/Berlin:20250929T224500
SUMMARY:Ligue 1 Mandement vs Versoix (4)
UID:6efb6251-b421-49a7-bed8-33a26d842838
STATUS:CONFIRMED
LAST-MODIFIED:20250930T185457Z
DESCRIPTION:1ère ligue O40\nBegegnungs-Nr: 4\nHeim: Mandement\nGast: Versoix\n
LOCATION:
CATEGORIES:Saison 2025/26
END:VEVENT
END:VCALENDAR
