BEGIN:VCALENDAR
PRODID:-//nuDatenautomaten//framework iCal4j //DE
VERSION:2.0
CALSCALE:GREGORIAN
BEGIN:VTIMEZONE
TZID:Europe/Berlin
LAST-MODIFIED:20260306T231828Z
TZURL:https://www.tzurl.org/zoneinfo/Europe/Berlin
X-LIC-LOCATION:Europe/Berlin
X-PROLEPTIC-TZNAME:LMT
BEGIN:STANDARD
TZNAME:CET
TZOFFSETFROM:+005328
TZOFFSETTO:+0100
DTSTART:18930401T000000
END:STANDARD
BEGIN:DAYLIGHT
TZNAME:CEST
TZOFFSETFROM:+0100
TZOFFSETTO:+0200
DTSTART:19160430T230000
RDATE:19400401T020000
RDATE:19430329T020000
RDATE:19460414T020000
RDATE:19470406T030000
RDATE:19480418T020000
RDATE:19490410T020000
RDATE:19800406T020000
END:DAYLIGHT
BEGIN:STANDARD
TZNAME:CET
TZOFFSETFROM:+0200
TZOFFSETTO:+0100
DTSTART:19161001T010000
RDATE:19421102T030000
RDATE:19431004T030000
RDATE:19441002T030000
RDATE:19451118T030000
RDATE:19461007T030000
END:STANDARD
BEGIN:DAYLIGHT
TZNAME:CEST
TZOFFSETFROM:+0100
TZOFFSETTO:+0200
DTSTART:19170416T020000
RRULE:FREQ=YEARLY;UNTIL=19180415T010000Z;BYMONTH=4;BYDAY=3MO
END:DAYLIGHT
BEGIN:STANDARD
TZNAME:CET
TZOFFSETFROM:+0200
TZOFFSETTO:+0100
DTSTART:19170917T030000
RRULE:FREQ=YEARLY;UNTIL=19180916T010000Z;BYMONTH=9;BYDAY=3MO
END:STANDARD
BEGIN:DAYLIGHT
TZNAME:CEST
TZOFFSETFROM:+0100
TZOFFSETTO:+0200
DTSTART:19440403T020000
RRULE:FREQ=YEARLY;UNTIL=19450402T010000Z;BYMONTH=4;BYDAY=1MO
END:DAYLIGHT
BEGIN:DAYLIGHT
TZNAME:CEMT
TZOFFSETFROM:+0200
TZOFFSETTO:+0300
DTSTART:19450524T020000
RDATE:19470511T030000
END:DAYLIGHT
BEGIN:DAYLIGHT
TZNAME:CEST
TZOFFSETFROM:+0300
TZOFFSETTO:+0200
DTSTART:19450924T030000
RDATE:19470629T030000
END:DAYLIGHT
BEGIN:STANDARD
TZNAME:CET
TZOFFSETFROM:+0100
TZOFFSETTO:+0100
DTSTART:19460101T000000
RDATE:19800101T000000
END:STANDARD
BEGIN:STANDARD
TZNAME:CET
TZOFFSETFROM:+0200
TZOFFSETTO:+0100
DTSTART:19471005T030000
RRULE:FREQ=YEARLY;UNTIL=19491002T010000Z;BYMONTH=10;BYDAY=1SU
END:STANDARD
BEGIN:STANDARD
TZNAME:CET
TZOFFSETFROM:+0200
TZOFFSETTO:+0100
DTSTART:19800928T030000
RRULE:FREQ=YEARLY;UNTIL=19950924T010000Z;BYMONTH=9;BYDAY=-1SU
END:STANDARD
BEGIN:DAYLIGHT
TZNAME:CEST
TZOFFSETFROM:+0100
TZOFFSETTO:+0200
DTSTART:19810329T020000
RRULE:FREQ=YEARLY;BYMONTH=3;BYDAY=-1SU
END:DAYLIGHT
BEGIN:STANDARD
TZNAME:CET
TZOFFSETFROM:+0200
TZOFFSETTO:+0100
DTSTART:19961027T030000
RRULE:FREQ=YEARLY;BYMONTH=10;BYDAY=-1SU
END:STANDARD
END:VTIMEZONE
BEGIN:VEVENT
DTSTAMP:20260424T151709Z
DTSTART;TZID=Europe/Berlin:20260320T200000
DTEND;TZID=Europe/Berlin:20260320T230000
SUMMARY:O40 4. Liga Gr. 1 St. Gallen II vs Gossau St.Gallen (0)
UID:5b1fef43-1340-46b1-934d-4df81756e58b
STATUS:CONFIRMED
LAST-MODIFIED:20260326T155344Z
DESCRIPTION:4. Liga O40 Gruppe 1\nBegegnungs-Nr: 0\nHeim: St. Gallen II\nGast: Gossau St.Gallen\n\nAdresse: Zilstrasse 61\, 9016 St.Gallen\n
LOCATION:Zilstrasse 61\, 9016 St.Gallen
CATEGORIES:Saison 2025/26
END:VEVENT
BEGIN:VEVENT
DTSTAMP:20260424T151709Z
DTSTART;TZID=Europe/Berlin:20260410T200000
DTEND;TZID=Europe/Berlin:20260410T230000
SUMMARY:O40 4. Liga Gr. 1 St. Gallen II vs Imperial Winterthur (0)
UID:55ee8cf2-ba61-4296-8ba0-f2b080538921
STATUS:CONFIRMED
LAST-MODIFIED:20260416T104444Z
DESCRIPTION:4. Liga O40 Gruppe 1\nBegegnungs-Nr: 0\nHeim: St. Gallen II\nGast: Imperial Winterthur\n\nAdresse: Zilstrasse 61\, 9016 St.Gallen\n
LOCATION:Zilstrasse 61\, 9016 St.Gallen
CATEGORIES:Saison 2025/26
END:VEVENT
BEGIN:VEVENT
DTSTAMP:20260424T151709Z
DTSTART;TZID=Europe/Berlin:20260424T200000
DTEND;TZID=Europe/Berlin:20260424T230000
SUMMARY:O40 4. Liga Gr. 1 St. Gallen II vs Wolfhalden (0)
UID:8a4fb7b7-9ca5-4e0f-8c87-f5b2d06e704d
STATUS:CONFIRMED
DESCRIPTION:4. Liga O40 Gruppe 1\nBegegnungs-Nr: 0\nHeim: St. Gallen II\nGast: Wolfhalden\n\nAdresse: Zilstrasse 61\, 9016 St.Gallen\n
LOCATION:Zilstrasse 61\, 9016 St.Gallen
CATEGORIES:Saison 2025/26
END:VEVENT
BEGIN:VEVENT
DTSTAMP:20260424T151709Z
DTSTART;TZID=Europe/Berlin:20251017T200000
DTEND;TZID=Europe/Berlin:20251017T230000
SUMMARY:O40 4. Liga Gr. 1 St. Gallen II vs Weinfelden (0)
UID:cf43d7dd-7cb8-4722-89e8-8befa1114bf6
STATUS:CONFIRMED
LAST-MODIFIED:20251022T090941Z
DESCRIPTION:4. Liga O40 Gruppe 1\nBegegnungs-Nr: 0\nHeim: St. Gallen II\nGast: Weinfelden\n\nAdresse: Zilstrasse 61\, 9016 St.Gallen\n
LOCATION:Zilstrasse 61\, 9016 St.Gallen
CATEGORIES:Saison 2025/26
END:VEVENT
BEGIN:VEVENT
DTSTAMP:20260424T151709Z
DTSTART;TZID=Europe/Berlin:20250912T200000
DTEND;TZID=Europe/Berlin:20250912T230000
SUMMARY:O40 4. Liga Gr. 1 St. Gallen II vs Oberriet (0)
UID:f4243864-d8b8-4f1b-88d0-ac26c3b46d02
STATUS:CONFIRMED
LAST-MODIFIED:20250915T084928Z
DESCRIPTION:4. Liga O40 Gruppe 1\nBegegnungs-Nr: 0\nHeim: St. Gallen II\nGast: Oberriet\n\nAdresse: Zilstrasse 61\, 9016 St.Gallen\n
LOCATION:Zilstrasse 61\, 9016 St.Gallen
CATEGORIES:Saison 2025/26
END:VEVENT
BEGIN:VEVENT
DTSTAMP:20260424T151709Z
DTSTART;TZID=Europe/Berlin:20251121T200000
DTEND;TZID=Europe/Berlin:20251121T230000
SUMMARY:O40 4. Liga Gr. 1 St. Gallen II vs Rorschach (0)
UID:31585b0e-6989-445d-9f3e-a546cdbba740
STATUS:CONFIRMED
LAST-MODIFIED:20251124T150325Z
DESCRIPTION:4. Liga O40 Gruppe 1\nBegegnungs-Nr: 0\nHeim: St. Gallen II\nGast: Rorschach\n\nAdresse: Zilstrasse 61\, 9016 St.Gallen\n
LOCATION:Zilstrasse 61\, 9016 St.Gallen
CATEGORIES:Saison 2025/26
END:VEVENT
BEGIN:VEVENT
DTSTAMP:20260424T151709Z
DTSTART;TZID=Europe/Berlin:20260115T201500
DTEND;TZID=Europe/Berlin:20260115T231500
SUMMARY:O40 4. Liga Gr. 1 Weinfelden vs St. Gallen II (0)
UID:6c1c881d-6a91-4a28-9246-e948e86b8eb6
STATUS:CONFIRMED
LAST-MODIFIED:20260116T065140Z
DESCRIPTION:4. Liga O40 Gruppe 1\nBegegnungs-Nr: 0\nHeim: Weinfelden\nGast: St. Gallen II\n\nAdresse: Bleichestrasse 3 (neben Hallenbad)\, 8570 Weinfelden\n
LOCATION:Bleichestrasse 3 (neben Hallenbad)\, 8570 Weinfelden
CATEGORIES:Saison 2025/26
END:VEVENT
BEGIN:VEVENT
DTSTAMP:20260424T151709Z
DTSTART;TZID=Europe/Berlin:20260227T201500
DTEND;TZID=Europe/Berlin:20260227T231500
SUMMARY:O40 4. Liga Gr. 1 Oberriet vs St. Gallen II (0)
UID:8125bdac-ef6a-40c3-9b6d-dd731b8a0ee1
STATUS:CONFIRMED
LAST-MODIFIED:20260303T133613Z
DESCRIPTION:4. Liga O40 Gruppe 1\nBegegnungs-Nr: 0\nHeim: Oberriet\nGast: St. Gallen II\n\nAdresse: Neugutstrasse 2\, 9463 Oberriet SG\n
LOCATION:Neugutstrasse 2\, 9463 Oberriet SG
CATEGORIES:Saison 2025/26
END:VEVENT
BEGIN:VEVENT
DTSTAMP:20260424T151709Z
DTSTART;TZID=Europe/Berlin:20260220T200000
DTEND;TZID=Europe/Berlin:20260220T230000
SUMMARY:O40 4. Liga Gr. 1 Rorschach vs St. Gallen II (0)
UID:ffaec099-1bfe-49de-9513-03836b8cd137
STATUS:CONFIRMED
LAST-MODIFIED:20260225T112418Z
DESCRIPTION:4. Liga O40 Gruppe 1\nBegegnungs-Nr: 0\nHeim: Rorschach\nGast: St. Gallen II\n\nAdresse: Mariabergstrasse 33\, 9400 Rorschach\n
LOCATION:Mariabergstrasse 33\, 9400 Rorschach
CATEGORIES:Saison 2025/26
END:VEVENT
BEGIN:VEVENT
DTSTAMP:20260424T151709Z
DTSTART;TZID=Europe/Berlin:20251021T200000
DTEND;TZID=Europe/Berlin:20251021T230000
SUMMARY:O40 4. Liga Gr. 1 Gossau St.Gallen vs St. Gallen II (0)
UID:99f7cd59-4ae6-4f02-9ab3-572f19563ed3
STATUS:CONFIRMED
LAST-MODIFIED:20251022T091139Z
DESCRIPTION:4. Liga O40 Gruppe 1\nBegegnungs-Nr: 0\nHeim: Gossau St.Gallen\nGast: St. Gallen II\n\nAdresse: Falkenstrasse 21\, 9200 Gossau\n
LOCATION:Falkenstrasse 21\, 9200 Gossau
CATEGORIES:Saison 2025/26
END:VEVENT
BEGIN:VEVENT
DTSTAMP:20260424T151709Z
DTSTART;TZID=Europe/Berlin:20251124T200000
DTEND;TZID=Europe/Berlin:20251124T230000
SUMMARY:O40 4. Liga Gr. 1 Imperial Winterthur vs St. Gallen II (0)
UID:9596020c-7f29-44b2-846c-d0922f8a10bb
STATUS:CONFIRMED
LAST-MODIFIED:20251128T134601Z
DESCRIPTION:4. Liga O40 Gruppe 1\nBegegnungs-Nr: 0\nHeim: Imperial Winterthur\nGast: St. Gallen II\n\nAdresse: Büelhofstrasse 25a\, 8405 Winterthur\n
LOCATION:Büelhofstrasse 25a\, 8405 Winterthur
CATEGORIES:Saison 2025/26
END:VEVENT
BEGIN:VEVENT
DTSTAMP:20260424T151709Z
DTSTART;TZID=Europe/Berlin:20251215T200000
DTEND;TZID=Europe/Berlin:20251215T230000
SUMMARY:O40 4. Liga Gr. 1 Wolfhalden vs St. Gallen II (0)
UID:981467d7-7b16-4a66-8d58-b8590527bac9
STATUS:CONFIRMED
LAST-MODIFIED:20251216T102724Z
DESCRIPTION:4. Liga O40 Gruppe 1\nBegegnungs-Nr: 0\nHeim: Wolfhalden\nGast: St. Gallen II\n\nAdresse: -\, 9427 Wolfhalden\n
LOCATION:-\, 9427 Wolfhalden
CATEGORIES:Saison 2025/26
END:VEVENT
END:VCALENDAR
