BEGIN:VCALENDAR
PRODID:-//nuDatenautomaten//framework iCal4j //DE
VERSION:2.0
CALSCALE:GREGORIAN
BEGIN:VTIMEZONE
TZID:Europe/Berlin
LAST-MODIFIED:20260306T231828Z
TZURL:https://www.tzurl.org/zoneinfo/Europe/Berlin
X-LIC-LOCATION:Europe/Berlin
X-PROLEPTIC-TZNAME:LMT
BEGIN:STANDARD
TZNAME:CET
TZOFFSETFROM:+005328
TZOFFSETTO:+0100
DTSTART:18930401T000000
END:STANDARD
BEGIN:DAYLIGHT
TZNAME:CEST
TZOFFSETFROM:+0100
TZOFFSETTO:+0200
DTSTART:19160430T230000
RDATE:19400401T020000
RDATE:19430329T020000
RDATE:19460414T020000
RDATE:19470406T030000
RDATE:19480418T020000
RDATE:19490410T020000
RDATE:19800406T020000
END:DAYLIGHT
BEGIN:STANDARD
TZNAME:CET
TZOFFSETFROM:+0200
TZOFFSETTO:+0100
DTSTART:19161001T010000
RDATE:19421102T030000
RDATE:19431004T030000
RDATE:19441002T030000
RDATE:19451118T030000
RDATE:19461007T030000
END:STANDARD
BEGIN:DAYLIGHT
TZNAME:CEST
TZOFFSETFROM:+0100
TZOFFSETTO:+0200
DTSTART:19170416T020000
RRULE:FREQ=YEARLY;UNTIL=19180415T010000Z;BYMONTH=4;BYDAY=3MO
END:DAYLIGHT
BEGIN:STANDARD
TZNAME:CET
TZOFFSETFROM:+0200
TZOFFSETTO:+0100
DTSTART:19170917T030000
RRULE:FREQ=YEARLY;UNTIL=19180916T010000Z;BYMONTH=9;BYDAY=3MO
END:STANDARD
BEGIN:DAYLIGHT
TZNAME:CEST
TZOFFSETFROM:+0100
TZOFFSETTO:+0200
DTSTART:19440403T020000
RRULE:FREQ=YEARLY;UNTIL=19450402T010000Z;BYMONTH=4;BYDAY=1MO
END:DAYLIGHT
BEGIN:DAYLIGHT
TZNAME:CEMT
TZOFFSETFROM:+0200
TZOFFSETTO:+0300
DTSTART:19450524T020000
RDATE:19470511T030000
END:DAYLIGHT
BEGIN:DAYLIGHT
TZNAME:CEST
TZOFFSETFROM:+0300
TZOFFSETTO:+0200
DTSTART:19450924T030000
RDATE:19470629T030000
END:DAYLIGHT
BEGIN:STANDARD
TZNAME:CET
TZOFFSETFROM:+0100
TZOFFSETTO:+0100
DTSTART:19460101T000000
RDATE:19800101T000000
END:STANDARD
BEGIN:STANDARD
TZNAME:CET
TZOFFSETFROM:+0200
TZOFFSETTO:+0100
DTSTART:19471005T030000
RRULE:FREQ=YEARLY;UNTIL=19491002T010000Z;BYMONTH=10;BYDAY=1SU
END:STANDARD
BEGIN:STANDARD
TZNAME:CET
TZOFFSETFROM:+0200
TZOFFSETTO:+0100
DTSTART:19800928T030000
RRULE:FREQ=YEARLY;UNTIL=19950924T010000Z;BYMONTH=9;BYDAY=-1SU
END:STANDARD
BEGIN:DAYLIGHT
TZNAME:CEST
TZOFFSETFROM:+0100
TZOFFSETTO:+0200
DTSTART:19810329T020000
RRULE:FREQ=YEARLY;BYMONTH=3;BYDAY=-1SU
END:DAYLIGHT
BEGIN:STANDARD
TZNAME:CET
TZOFFSETFROM:+0200
TZOFFSETTO:+0100
DTSTART:19961027T030000
RRULE:FREQ=YEARLY;BYMONTH=10;BYDAY=-1SU
END:STANDARD
END:VTIMEZONE
BEGIN:VEVENT
DTSTAMP:20260424T114940Z
DTSTART;TZID=Europe/Berlin:20250910T200000
DTEND;TZID=Europe/Berlin:20250910T230000
SUMMARY:HE 4. Liga Gr. 6 Brügg II vs Aarberg V (7)
UID:17c0e5c0-b98e-419b-bb94-22c0f17eb252
STATUS:CONFIRMED
LAST-MODIFIED:20250918T140628Z
DESCRIPTION:4. Liga Herren Gruppe 6\nBegegnungs-Nr: 7\nHeim: Brügg II\nGast: Aarberg V\n\nAdresse: Bärletweg 7\, 2555 Brügg\n
LOCATION:Bärletweg 7\, 2555 Brügg
CATEGORIES:Saison 2025/26
END:VEVENT
BEGIN:VEVENT
DTSTAMP:20260424T114940Z
DTSTART;TZID=Europe/Berlin:20251105T200000
DTEND;TZID=Europe/Berlin:20251105T230000
SUMMARY:HE 4. Liga Gr. 6 Brügg II vs Port VII (13)
UID:6a3ac917-d290-4aa9-9c4e-fde02b19c65f
STATUS:CONFIRMED
LAST-MODIFIED:20251115T173853Z
DESCRIPTION:4. Liga Herren Gruppe 6\nBegegnungs-Nr: 13\nHeim: Brügg II\nGast: Port VII\n\nAdresse: Bärletweg 7\, 2555 Brügg\n
LOCATION:Bärletweg 7\, 2555 Brügg
CATEGORIES:Saison 2025/26
END:VEVENT
BEGIN:VEVENT
DTSTAMP:20260424T114940Z
DTSTART;TZID=Europe/Berlin:20251210T200000
DTEND;TZID=Europe/Berlin:20251210T230000
SUMMARY:HE 4. Liga Gr. 6 Brügg II vs Pieterlen II (27)
UID:de350d56-478b-49ea-837f-64496b071685
STATUS:CONFIRMED
LAST-MODIFIED:20251216T120712Z
DESCRIPTION:4. Liga Herren Gruppe 6\nBegegnungs-Nr: 27\nHeim: Brügg II\nGast: Pieterlen II\n\nAdresse: Bärletweg 7\, 2555 Brügg\n
LOCATION:Bärletweg 7\, 2555 Brügg
CATEGORIES:Saison 2025/26
END:VEVENT
BEGIN:VEVENT
DTSTAMP:20260424T114940Z
DTSTART;TZID=Europe/Berlin:20251112T200000
DTEND;TZID=Europe/Berlin:20251112T230000
SUMMARY:HE 4. Liga Gr. 6 Brügg II vs Lyss III (19)
UID:62ddfb9f-2d28-41d9-a26d-19f68491a4df
STATUS:CONFIRMED
LAST-MODIFIED:20251115T173935Z
DESCRIPTION:4. Liga Herren Gruppe 6\nBegegnungs-Nr: 19\nHeim: Brügg II\nGast: Lyss III\n\nAdresse: Bärletweg 7\, 2555 Brügg\n
LOCATION:Bärletweg 7\, 2555 Brügg
CATEGORIES:Saison 2025/26
END:VEVENT
BEGIN:VEVENT
DTSTAMP:20260424T114940Z
DTSTART;TZID=Europe/Berlin:20260318T200000
DTEND;TZID=Europe/Berlin:20260318T230000
SUMMARY:HE 4. Liga Gr. 6 Brügg II vs Erlach II (23)
UID:555a1f31-8d83-4cc7-a131-0fcdf01cdec3
STATUS:CONFIRMED
LAST-MODIFIED:20260327T143747Z
DESCRIPTION:4. Liga Herren Gruppe 6\nBegegnungs-Nr: 23\nHeim: Brügg II\nGast: Erlach II\n\nAdresse: Bärletweg 7\, 2555 Brügg\n
LOCATION:Bärletweg 7\, 2555 Brügg
CATEGORIES:Saison 2025/26
END:VEVENT
BEGIN:VEVENT
DTSTAMP:20260424T114940Z
DTSTART;TZID=Europe/Berlin:20260128T200000
DTEND;TZID=Europe/Berlin:20260128T230000
SUMMARY:HE 4. Liga Gr. 6 Brügg II vs Studen (2)
UID:feb654e4-ed50-40f4-ad40-ee780ca44659
STATUS:CONFIRMED
LAST-MODIFIED:20260217T213848Z
DESCRIPTION:4. Liga Herren Gruppe 6\nBegegnungs-Nr: 2\nHeim: Brügg II\nGast: Studen\n\nAdresse: Bärletweg 7\, 2555 Brügg\n
LOCATION:Bärletweg 7\, 2555 Brügg
CATEGORIES:Saison 2025/26
END:VEVENT
BEGIN:VEVENT
DTSTAMP:20260424T114940Z
DTSTART;TZID=Europe/Berlin:20260204T200000
DTEND;TZID=Europe/Berlin:20260204T230000
SUMMARY:HE 4. Liga Gr. 6 Brügg II vs Solothurn V (12)
UID:dcd26554-25ef-4d4d-864c-e0ab21e4432e
STATUS:CONFIRMED
LAST-MODIFIED:20260217T213908Z
DESCRIPTION:4. Liga Herren Gruppe 6\nBegegnungs-Nr: 12\nHeim: Brügg II\nGast: Solothurn V\n\nAdresse: Bärletweg 7\, 2555 Brügg\n
LOCATION:Bärletweg 7\, 2555 Brügg
CATEGORIES:Saison 2025/26
END:VEVENT
BEGIN:VEVENT
DTSTAMP:20260424T114940Z
DTSTART;TZID=Europe/Berlin:20251017T200000
DTEND;TZID=Europe/Berlin:20251017T230000
SUMMARY:HE 4. Liga Gr. 6 Solothurn V vs Brügg II (12)
UID:985f3b43-5724-4ffa-8ca3-baa81f9b97b3
STATUS:CONFIRMED
LAST-MODIFIED:20251020T114337Z
DESCRIPTION:4. Liga Herren Gruppe 6\nBegegnungs-Nr: 12\nHeim: Solothurn V\nGast: Brügg II\n\nAdresse: Untere Sternengasse 24\, 4500 Solothurn\n
LOCATION:Untere Sternengasse 24\, 4500 Solothurn
CATEGORIES:Saison 2025/26
END:VEVENT
BEGIN:VEVENT
DTSTAMP:20260424T114940Z
DTSTART;TZID=Europe/Berlin:20251007T200000
DTEND;TZID=Europe/Berlin:20251007T230000
SUMMARY:HE 4. Liga Gr. 6 Studen vs Brügg II (2)
UID:88786a8e-3583-4672-8bec-719fa917b1a9
STATUS:CONFIRMED
LAST-MODIFIED:20251016T191007Z
DESCRIPTION:4. Liga Herren Gruppe 6\nBegegnungs-Nr: 2\nHeim: Studen\nGast: Brügg II\n\nAdresse: -\, 2557 Studen\n
LOCATION:-\, 2557 Studen
CATEGORIES:Saison 2025/26
END:VEVENT
BEGIN:VEVENT
DTSTAMP:20260424T114940Z
DTSTART;TZID=Europe/Berlin:20251129T131500
DTEND;TZID=Europe/Berlin:20251129T161500
SUMMARY:HE 4. Liga Gr. 6 Erlach II vs Brügg II (23)
UID:52337946-ecbb-4d81-b7c3-f97a86e9e0a8
STATUS:CONFIRMED
LAST-MODIFIED:20251207T173347Z
DESCRIPTION:4. Liga Herren Gruppe 6\nBegegnungs-Nr: 23\nHeim: Erlach II\nGast: Brügg II\n\nAdresse: Vinelzstrasse 54 (24)\, 3235 Erlach\n
LOCATION:Vinelzstrasse 54 (24)\, 3235 Erlach
CATEGORIES:Saison 2025/26
END:VEVENT
BEGIN:VEVENT
DTSTAMP:20260424T114940Z
DTSTART;TZID=Europe/Berlin:20260326T200000
DTEND;TZID=Europe/Berlin:20260326T230000
SUMMARY:HE 4. Liga Gr. 6 Pieterlen II vs Brügg II (27)
UID:4308b402-78c5-4644-b533-3220a3ed36c2
STATUS:CONFIRMED
LAST-MODIFIED:20260409T122609Z
DESCRIPTION:4. Liga Herren Gruppe 6\nBegegnungs-Nr: 27\nHeim: Pieterlen II\nGast: Brügg II\n\nAdresse: Bielstrasse 9\, 2542 Pieterlen\n
LOCATION:Bielstrasse 9\, 2542 Pieterlen
CATEGORIES:Saison 2025/26
END:VEVENT
BEGIN:VEVENT
DTSTAMP:20260424T114940Z
DTSTART;TZID=Europe/Berlin:20260303T200000
DTEND;TZID=Europe/Berlin:20260303T230000
SUMMARY:HE 4. Liga Gr. 6 Lyss III vs Brügg II (19)
UID:5b47a332-cd59-42e0-8ce8-1d535fc1eccd
STATUS:CONFIRMED
LAST-MODIFIED:20260308T175009Z
DESCRIPTION:4. Liga Herren Gruppe 6\nBegegnungs-Nr: 19\nHeim: Lyss III\nGast: Brügg II\n\nAdresse: Stegmattweg 15-17\, 3250 Lyss\n
LOCATION:Stegmattweg 15-17\, 3250 Lyss
CATEGORIES:Saison 2025/26
END:VEVENT
BEGIN:VEVENT
DTSTAMP:20260424T114940Z
DTSTART;TZID=Europe/Berlin:20260220T194500
DTEND;TZID=Europe/Berlin:20260220T224500
SUMMARY:HE 4. Liga Gr. 6 Port VII vs Brügg II (13)
UID:1f10866a-21b8-4400-9796-687d625631b5
STATUS:CONFIRMED
LAST-MODIFIED:20260224T075503Z
DESCRIPTION:4. Liga Herren Gruppe 6\nBegegnungs-Nr: 13\nHeim: Port VII\nGast: Brügg II\n\nAdresse: Allmendstrasse 23\, 2562 Port\n
LOCATION:Allmendstrasse 23\, 2562 Port
CATEGORIES:Saison 2025/26
END:VEVENT
BEGIN:VEVENT
DTSTAMP:20260424T114940Z
DTSTART;TZID=Europe/Berlin:20260123T194500
DTEND;TZID=Europe/Berlin:20260123T224500
SUMMARY:HE 4. Liga Gr. 6 Aarberg V vs Brügg II (7)
UID:cb09ac7a-bd8b-4b00-9b27-11641076809a
STATUS:CONFIRMED
LAST-MODIFIED:20260125T002119Z
DESCRIPTION:4. Liga Herren Gruppe 6\nBegegnungs-Nr: 7\nHeim: Aarberg V\nGast: Brügg II\n\nAdresse: Nidaustrasse 7\, 3270 Aarberg\n
LOCATION:Nidaustrasse 7\, 3270 Aarberg
CATEGORIES:Saison 2025/26
END:VEVENT
END:VCALENDAR
